BEGIN:VCALENDAR
VERSION:2.0
PRODID:-//Fotoclube Porto-alegrense - ECPv6.15.20//NONSGML v1.0//EN
CALSCALE:GREGORIAN
METHOD:PUBLISH
X-WR-CALNAME:Fotoclube Porto-alegrense
X-ORIGINAL-URL:https://fotoclubepoa.com.br
X-WR-CALDESC:Eventos para Fotoclube Porto-alegrense
REFRESH-INTERVAL;VALUE=DURATION:PT1H
X-Robots-Tag:noindex
X-PUBLISHED-TTL:PT1H
BEGIN:VTIMEZONE
TZID:America/Sao_Paulo
BEGIN:STANDARD
TZOFFSETFROM:-0300
TZOFFSETTO:-0300
TZNAME:-03
DTSTART:20240101T000000
END:STANDARD
END:VTIMEZONE
BEGIN:VEVENT
DTSTART;TZID=America/Sao_Paulo:20251013T190000
DTEND;TZID=America/Sao_Paulo:20251013T210000
DTSTAMP:20260424T021650
CREATED:20251004T221422Z
LAST-MODIFIED:20251004T221758Z
UID:7761-1760382000-1760389200@fotoclubepoa.com.br
SUMMARY:Segunda Cultural com Fifi Tong
DESCRIPTION:📸 Segunda Cultural com Fifi Tong: “Minha trajetória por trás das imagens”\nNo dia 13 de outubro\, às 19h\, o Fotoclube Porto-alegrense convida você para mais uma edição da Segunda Cultural\, com transmissão ao vivo pelo canal do YouTube do FCPOA. \nNesta conversa especial\, a fotógrafa Fifi Tong compartilha sua notável trajetória\, desde os primeiros cliques até os grandes projetos internacionais\, e as reflexões que moldaram a sua produção visual no encontro “Minha trajetória por trás das imagens”. \nSobre a artista\nA Fifi Tong iniciou sua jornada na fotografia aos 17 anos e logo no primeiro ano\, venceu o concurso “Criança Sem Fronteiras” em Porto Alegre. Aos 18\, ingressou no renomado Art Center College of Design\, em Pasadena\, Califórnia\, onde obteve o título de B.F.A. em fotografia. \nSua carreira internacional decolou em Los Angeles\, passando por Milão como freelancer e colaborando com grandes agências brasileiras como DPZ e W/Brasil. Desde 1992\, atua em estúdio próprio. \nSeu trabalho de maior destaque\, o livro “Origem – Retratos de Famílias no Brasil” (2009)\, foi premiado em 3º lugar no International Photography Awards (Livro do Ano) em 2010\, e foi exibido em diversas mostras individuais no Brasil (incluindo o MARGS) e no exterior (Buenos Aires\, Salta). Fifi também é conhecida pela série “O Tempo Está Passando”\, que documenta pessoas com mais de cem anos. Recentemente\, foi selecionada pelo Rumos Itaú Cultural 2023-2024 com um projeto sobre a Imigração Chinesa no Brasil\, solidificando sua posição como uma das fotógrafas documentais mais importantes de sua geração. \n🎯 Anote na agenda:\n\n📅 13 de outubro de 2025 (segunda-feira)\n🕖 19h\n📍 Canal do YouTube do Fotoclube Porto-alegrense \n🎟️ Acesso gratuito\n\n📷 Uma oportunidade única para fotógrafos(as)\, estudantes e apaixonados pela imagem explorarem a fundo a jornada de uma das mais importantes fotógrafas brasileiras\, compreendendo o processo criativo por trás de projetos premiados e exposições internacionais. \nOrganização FCPOA: Nega Ângela\, apoio de José Roque Guimarães\, Fernando Schmitt\, Anelise Barra Ferreira e Viviane Monteavaro. \nEsperamos por você nesta jornada! \nSite profissional Fifi Tong | Instagram \n\n#FotoclubePortoAlegrense #Fotoclubepoa #fcpoa #fotoclube #SegundaCultural #FifiTong #Fotografia #Retrato #Documental #Trajetória #ProcessoCriativo
URL:https://fotoclubepoa.com.br/evento/segunda-cultural-fifi-tong/
CATEGORIES:Segunda Cultural
ATTACH;FMTTYPE=image/png:https://fotoclubepoa.com.br/wp-content/uploads/2025/10/2025-13-10-Fifi-Tong-Youtube-Site.png
END:VEVENT
END:VCALENDAR