BEGIN:VCALENDAR
VERSION:2.0
PRODID:-//Fotoclube Porto-alegrense - ECPv6.15.20//NONSGML v1.0//EN
CALSCALE:GREGORIAN
METHOD:PUBLISH
X-WR-CALNAME:Fotoclube Porto-alegrense
X-ORIGINAL-URL:https://fotoclubepoa.com.br
X-WR-CALDESC:Eventos para Fotoclube Porto-alegrense
REFRESH-INTERVAL;VALUE=DURATION:PT1H
X-Robots-Tag:noindex
X-PUBLISHED-TTL:PT1H
BEGIN:VTIMEZONE
TZID:America/Sao_Paulo
BEGIN:STANDARD
TZOFFSETFROM:-0300
TZOFFSETTO:-0300
TZNAME:-03
DTSTART:20240101T000000
END:STANDARD
END:VTIMEZONE
BEGIN:VEVENT
DTSTART;VALUE=DATE:20251004
DTEND;VALUE=DATE:20251005
DTSTAMP:20260424T015809
CREATED:20250913T130854Z
LAST-MODIFIED:20250913T130854Z
UID:7624-1759536000-1759622399@fotoclubepoa.com.br
SUMMARY:[Saída Fotográfica] Save The Date
DESCRIPTION:A Comissão de Saídas Fotográficas organiza encontros mensais\, sempre no 1º sábado de cada mês\, como espaço de prática\, troca de experiências e convivência entre fotoclubistas. \nAs atividades são planejadas e divulgadas internamente pelo grupo de WhatsApp da comissão e têm participação exclusiva de associados(as) do Fotoclube Porto-alegrense. \nParticipe\, traga sua câmera e venha ampliar seu olhar fotográfico junto à nossa comunidade!
URL:https://fotoclubepoa.com.br/evento/saida-fotografica-save-the-date/
CATEGORIES:Saída Fotográfica
ATTACH;FMTTYPE=image/png:https://fotoclubepoa.com.br/wp-content/uploads/2025/09/Saidas-Fotograficas-2023-a-2025-Instagram-post-11.png
END:VEVENT
END:VCALENDAR