BEGIN:VCALENDAR
VERSION:2.0
PRODID:-//Fotoclube Porto-alegrense - ECPv6.15.20//NONSGML v1.0//EN
CALSCALE:GREGORIAN
METHOD:PUBLISH
X-WR-CALNAME:Fotoclube Porto-alegrense
X-ORIGINAL-URL:https://fotoclubepoa.com.br
X-WR-CALDESC:Eventos para Fotoclube Porto-alegrense
REFRESH-INTERVAL;VALUE=DURATION:PT1H
X-Robots-Tag:noindex
X-PUBLISHED-TTL:PT1H
BEGIN:VTIMEZONE
TZID:America/Sao_Paulo
BEGIN:STANDARD
TZOFFSETFROM:-0300
TZOFFSETTO:-0300
TZNAME:-03
DTSTART:20230101T000000
END:STANDARD
END:VTIMEZONE
BEGIN:VEVENT
DTSTART;TZID=America/Sao_Paulo:20240820T190000
DTEND;TZID=America/Sao_Paulo:20240820T210000
DTSTAMP:20260425T181650
CREATED:20240819T121713Z
LAST-MODIFIED:20240819T121818Z
UID:6342-1724180400-1724187600@fotoclubepoa.com.br
SUMMARY:[Exposição] Mostra Coletiva Poa Pópi Ãpi\, por Casa Amarela ABERTURA
DESCRIPTION:A talentosa fotoclubista Andréia Kris\, conhecida por sua sensibilidade artística e dedicação à fotografia\, estará presente na Mostra Coletiva POA PÓPI ÃPI\, levando seu olhar único para esse evento que celebra a diversidade das expressões artísticas. \nRelease: \nMOSTRA COLETIVA POA PÓPI ÃPI\nPÓPI ÃPI é uma espécie de onomatopeia usada para traduzir antropofagicamente a expressão pop up\, que designa uma tendência internacional de eventos de curta duração e intensa divulgação on line em espaços culturais não tradicionais. Esse conceito norteia todas as ações da Casa Amarela\, que celebra com esse evento seus três anos de criação. POA PÓPI ÃPI\, conjuga nossos propósitos mais importantes: reunir em torno da Casa artistas de todos os quadrantes\, com diferentes experiências e modos expressivos\, sejam eles referentes às linguagens\, às poéticas ou às técnicas. \nPOA PÓPI ÃPI está em sua segunda edição dado o êxito alcançado em 2023. É uma coletiva\, montada através de um edital\, que reúne 26 artistas selecionados entre os 58 inscritos em várias modalidades: Pintura\, Colagem\, Gravura\, Arte têxtil\, Escultura\, Fotografia e Desenho. \nArtistas selecionados: Andréia Kris | Andrea Garcia de Garcia | Adriana G. Leal | Adriana Leiria | Aglaé Freitas | Angela Bolsson | Carmem C. Magalhães | Clóvis Bujes | Débora Duarte | Deja Rosa | Diego Berzagui | Gladys Neves | João Pedro L. Pereira | Laura Guerim | Léa Mara Rigo | Maria Panina | Milton Caselani | Nathalia Tessler | Paulo Chagas | Rachel Fontoura | Raphael Carneiro | Ricardo Garcia | Rita da Rosa | Ruth Johnson Greco | Sol Inocenti | Taís Fanfa \nOs trabalhos foram selecionados por uma competente equipe formada por artistas de reconhecido talento e conhecimento artístico – Antônio Frantz Soares\, Leandro Bierhals\, Leandro Selister e Mariza Carpes – que a nosso convite seguiram os critérios divulgados no edital para chegar ao resultado aqui exposto. \nEssa exposição\, que tem o apoio da Koralle\, é uma celebração à arte\, à sensibilidade\, à criatividade e aos três anos da Casa Amarela \nServiço:\n\nData da abertura : 20|08 das 19 às 21h\nVisitação : de segunda a sexta das 14 às 17hs.\nEndereço: Av. José Gertum\, 671\, Chácara das Pedras\, Porto Alegre.\nContato : Whatsapp (51) 997148579 com Luciane dos Anjos Coordenadora.\n\nCasa Amarela – Fonte: divulgação Casa Amarela
URL:https://fotoclubepoa.com.br/evento/exposicao-mostra-coletiva-poa-popi-api-por-casa-amarela/
CATEGORIES:Exposições
ATTACH;FMTTYPE=image/jpeg:https://fotoclubepoa.com.br/wp-content/uploads/2024/08/IMG-20240813-WA0075-1.jpg
END:VEVENT
BEGIN:VEVENT
DTSTART;TZID=America/Sao_Paulo:20240821T140000
DTEND;TZID=America/Sao_Paulo:20240830T170000
DTSTAMP:20260425T181650
CREATED:20240819T122036Z
LAST-MODIFIED:20240819T122359Z
UID:6347-1724248800-1725037200@fotoclubepoa.com.br
SUMMARY:[Exposição] Mostra Coletiva Poa Pópi Ãpi\, por Casa Amarela VISITAÇÃO
DESCRIPTION:A talentosa fotoclubista Andréia Kris\, conhecida por sua sensibilidade artística e dedicação à fotografia\, estará presente na Mostra Coletiva POA PÓPI ÃPI\, levando seu olhar único para esse evento que celebra a diversidade das expressões artísticas. \nRelease: \nMOSTRA COLETIVA POA PÓPI ÃPI\nPÓPI ÃPI é uma espécie de onomatopeia usada para traduzir antropofagicamente a expressão pop up\, que designa uma tendência internacional de eventos de curta duração e intensa divulgação on line em espaços culturais não tradicionais. Esse conceito norteia todas as ações da Casa Amarela\, que celebra com esse evento seus três anos de criação. POA PÓPI ÃPI\, conjuga nossos propósitos mais importantes: reunir em torno da Casa artistas de todos os quadrantes\, com diferentes experiências e modos expressivos\, sejam eles referentes às linguagens\, às poéticas ou às técnicas. \nPOA PÓPI ÃPI está em sua segunda edição dado o êxito alcançado em 2023. É uma coletiva\, montada através de um edital\, que reúne 26 artistas selecionados entre os 58 inscritos em várias modalidades: Pintura\, Colagem\, Gravura\, Arte têxtil\, Escultura\, Fotografia e Desenho. \nArtistas selecionados: Andréia Kris | Andrea Garcia de Garcia | Adriana G. Leal | Adriana Leiria | Aglaé Freitas | Angela Bolsson | Carmem C. Magalhães | Clóvis Bujes | Débora Duarte | Deja Rosa | Diego Berzagui | Gladys Neves | João Pedro L. Pereira | Laura Guerim | Léa Mara Rigo | Maria Panina | Milton Caselani | Nathalia Tessler | Paulo Chagas | Rachel Fontoura | Raphael Carneiro | Ricardo Garcia | Rita da Rosa | Ruth Johnson Greco | Sol Inocenti | Taís Fanfa \nOs trabalhos foram selecionados por uma competente equipe formada por artistas de reconhecido talento e conhecimento artístico – Antônio Frantz Soares\, Leandro Bierhals\, Leandro Selister e Mariza Carpes – que a nosso convite seguiram os critérios divulgados no edital para chegar ao resultado aqui exposto. \nEssa exposição\, que tem o apoio da Koralle\, é uma celebração à arte\, à sensibilidade\, à criatividade e aos três anos da Casa Amarela \nServiço:\n\nData da abertura : 20|08 das 19 às 21h\nVisitação : de segunda a sexta das 14 às 17hs.\nEndereço: Av. José Gertum\, 671\, Chácara das Pedras\, Porto Alegre.\nContato : Whatsapp (51) 997148579 com Luciane dos Anjos Coordenadora.\n\nCasa Amarela – Fonte: divulgação Casa Amarela
URL:https://fotoclubepoa.com.br/evento/exposicao-mostra-coletiva-poa-popi-api-por-casa-amarela-visitacao/
CATEGORIES:Exposições
ATTACH;FMTTYPE=image/jpeg:https://fotoclubepoa.com.br/wp-content/uploads/2024/08/IMG-20240813-WA0075-1.jpg
END:VEVENT
END:VCALENDAR