BEGIN:VCALENDAR
VERSION:2.0
PRODID:-//Fotoclube Porto-alegrense - ECPv6.15.20//NONSGML v1.0//EN
CALSCALE:GREGORIAN
METHOD:PUBLISH
X-WR-CALNAME:Fotoclube Porto-alegrense
X-ORIGINAL-URL:https://fotoclubepoa.com.br
X-WR-CALDESC:Eventos para Fotoclube Porto-alegrense
REFRESH-INTERVAL;VALUE=DURATION:PT1H
X-Robots-Tag:noindex
X-PUBLISHED-TTL:PT1H
BEGIN:VTIMEZONE
TZID:America/Sao_Paulo
BEGIN:STANDARD
TZOFFSETFROM:-0300
TZOFFSETTO:-0300
TZNAME:-03
DTSTART:20240101T000000
END:STANDARD
END:VTIMEZONE
BEGIN:VEVENT
DTSTART;TZID=America/Sao_Paulo:20251001T100000
DTEND;TZID=America/Sao_Paulo:20251110T180000
DTSTAMP:20260424T001445
CREATED:20250925T164208Z
LAST-MODIFIED:20251011T201907Z
UID:7713-1759312800-1762797600@fotoclubepoa.com.br
SUMMARY:[Exposição] PROJETO POTÊNCIA\, 55 70 25\, por Nega Ângela\, Fundação Ecarta VISITAÇÃO
DESCRIPTION:Abertura de Exposição – Nega Ângela na Fundação Ecarta\nA fotoclubista Nega Ângela (Angela Cristina Ribeiro dos Santos) convida para a abertura de sua exposição 55 70 25\, projeto selecionado para o Programa Potência 2025 da Fundação Ecarta. O trabalho tem curadoria de Fernando Schmitt e apresenta sua força poética através da fotografia\, marcada pelo olhar atento ao cotidiano\, pela simplicidade técnica e pela potência expressiva que atravessa sua trajetória artística iniciada em 2017. \nNega Ângela vem consolidando seu espaço na fotografia contemporânea do Rio Grande do Sul\, com exposições no Brasil e no exterior. Sua participação no Projeto Potência reafirma o compromisso da artista em dar visibilidade a vozes diversas e à arte que nasce da experiência vivida. \nProgramação da abertura\n📅 Abertura: 30 de setembro de 2025⏰ 17h – conversa entre artistas\, curadores e público🥂 19h às 21h – coquetel de inauguração📍 Local: Fundação Ecarta – Galeria de Arte (Av. João Pessoa\, 943 – Porto Alegre/RS)🖼 Visitação: de 1º de outubro a 10 de novembro de 2025⏰ Horários: terças a domingos\, das 10h às 18h \nExposições em cartaz\n\n\nARTISTA+ARTISTA: CORPOEFÊMERO: Qual a terra da Arte?\, de Jotape Pax e Ubiratan Fernandes (curadoria de Mona Carvalho). \n\n\nPROJETO POTÊNCIA: 55 70 25\, de Nega Ângela (curadoria de Fernando Schmitt). \n\n\nPROFESSOR ARTISTA/ARTISTA PROFESSOR: Ana Aita\, artista e arte-educadora. \n\n\nTodas as propostas dialogam com a poética do corpo\, explorando diferentes linguagens – pintura\, escultura e fotografia – e criando interlocuções entre obras e trajetórias. \n\n✨ Convido você para a abertura das novas exposições na galeria de arte da Fundação Ecarta (Av. João Pessoa\, 943)\, no dia 30 de setembro\, a partir das 17h. Haverá uma conversa entre artistas\, curadores e público\, explorando as poéticas do corpo e as interlocuções entre as obras e as trajetórias artísticas. Das 19h às 21h\, teremos o coquetel de inauguração dos seguintes programas expositivos: ARTISTA+ARTISTA apresenta “CORPOEFÊMERO: Qual a terra da Arte?”\, de Jotape Pax e Ubiratan Fernandes\, curadoria de Mona Carvalho; PROJETO POTÊNCIA apresenta 55 70 25\, de Nega Angela\, curadoria de Fernando Schmitt; PROFESSOR ARTISTA/ARTISTA PROFESSOR apresenta o trabalho da artista e arte-educadora Ana Aita; todos abordando diferentes leituras da poética do corpo através da pintura\, da escultura e da fotografia. Venha celebrar a abertura desses caminhos criativos\, onde diferentes linguagens se encontram para revelar o corpo e o tempo que o habita. \n\nSite da Nega Ângela. \n#NegaAngela #55_70_25 #FundaçãoEcarta #ProjetoPotência #ArteContemporânea #FotografiaContemporânea #PoéticaDoCorpo #ExposiçãoFotográfica #CulturaRS #PortoAlegre #ArteFotográfica #ExposiçãoDeArte #FotografiaBrasileira #ArtistaVisual #FotoclubePortoAlegrense #fotoclubepoa #FCPOA #fotoclubepoa
URL:https://fotoclubepoa.com.br/evento/exposicao-projeto-potencia-55-70-25-por-nega-angela-fundacao-ecarta-visitacao/
CATEGORIES:Exposições
ATTACH;FMTTYPE=image/jpeg:https://fotoclubepoa.com.br/wp-content/uploads/2025/09/IMG-20250923-WA0026-scaled.jpg
END:VEVENT
BEGIN:VEVENT
DTSTART;TZID=America/Sao_Paulo:20251111T120000
DTEND;TZID=America/Sao_Paulo:20251130T180000
DTSTAMP:20260424T001445
CREATED:20251110T001640Z
LAST-MODIFIED:20251110T001806Z
UID:7957-1762862400-1764525600@fotoclubepoa.com.br
SUMMARY:[Exposição] Novembro Negro – Caminhos para a Equidade
DESCRIPTION:Exposição “Novembro Negro – Caminhos para a Equidade” reúne seis artistas em Porto Alegre \nA fotoclubista Nega Ângela integra o grupo de artistas selecionados para a exposição “Novembro Negro – Caminhos para a Equidade”\, promovida pelo Ministério Público Federal (MPF). A mostra será realizada de 11 a 30 de novembro\, na Procuradoria Regional da República da 4ª Região\, em Porto Alegre (RS). \nNega Ângela\nA iniciativa celebra o Mês da Consciência Negra e tem como objetivo dar visibilidade à produção artística negra\, revelar talentos\, fomentar a cultura e estimular reflexões sobre o enfrentamento ao racismo e a promoção da equidade racial. \nOs seis artistas selecionados — Henrique Agabê\, Joice Silva (representando o coletivo Ponto de Cultura Marlene Chaves)\, Kadu Ramos\, Marcos Porto\, Nega Ângela e Valdenar Gonçalves — apresentam um conjunto de 14 obras\, entre pinturas\, fotografias\, desenhos e esculturas. Todas as criações abordam temas centrais como o combate ao racismo\, a valorização da população negra\, os direitos das mulheres negras\, o enfrentamento à violência de gênero e raça e a afirmação da identidade afrodescendente. \nA exposição é uma realização do Núcleo de Apoio Operacional à Procuradoria Federal dos Direitos do Cidadão (Naop-PFDC) e da Comissão “Enfrentamento ao Racismo e Promoção da Igualdade Racial” da PFDC\, e contará com entrada gratuita para o público. \n📍 ServiçoExposição: Novembro Negro – Caminhos para a EquidadeArtistas: Henrique Agabê\, Joice Silva (Coletivo Ponto de Cultura Marlene Chaves)\, Kadu Ramos\, Marcos Porto\, Nega Ângela e Valdenar GonçalvesPeríodo: de 11 a 30 de novembro de 2025Horário: das 12h às 18hLocal: Procuradoria Regional da República da 4ª Região – Rua Otávio Francisco Caruso da Rocha\, 800\, bairro Praia de Belas\, Porto Alegre (RS)Entrada: gratuita \nA presença da fotoclubista Nega Ângela nessa mostra reafirma o compromisso do Fotoclube Porto-alegrense em valorizar a diversidade\, o diálogo e a potência criativa de seus talentos. \n#FotoclubePortoAlegrense #Fotoclubepoa #fcpoa #fotoclube
URL:https://fotoclubepoa.com.br/evento/exposicao-novembro-negro-caminhos-para-a-equidade/
CATEGORIES:Exposições
ATTACH;FMTTYPE=image/png:https://fotoclubepoa.com.br/wp-content/uploads/2025/11/AGENDA-CULTURAL-2024-2025-14.png
END:VEVENT
END:VCALENDAR