BEGIN:VCALENDAR
VERSION:2.0
PRODID:-//Fotoclube Porto-alegrense - ECPv6.15.20//NONSGML v1.0//EN
CALSCALE:GREGORIAN
METHOD:PUBLISH
X-ORIGINAL-URL:https://fotoclubepoa.com.br
X-WR-CALDESC:Eventos para Fotoclube Porto-alegrense
REFRESH-INTERVAL;VALUE=DURATION:PT1H
X-Robots-Tag:noindex
X-PUBLISHED-TTL:PT1H
BEGIN:VTIMEZONE
TZID:America/Sao_Paulo
BEGIN:STANDARD
TZOFFSETFROM:-0300
TZOFFSETTO:-0300
TZNAME:-03
DTSTART:20240101T000000
END:STANDARD
END:VTIMEZONE
BEGIN:VEVENT
DTSTART;TZID=America/Sao_Paulo:20251119T090000
DTEND;TZID=America/Sao_Paulo:20260331T173000
DTSTAMP:20260423T200717
CREATED:20251117T193941Z
LAST-MODIFIED:20251117T194033Z
UID:7985-1763542800-1774978200@fotoclubepoa.com.br
SUMMARY:[Exposição] Porto Alegre Natural: As Cores Vivas da Capital Gaúcha\, Museu de Porto Alegre Joaquim Felizardo VISITAÇÃO
DESCRIPTION:Mostra Fotográfica – Porto Alegre Natural: As Cores Vivas da Capital Gaúcha\nFotoclubistas representam o FC na programação da Noite dos Museus 2025\nO Fotoclube Porto-alegrense convida toda a comunidade a prestigiar a abertura da mostra “Porto Alegre Natural: As Cores Vivas da Capital Gaúcha”\, uma celebração da cidade por meio de olhares que revelam afeto\, identidade e experiências visuais únicas. A exposição reúne 29 fotografias selecionadas por Edital Público\, trazendo obras de profissionais e amadores que mergulham na riqueza estética de Porto Alegre. \n📅 Abertura: 18 de novembro (terça-feira)\, às 19h📍 Museu de Porto Alegre Joaquim Felizardo – Rua João Alfredo\, 582🖼️ Visitação: de 19 de novembro de 2025 até 31 de março de 2026\, de segunda a sexta-feira\, das 9h às 17h30. \n \nTemos orgulho de anunciar a presença dos fotoclubistas que representam o FC nesta mostra:William Clavijo\, Gerson Turelly\, Andrea Seligman\, Edison Nunes\, Jorge Leão e Rafael Sgari.Cada obra selecionada confirma a potência criativa dos nossos talentos e reforça o compromisso do fotoclube com a produção cultural da cidade. \nA mostra antecede a Noite dos Museus 2025\, que neste ano apresentará mais de cem atrações em 38 espaços culturais da capital\, em uma programação vibrante promovida pelo Instituto Noite dos Museus\, com patrocínio da Petrobras. \nSobre o Museu\nCriado em 1979\, o Museu de Porto Alegre Joaquim Felizardo ocupa o histórico Solar Lopo Gonçalves\, um dos marcos arquitetônicos mais emblemáticos da cidade. Vinculado à Diretoria de Patrimônio e Memória da Secretaria Municipal de Cultura\, o museu preserva acervos tridimensionais\, iconográficos e arqueológicos que contam a história viva da capital. Seu espaço acolhe iniciativas que conectam memória\, território e identidade — cenário perfeito para uma mostra que celebra a Porto Alegre que pulsa em cada olhar. \nVenham prestigiar e celebrar com a gente esta conquista coletiva\, que valoriza nossos artistas e fortalece o espírito da comunidade fotográfica. \n#fotoclubeportoalegrense #fotoclubepoa #fotoclube #fcpoa #MuseuJoaquimFelizardo #NoidedosMuseus
URL:https://fotoclubepoa.com.br/evento/exposicao-porto-alegre-natural-as-cores-vivas-da-capital-gaucha-museu-de-porto-alegre-joaquim-felizardo-visitacao/
CATEGORIES:Exposições
ATTACH;FMTTYPE=image/png:https://fotoclubepoa.com.br/wp-content/uploads/2025/11/AGENDA-CULTURAL-2024-2025-19.png
END:VEVENT
END:VCALENDAR