BEGIN:VCALENDAR
VERSION:2.0
PRODID:-//Fotoclube Porto-alegrense - ECPv6.15.20//NONSGML v1.0//EN
CALSCALE:GREGORIAN
METHOD:PUBLISH
X-WR-CALNAME:Fotoclube Porto-alegrense
X-ORIGINAL-URL:https://fotoclubepoa.com.br
X-WR-CALDESC:Eventos para Fotoclube Porto-alegrense
REFRESH-INTERVAL;VALUE=DURATION:PT1H
X-Robots-Tag:noindex
X-PUBLISHED-TTL:PT1H
BEGIN:VTIMEZONE
TZID:America/Sao_Paulo
BEGIN:STANDARD
TZOFFSETFROM:-0300
TZOFFSETTO:-0300
TZNAME:-03
DTSTART:20240101T000000
END:STANDARD
END:VTIMEZONE
BEGIN:VEVENT
DTSTART;VALUE=DATE:20251026
DTEND;VALUE=DATE:20251122
DTSTAMP:20260424T035521
CREATED:20251016T214854Z
LAST-MODIFIED:20251016T214854Z
UID:7863-1761436800-1763769599@fotoclubepoa.com.br
SUMMARY:[Exposição] Memorial das Águas | 4ª Exposição: GRATIDÃO [VISITAÇÃO]
DESCRIPTION:📸 Memorial das Águas – 4ª Exposição: GRATIDÃO\nPelotas recebe nova etapa do projeto que transformou a dor em legado. \n🗓 De 25 de outubro a 20 de novembro de 2025📍 Largo do Mercado Público de Pelotas – Praça Sete de Julho ⏰ Abertura: 25/10 (sábado)\, às 15h🎟 Entrada franca | Acesso 24h por dia  \nApós emocionar Porto Alegre com três grandes mostras a céu aberto — Voluntariado\, Resiliência e Conscientização — o projeto Memorial das Águas – Reconstrução e Solidariedade segue viagem pelo Rio Grande do Sul e chega agora à cidade de Pelotas\, com a exposição “Gratidão”\, a quarta edição do projeto. \nIdealizada e realizada pelo produtor e fotógrafo Marcos Monteiro\, com produção executiva de Edison Nunes — ambos integrantes do Fotoclube Porto-alegrense (FCPOA) — a mostra dá continuidade a um movimento que transformou a Praça da Alfândega\, em Porto Alegre\, em uma galeria a céu aberto\, reunindo o olhar sensível de 82 fotógrafos sobre as enchentes de 2024. Durante três meses\, mais de 100 mil visitantes e 240 fotografias compuseram uma potente narrativa de reconstrução coletiva. \nAgora\, é a vez de Pelotas acolher essa iniciativa que une arte\, memória e esperança. A mostra “Gratidão”\, que integra o projeto Memorial das Águas\, reúne 26 fotógrafos(as) e ocupa o Largo do Mercado Público (Praça Sete de Julho) de 25 de outubro a 20 de novembro de 2025\, com visitação aberta 24 horas por dia e entrada franca. \nAs imagens retratam os impactos da enchente\, os gestos solidários\, a fé e a força de uma população que ressignifica a perda por meio da arte. A proposta é seguir transformando lembranças em legado e a dor em inspiração para o futuro — reafirmando o poder da fotografia como memória viva e ato de resistência. \n📷 Fotógrafas e fotógrafos confirmados:\nBeto Rodrigues | Carolina Leipnitz | César Roos | Cláudia Bento Alves | Cris Mattos [FCPOA] | Erick Gabriel Pereira | Fábio Mariot | Gilberto Klar Renner | Gilberto Perin | Guilherme Tavares | Gustavo Bizarro | Gustavo Vara | Igor Sobral | Ítalo dos Santos | Jorge Lansarin [FCPOA] | Jorge Leão [FCPOA] | Juliano Verardi | Lucian Brum | Maria H. Guaragni [FCPOA] | Natália D. Henkin | Nilton Santolin [FCPOA] | Nina Pulita [FCPOA] | Paulo Paim [FCPOA] | Paulo Rossi | Pedro Stahnke | Rafael M. Sgari [FCPOA] \nMais uma vez\, o Fotoclube Porto-alegrense tem presença marcante: 8 dos fotógrafos confirmados são fotoclubistas\, reafirmando nosso papel ativo na valorização da memória coletiva e da fotografia como linguagem de transformação social. Parabéns a todos e todas! \n \nℹ️ Sobre o Projeto\nRealizado pelo Ministério da Cultura\, com produção da Galeria Escadaria e do Clube Arte para Todos\, o projeto Memorial das Águas reúne cinco exposições ao ar livre entre julho e dezembro de 2025. A proposta é documentar\, sensibilizar e inspirar reflexões sobre o impacto das enchentes de 2024\, a partir do olhar de fotógrafas e fotógrafos de todo o Brasil. \n\n📅 Participe da última exposição:\n📌 5ª Exposição – RETOMADA📤 Envio de 1º a 30 de setembro📆 Mostra: 22/11 a 20/12 – Pelotas \n📥 Envie até 10 fotos (JPG\, máx. 2Mb) com título e dados do autor para:✉️ memorialdasaguas2025@gmail.com🔗 Detalhes no site do projeto. \n\nHashtags\n#MemorialDasÁguas #Resiliência #SolidariedadeEReconstrução #ArteAoArLivre#FotoclubePortoAlegrense #fcpoa #fotoclube #exposição #memória #fotografiacoletiva \nNa mídia: repostagem JA
URL:https://fotoclubepoa.com.br/evento/exposicao-memorial-das-aguas-4a-exposicao-gratidao-visitacao/
CATEGORIES:Exposições
ATTACH;FMTTYPE=image/png:https://fotoclubepoa.com.br/wp-content/uploads/2025/10/4a-mostra-2a.png
END:VEVENT
BEGIN:VEVENT
DTSTART;VALUE=DATE:20251122
DTEND;VALUE=DATE:20251221
DTSTAMP:20260424T035521
CREATED:20251123T172202Z
LAST-MODIFIED:20251123T172626Z
UID:8042-1763769600-1766275199@fotoclubepoa.com.br
SUMMARY:[Exposição} Memorial das Águas – 5ª Exposição “Retomada” VISITAÇÃO
DESCRIPTION:📸 Memorial das Águas – 5ª Exposição “Retomada”\n🗓 De 22 de novembro a 20 de dezembro de 2025📍 Largo do Mercado Público – Pelotas🎟 Acesso gratuito | Visitação 24h por dia \nSite do projeto. \nO projeto Memorial das Águas chega ao seu capítulo final com a exposição “Retomada”\, celebrada neste sábado\, 22/11\, em Pelotas. A abertura reuniu público\, fotógrafos e parceiros em um encontro marcado pela emoção e pela força simbólica deste encerramento. \nA mostra apresenta obras de 24 fotógrafos\, entre eles colegas do Fotoclube Porto-alegrense\, que mais uma vez levaram seu olhar sensível e comprometido para este ciclo de memória e reconstrução. \nA exposição permanece aberta diariamente\, ao longo das 24 horas\, até 20 de dezembro\, ocupando o Largo do Mercado Público com imagens que celebram a esperança\, a união e a capacidade coletiva de recomeçar. \nAo longo de cinco exposições – três em Porto Alegre e duas em Pelotas – o Memorial das Águas reuniu 98 fotógrafos\, 400 imagens e um público estimado em 270 mil pessoas. Um percurso que documentou não apenas a destruição causada pelas enchentes de 2024\, mas também a extraordinária solidariedade que emergiu delas. \nCom curadoria de Marcos Monteiro e produção executiva de Edison Nunes\, o projeto se consolidou como um marco cultural\, utilizando a fotografia como ferramenta de memória\, sensibilização e reconstrução. \nA exposição “Retomada” fecha este ciclo olhando para frente: para o futuro que se reconstrói dia após dia\, com esforço coletivo\, afeto e esperança. \n\n👥 Fotógrafos participantes desta edição\nÁlvaro Sanguinetti | Andréia Kris | Anelise Ferreira | Charles Guerra | Cláudia Brandão | Cynthia Recuero | Diego Lopes | Felipe Campal | Filipi Amorim | Gilberto Renner | Gustavo Vara | Jô Folha | Jorge Lansarin | Josiane Chocho | Leandro Lopes | Lucas Pedruzzi | Mac Morales | Rafael Rosa | Renan Lemos | Selmar Medeiros | Stheve Balbinot | William Clavijo \n(Fotoclubistas) \n\nServiço\nMemorial das Águas – 5ª Exposição “Retomada”📅 Abertura: 22 de novembro de 2025\, às 15h📍 Local: Largo do Mercado Público de Pelotas🗓 Visitação: até 20 de dezembro⏰ Horário: 24h por dia🎟 Entrada franca \nContatoAssessoria de imprensa – Vera Pinto: (51) 99104-1372Curadoria – Marcos Monteiro: (51) 9935-0608 \n\n#fotoclubeportoalegrense #fotoclubepoa #fotoclube #fcpoa #MemorialDasÁguas #Retomada #SolidariedadeEReconstrução #ArteAoArLivre #CulturaRS \nFotos da Abertura\, 22/11/2025\, por Andréia Kris. \n       \nMemorial das Águas encerra sua jornada com a exposição “Retomada” em Pelotas\nProjeto fotográfico que documentou a solidariedade e a reconstrução após a enchente de 2024 chega à sua quinta e última mostra\, celebrando a esperança e a resiliência do povo gaúcho.\n  \nO projeto Memorial das Águas – Solidariedade e Reconstrução\, anuncia sua quinta e última exposição\, “Retomada”\, que abriu no dia 22 de novembro (sábado)\, às 15h\, no Largo do Mercado Público de Pelotas\, com a participação de 24 fotógrafos. A mostra encerra um ciclo de grande sucesso que percorreu Porto Alegre e Pelotas\, emocionando o público com registros tocantes da maior tragédia climática da história do Rio Grande do Sul e da extraordinária onda de união que se formou em resposta a ela. A visitação segue diariamente\, ao longo de 24h\, até o dia 20 de dezembro. \nAo longo de cinco exposições – três em Porto Alegre e duas em Pelotas- o projeto não apenas documentou a dor e a destruição\, mas\, principalmente\, celebrou a vida\, a ajuda mútua e a incrível capacidade de recomeçar. Ele reuniu 98 fotógrafos e 400 fotografias\, distribuídas em 80 painéis\, alcançando um público estimado em 270 mil pessoas. “Retomada” encerra este ciclo com um olhar voltado para o futuro. Um futuro que se reconstrói a cada dia com o esforço e a união de todos. As imagens desta coletiva são um tributo àqueles que\, mesmo diante da adversidade\, não perderam a esperança e se reergueram\, provando que a solidariedade é a mais poderosa ferramenta de reconstrução. \nParticipam: Álvaro Sanguinetti\, Andréia Kris\, Anelise Ferreira\, Charles Guerra\, Cláudia Brandão\, Cynthia Recuero\, Diego Lopes\, Felipe Campal\, Filipi A\,orim\, Gilberto Renner\, Gustavo Vara\, Jô Folha\, Jorge Lansarin\, Josiane Chocho\, Leandro Lopes\, Lucas Pedruzzi\, Mac Morales\, Rafael Rosa\, Renan Lemos\, Selmar Medeiros\, Stheve Balbinot e William Clavijo. Com curadoria de Marcos Monteiro e produção executiva de Edison Nunes\, o Memorial das Águas se consolidou como um marco na cena cultural do Estado\, utilizando a fotografia como uma poderosa ferramenta de memória e reflexão. O tema central\, “Voluntariado e Reconstrução”\, permeou todas as coletivas\, destacando não apenas a devastação causada pelas águas\, mas\, sobretudo\, a força da ajuda mútua e a capacidade de superação das comunidades atingidas. \nSegundo o curador Marcos Monteiro\, “Retomada” é “o capítulo final de uma história que todos nós construímos juntos. É um momento de celebrar a vida\, de honrar a memória daqueles que se foram e de olhar para o futuro com esperança. As imagens desta exposição são um testemunho da força do nosso povo e da certeza de que\, unidos\, somos capazes de reconstruir não apenas cidades\, mas também sonhos e esperanças.” Monteiro é experiente em exposições a ceu aberto e coordenador da Galeria Escadaria\, em Porto Alegre\, que funcionou no Viaduto Otávio Rocha\, na avenida Borges de Medeiros\, que por conta das obras de restauro\, passou para o Pier do Gasômetro. \nNeste momento de encerramento\, o Memorial das Águas expressa sua mais profunda gratidão. À população de Porto Alegre e de Pelotas\, que abraçaram o projeto com tanto carinho e respeito\, tornando cada visita uma experiência única de conexão e reflexão. Aos talentosos fotógrafos\, que com seus olhares sensíveis nos presentearam com imagens que ficarão para sempre em nossa memória. Um agradecimento especial aos patrocinadores\, que acreditaram na força da arte como instrumento de transformação e tornaram este projeto uma realidade: Paraflu do Brasil Indústria e Produtos Químicos Ltda.\, Grupo RBS\, Nutrire Indústria de Alimentos Ltda. e Soma Sul Equipamentos Ltda. Também aos apoiadores\, as Prefeituras de Porto Alegre e Pelotas\, por meio de suas secretarias da Cultura\, a Valorize Projetos\, Gestão de Recursos e Patrocínios Ltda. e a CDF Locações de Materiais Cenográficos e Culturais Ltda. E a todos os profissionais envolvidos que\, com sua dedicação\, fizeram do “Memorial das Águas” um marco na história e cultura do nosso estado.
URL:https://fotoclubepoa.com.br/evento/memorial-das-aguas-5-retomada/
CATEGORIES:Exposições
ATTACH;FMTTYPE=image/jpeg:https://fotoclubepoa.com.br/wp-content/uploads/2025/11/1000102543.jpg
END:VEVENT
END:VCALENDAR