BEGIN:VCALENDAR
VERSION:2.0
PRODID:-//Fotoclube Porto-alegrense - ECPv6.15.20//NONSGML v1.0//EN
CALSCALE:GREGORIAN
METHOD:PUBLISH
X-WR-CALNAME:Fotoclube Porto-alegrense
X-ORIGINAL-URL:https://fotoclubepoa.com.br
X-WR-CALDESC:Eventos para Fotoclube Porto-alegrense
REFRESH-INTERVAL;VALUE=DURATION:PT1H
X-Robots-Tag:noindex
X-PUBLISHED-TTL:PT1H
BEGIN:VTIMEZONE
TZID:America/Sao_Paulo
BEGIN:STANDARD
TZOFFSETFROM:-0300
TZOFFSETTO:-0300
TZNAME:-03
DTSTART:20240101T000000
END:STANDARD
END:VTIMEZONE
BEGIN:VEVENT
DTSTART;TZID=America/Sao_Paulo:20251128T193000
DTEND;TZID=America/Sao_Paulo:20251128T213000
DTSTAMP:20260424T023846
CREATED:20251117T200214Z
LAST-MODIFIED:20251117T200233Z
UID:7991-1764358200-1764365400@fotoclubepoa.com.br
SUMMARY:[Concurso] Cerimônia de Premiação 4º Concurso de Fotografia do CAU/RS
DESCRIPTION:📸 Fotoclubistas são destaque entre os vencedores do 4º Concurso de Fotografia do CAU/RS\nO 4º Concurso de Fotografia do CAU/RS anunciou as 12 imagens selecionadas para a edição 2025\, reunindo registros que interpretam o tema “Memórias de Tempos Difíceis” e que propõem reflexões profundas sobre episódios marcantes da história recente do Rio Grande do Sul. \nEntre os vencedores\, temos dois fotoclubistas do Fotoclube Porto-alegrense que nos enchem de orgulho pela sensibilidade\, linguagem visual e comprometimento com a memória coletiva: \n\n\nMarco Antonio de Faria – “Reflexão”Uma leitura poética das enchentes de 2024\, em que a água transforma a paisagem urbana em espelho\, unindo beleza e tragédia no mesmo instante. \n\n\nWilliam K. Clavijo – “Marcas de uma agonia”Registro impactante da Estação Trensurb marcada pela enchente histórica\, revelando a força da natureza e a fragilidade humana. \n\n\nAo lado deles\, completam o grupo de premiados desta edição: Bruno Diniz\, Mateus Bruxel\, Inezita dos Santos Cunha\, André Huyer\, Neimar de Cesero\, Renato Fontanari Thomsen\, Gabriele Vargas\, Tainá Letícia Piccolo\, Maria Eduarda Fortes e Paulo Henrique Barauna da Silva. \nAs 12 imagens selecionadas serão publicadas no Calendário 2026 do CAU/RS\, além de integrarem exposições\, materiais institucionais e campanhas da entidade. \nEsta premiação reforça a importância da fotografia como registro\, memória e consciência — e evidencia a força dos nossos talentos na construção de narrativas que valorizam o território e as experiências vividas pela nossa comunidade. \n\n📅 Serviço – Noite da Arquitetura e Urbanismo 2025\nAs homenagens aos vencedores do concurso acontecerão durante a Noite da Arquitetura e Urbanismo\, que marca o encerramento da 2ª Trienal de Arquitetura e Urbanismo do RS. \n📍 Local: Clube do Comércio – Rua dos Andradas\, 1085 – Centro Histórico\, Porto Alegre/RS📅 Data: 28 de novembro de 2025⏰ Horário: A partir das 19h30🎟️ Ingressos: Gratuitos – adquira antecipadamente pelo Sympla. \n\nCelebramos com alegria a presença de nossos fotoclubistas em mais uma premiação de grande relevância cultural para o estado. Parabenizamos todos os fotógrafos selecionados por contribuírem com obras que preservam a memória e estimulam a reflexão. \n#fotoclubeportoalegrense #fotoclubepoa #fotoclube #fcpoa #caurs #noitedaarquitetura
URL:https://fotoclubepoa.com.br/evento/concurso-cerimonia-de-premiacao-4o-concurso-de-fotografia-do-cau-rs/
CATEGORIES:Concurso
ATTACH;FMTTYPE=image/png:https://fotoclubepoa.com.br/wp-content/uploads/2025/11/AGENDA-CULTURAL-2024-2025-20.png
END:VEVENT
END:VCALENDAR