BEGIN:VCALENDAR
VERSION:2.0
PRODID:-//Fotoclube Porto-alegrense - ECPv6.15.20//NONSGML v1.0//EN
CALSCALE:GREGORIAN
METHOD:PUBLISH
X-ORIGINAL-URL:https://fotoclubepoa.com.br
X-WR-CALDESC:Eventos para Fotoclube Porto-alegrense
REFRESH-INTERVAL;VALUE=DURATION:PT1H
X-Robots-Tag:noindex
X-PUBLISHED-TTL:PT1H
BEGIN:VTIMEZONE
TZID:America/Sao_Paulo
BEGIN:STANDARD
TZOFFSETFROM:-0300
TZOFFSETTO:-0300
TZNAME:-03
DTSTART:20240101T000000
END:STANDARD
END:VTIMEZONE
BEGIN:VEVENT
DTSTART;TZID=America/Sao_Paulo:20251010T190000
DTEND;TZID=America/Sao_Paulo:20251010T210000
DTSTAMP:20260424T042214
CREATED:20251010T201951Z
LAST-MODIFIED:20251010T201951Z
UID:7802-1760122800-1760130000@fotoclubepoa.com.br
SUMMARY:[Live] Conversa com Lu Brito\, sobre Autoretrato.
DESCRIPTION:O Núcleo Feminino de Fotografia do Fotoclube Porto-alegrense está muito feliz em convidar toda a comunidade para uma conversa que toca a alma e a lente. \nSeguindo a jornada que iniciamos com o tema do Autorretrato\, hoje recebemos a fotógrafa Lu Brito. \nNeste encontro\, vamos além do clique. Lu Brito irá compartilhar como a sua aclamada série de autorretratos\, criada em um momento de isolamento\, se tornou um território de escuta interna e uma forma poderosa de resistência poética. \nReserve o seu horário\, é HOJE! \n🗓️ Data: 10 de Outubro \n⏰ Horário: 19h (Horário de Brasília) \n📍 Transmissão: No Canal do YouTube do Fotoclube Porto-alegrense \nEsperamos por você para essa troca de ideias e olhares! \n\n#NúcleoFemininoFCPOA #FotoclubePortoAlegrense #LuBrito #Autorretrato #FotografiaComAlma #IdentidadeFeminina #FCPOA
URL:https://fotoclubepoa.com.br/evento/live-conversa-com-lu-brito-sobre-autoretrato/
CATEGORIES:Núcleo Feminino de Fotografia FCPOA
ATTACH;FMTTYPE=image/png:https://fotoclubepoa.com.br/wp-content/uploads/2025/10/Nucleo-Feminino-Fotografia-Capa-Youtube.png
END:VEVENT
END:VCALENDAR