BEGIN:VCALENDAR
VERSION:2.0
PRODID:-//Fotoclube Porto-alegrense - ECPv6.15.20//NONSGML v1.0//EN
CALSCALE:GREGORIAN
METHOD:PUBLISH
X-WR-CALNAME:Fotoclube Porto-alegrense
X-ORIGINAL-URL:https://fotoclubepoa.com.br
X-WR-CALDESC:Eventos para Fotoclube Porto-alegrense
REFRESH-INTERVAL;VALUE=DURATION:PT1H
X-Robots-Tag:noindex
X-PUBLISHED-TTL:PT1H
BEGIN:VTIMEZONE
TZID:America/Sao_Paulo
BEGIN:STANDARD
TZOFFSETFROM:-0300
TZOFFSETTO:-0300
TZNAME:-03
DTSTART:20240101T000000
END:STANDARD
END:VTIMEZONE
BEGIN:VEVENT
DTSTART;TZID=America/Sao_Paulo:20251125T180000
DTEND;TZID=America/Sao_Paulo:20251125T210000
DTSTAMP:20260424T021746
CREATED:20251123T125323Z
LAST-MODIFIED:20251123T131347Z
UID:8030-1764093600-1764104400@fotoclubepoa.com.br
SUMMARY:[Exposição] “Notas & Aromas” – Encontro com Silvia Pozza
DESCRIPTION:Exposição “Notas & Aromas” – Encontro com Silvia Pozza\nA exposição Notas & Aromas\, da nossa colega fotoclubista Silvia Pozza\, segue em cartaz no Café FonFon e tem encantado visitantes pela forma sensível como combina fotografia\, música e o universo da boa mesa. Um trabalho que reflete não apenas técnica\, mas a delicadeza do olhar que Silvia traz para cada ambiente que fotografa. \nPara quem já visitou e deseja revisitar as imagens ao lado da artista — ou para quem ainda não teve a oportunidade de conhecer a mostra — Silvia convida todos(as) para um encontro especial\, pensado para conversar sobre o processo criativo\, trocar impressões e fortalecer essa rede de afeto que tanto inspira nosso Fotoclube. \nA expografia e concepção levam a assinatura do colega fotoclubista e arquiteto Alexandre Eckert\, que acrescenta ao espaço uma leitura elegante e cuidadosa\, valorizando o diálogo entre obra\, artista e público. \nUma ótima oportunidade para prestigiarmos mais um talento da nossa comunidade e celebrarmos juntos a força da fotografia autoral. \n\nEncontro com a fotógrafa:\n📆 25 de novembro de 2025 (terça-feira)🕕 Das 18h às 21h📍 Café FonFonApós o encontro\, haverá show no local (com couvert)\, para quem quiser permanecer e aproveitar a noite. \n📅 Exposição “Notas & Aromas” – Silvia Pozza\n\nEm cartaz: até 30 de março de 2026\nLocal: Café FonFon – Rua Vieira de Castro\, 22 – Cidade Baixa\, Porto Alegre\nHorário de visitação: quinta a sábado\, a partir das 19h30\nCuradoria e Expografia: Alexandre Eckert\n\n\n#Notas&Aromas #SilviaPozza #SilviaPozzaFotografia #AlexandreEckert #CafeFonfon #fotoclubeportoalegrense #fotoclubepoa #fotoclube #fcpoa
URL:https://fotoclubepoa.com.br/evento/exposicao-notas-e-aromas-encontro-com-a-fotografa-no-cafe-fonfon/
CATEGORIES:Exposições
ATTACH;FMTTYPE=image/jpeg:https://fotoclubepoa.com.br/wp-content/uploads/2025/11/IMG-20251118-WA0058.jpg
END:VEVENT
END:VCALENDAR