BEGIN:VCALENDAR
VERSION:2.0
PRODID:-//Fotoclube Porto-alegrense - ECPv6.15.20//NONSGML v1.0//EN
CALSCALE:GREGORIAN
METHOD:PUBLISH
X-WR-CALNAME:Fotoclube Porto-alegrense
X-ORIGINAL-URL:https://fotoclubepoa.com.br
X-WR-CALDESC:Eventos para Fotoclube Porto-alegrense
REFRESH-INTERVAL;VALUE=DURATION:PT1H
X-Robots-Tag:noindex
X-PUBLISHED-TTL:PT1H
BEGIN:VTIMEZONE
TZID:America/Sao_Paulo
BEGIN:STANDARD
TZOFFSETFROM:-0300
TZOFFSETTO:-0300
TZNAME:-03
DTSTART:20240101T000000
END:STANDARD
END:VTIMEZONE
BEGIN:VEVENT
DTSTART;TZID=America/Sao_Paulo:20251009T093000
DTEND;TZID=America/Sao_Paulo:20251101T183000
DTSTAMP:20260424T022329
CREATED:20251004T211816Z
LAST-MODIFIED:20251004T211816Z
UID:7758-1760002200-1762021800@fotoclubepoa.com.br
SUMMARY:[Exposição] Babel\, Brasilis\, Babilônia - Gravura Galeria de Arte VISITAÇÃO
DESCRIPTION:Exposição “Babel; Brasilis; Babilônia”: Nossas Lentes\, Nossas Histórias\n  \nO Fotoclube (FC) tem o prazer e o privilégio de anunciar a grande exposição coletiva “Babel; Brasilis; Babilônia: História\, utopia\, reconstrução”\, que traz a perspectiva de nossos associados em diálogo com 40 outros grandes nomes das artes visuais. \nEsta mostra não é apenas um evento; é um mosaico de 47 olhares que se propõem a enquadrar a complexidade do ser brasileiro. Sob a curadoria de Anaurelino Corrêa\, a exposição nos convida a uma análise visual das nossas contradições\, da mestiçagem histórica e da busca contínua por um futuro que nos una. É um exercício de criatividade que usa diversas linguagens para registrar o nosso tempo. \nAdriana Leira | Andréia Kris (FPOA) | Arminda Lopes | Beatriz Gonçalves | Bel Porto | Carla Magalhães | Carmen Cecília Magalhães | Clara Pechansky | Claudia Bento Alves | Clayton Ferreira | Cynthia Jappur (FPOA) | Daisson Flach (FPOA) | Débora Duarte | Denise Giacomini (FPOA) | Denise Wichmann (FPOA) | Douglas Fisher (FPOA) | Eduardo R. Arigony | Eliane Abreu | Elisa Tesseler | Enrico Barros | Fátima Pinto | Fernando Lima Lima | Helena Stainer | Iara Tonidandel (FPOA) | Judith Martins Costa | Kika Herrmann | Leonardo Kerkhoven | Lorena Steiner | Marcelo Spolaor | Marcos Porto | Mery Bavia | Mílton Caselani | Nara Fogaça | Nooly Luft | Paulo Aberragh | Ricardo Cardoso | Rita Gil | Rosane Eggler | Ruth Greco | Sandra Lages | Sandra Stardust | Silvia Peruffo | Sônia Benedetto | Suzana Albano | Tania Rossari | Vani Foletto | ZeZé Carpena Ferreira \nTemos grande apreço pela narrativa visual e pelo esforço criativo de todos os envolvidos. De forma especial\, celebramos a contribuição de nossos associados\, cujas lentes e registros ampliam o escopo da fotografia do FC\, colocando-a em um patamar de discussão essencial dentro do circuito de arte. \nConvidamos toda a comunidade do FC a prestigiar este evento\, uma vitrine potente que reforça o compromisso de nossos fotógrafos em capturar as nuances do contemporâneo. \nAssociados do FC na Coletiva\nO Fotoclube se orgulha de ver o trabalho dos seguintes associados em destaque na exposição: Andréia Kris\, Cynthia Jappur\, Daisson Flach\, Denise Giacomini\, Denise Wichmann\, Douglas Fisher e Iara Tonidandel. \nServiço\n\nExposição: Babel; Brasilis; Babilônia: História\, utopia\, reconstrução\nLocal: Gravura Galeria de Arte (R. Corte Real\, 647 – Porto Alegre – RS)\n\nAbertura da Exposição: \n\n08/10/2025 (quarta-feira)\, das 18h às 20h\n\nVisitação: \n\nPeríodo: Até 01/11/2025\nHorários: De segunda a sexta\, das 9h30 às 18h30. Sábados\, das 9h30 às 13h30.\n\n\n \n#fotoclubeportoalegrense #fotoclubepoa #fotoclube #fotografia #BabelBrasilisBabilônia #ExposiçãoColetiva #ArteBrasileira #GravuraGaleriaDeArte #CulturaPOA #PortoAlegre
URL:https://fotoclubepoa.com.br/evento/exposicao-babel-brasilis-babilonia-gravura-galeria-de-arte-visitacao/
CATEGORIES:Exposições
ATTACH;FMTTYPE=image/jpeg:https://fotoclubepoa.com.br/wp-content/uploads/2025/10/Andreia-Kris-Expo-1.jpeg
END:VEVENT
END:VCALENDAR