BEGIN:VCALENDAR
VERSION:2.0
PRODID:-//Fotoclube Porto-alegrense - ECPv6.15.20//NONSGML v1.0//EN
CALSCALE:GREGORIAN
METHOD:PUBLISH
X-ORIGINAL-URL:https://fotoclubepoa.com.br
X-WR-CALDESC:Eventos para Fotoclube Porto-alegrense
REFRESH-INTERVAL;VALUE=DURATION:PT1H
X-Robots-Tag:noindex
X-PUBLISHED-TTL:PT1H
BEGIN:VTIMEZONE
TZID:America/Sao_Paulo
BEGIN:STANDARD
TZOFFSETFROM:-0300
TZOFFSETTO:-0300
TZNAME:-03
DTSTART:20240101T000000
END:STANDARD
END:VTIMEZONE
BEGIN:VEVENT
DTSTART;TZID=America/Sao_Paulo:20250430T133000
DTEND;TZID=America/Sao_Paulo:20250514T183000
DTSTAMP:20260424T143853
CREATED:20250427T143554Z
LAST-MODIFIED:20250427T143554Z
UID:7287-1746019800-1747247400@fotoclubepoa.com.br
SUMMARY:[Exposição] Exposição Coletiva "Captura da Ausência e da Presença"\, Galeria Garagem de Arte Stockinger VISITAÇÃO
DESCRIPTION:Exposição Coletiva “Captura da Ausência e da Presença”\nO Fotoclube Porto-alegrense convida para a exposição coletiva “Captura da Presença e da Ausência”\, que será realizada na Galeria Stockinger\, em Porto Alegre. A mostra reúne obras de renomados fotógrafos — Alex Ramirez\, Andréa Graiz\, Luiz Achutti e o fotoclubista Nilton Santolin — que exploram\, através de suas lentes\, sentimentos e memórias fixadas no cotidiano. \nA sensibilidade dos fotógrafos em materializar emoções torna visível a simbiose entre o olhar e a cena\, capturando instantes únicos de alegria\, tristeza\, beleza\, crueldade e humanidade. \nSobre os fotógrafos:\nLuiz Eduardo Robinson AchuttiNascido em Porto Alegre em 1959\, é fotógrafo há 49 anos. Antropólogo\, mestre pela UFRGS e doutor pela Universidade de Paris 7 Denis-Diderot\, Achutti é Professor Titular do Departamento de Artes Visuais do Instituto de Artes da UFRGS. Em 2025\, celebra 50 anos de trajetória na fotografia. \nNilton SantolinFotógrafo e artista visual\, iniciou sua carreira nos anos 1980. É reconhecido por sua atuação em áreas como arquitetura\, fotojornalismo\, gastronomia e retratos. Autor do livro “UNICRED RS”\, Santolin ministra workshops e define-se como um observador atento aos detalhes\, buscando provocar impacto emocional no público. \nAndréa GraizFotógrafa de Porto Alegre\, com mais de 30 anos de atuação. Trabalhou como fotojornalista no Jornal NH e\, por mais de duas décadas\, no Jornal Zero Hora\, abrangendo diversas editorias. Atualmente\, atua como freelancer em variados segmentos da fotografia. \nAlex RamirezFotógrafo\, artista visual\, diretor criativo e professor pesquisador. Atua nas áreas de fotografia de moda e ensaios artísticos autorais. Doutor em Cultura\, pesquisa inteligência artificial generativa e a estética da loucura. \nServiço:\n\nExposição: Captura da Presença e da Ausência\nAbertura (Vernissage): 29 de abril de 2025\, às 18h30\nPeríodo de Visitação: 29/04 a 14/05/2025\nHorário de Visitação: Das 13h30 às 18h30\nLocal: Galeria Stockinger – Rua Luciana de Abreu\, 450\, Moinhos de Vento\, Porto Alegre\nEntrada gratuita\n\nEsperamos sua presença para prestigiar essa importante mostra fotográfica!
URL:https://fotoclubepoa.com.br/evento/exposicao-exposicao-coletiva-captura-da-ausencia-e-da-presenca-galeria-garagem-de-arte-stockinger-visitacao/
CATEGORIES:Exposições
ATTACH;FMTTYPE=image/png:https://fotoclubepoa.com.br/wp-content/uploads/2025/04/sANTOLIN-2-A.png
END:VEVENT
END:VCALENDAR