BEGIN:VCALENDAR
VERSION:2.0
PRODID:-//Fotoclube Porto-alegrense - ECPv6.15.20//NONSGML v1.0//EN
CALSCALE:GREGORIAN
METHOD:PUBLISH
X-WR-CALNAME:Fotoclube Porto-alegrense
X-ORIGINAL-URL:https://fotoclubepoa.com.br
X-WR-CALDESC:Eventos para Fotoclube Porto-alegrense
REFRESH-INTERVAL;VALUE=DURATION:PT1H
X-Robots-Tag:noindex
X-PUBLISHED-TTL:PT1H
BEGIN:VTIMEZONE
TZID:America/Sao_Paulo
BEGIN:STANDARD
TZOFFSETFROM:-0300
TZOFFSETTO:-0300
TZNAME:-03
DTSTART:20230101T000000
END:STANDARD
END:VTIMEZONE
BEGIN:VEVENT
DTSTART;TZID=America/Sao_Paulo:20240106T080000
DTEND;TZID=America/Sao_Paulo:20240307T200000
DTSTAMP:20260425T115825
CREATED:20240104T112334Z
LAST-MODIFIED:20240129T204425Z
UID:5547-1704528000-1709841600@fotoclubepoa.com.br
SUMMARY:[Exposição] (IN)COMUM - Uma Jornada Artística de Heloiza Averbuck e Zulaine Santos
DESCRIPTION:Galeria Carlinhos Rodrigues apresenta:\n(IN)COMUM – Uma Jornada Artística de Heloiza Averbuck e Zulaine Santos\nA Galeria Carlinhos Rodrigues tem a honra de inaugurar a primeira exposição do novo ano\, trazendo à comunidade artística e ao público em geral uma experiência única e envolvente: (IN)COMUM. Com curadoria e expografia assinadas por Alexandre Eckert\, a mostra mergulha nos universos paralelos das artistas Heloiza Averbuck e Zulaine Santos\, explorando a convergência entre o infinito e o tempo presente. \nSobre a Exposição: (IN)COMUM desvenda a vastidão do nosso perceber\, destacando fragmentos gravados em memórias\, vivências e experiências. A narrativa se desenha nos detalhes\, no aparente e no imperceptível\, transitando entre o sonho e a realidade. A arte e a fotografia se entrelaçam\, criando momentos de pura emoção que aguardam ansiosamente por seus olhares. \nArtistas em Destaque: \n\nHeloiza Averbuck: Sua obra revela a proximidade do brilho do olhar e a explosão das cores\, convidando a uma jornada sensorial única.\nZulaine Santos: Através do silêncio e reflexão do preto e branco\, transporta os espectadores para um universo de contemplação e introspecção.\n\nhttps://fotoclubepoa.com.br/wp-content/uploads/2024/01/video_2024-01-04_08-17-26.mp4\n  \nDatas e Local: A abertura da exposição (IN)COMUM ocorreu na sexta-feira\, 5 de janeiro\, às 18h\, na Confeitaria Maomé. e a sua visitação será possível até 07 de março de 2024. Venha vivenciar a convergência destes universos artísticos e celebrar o início do ano com uma experiência visual inesquecível. \nConcepção e Expografia: Alexandre Eckert\, fotoclubista renomado na cena curatorial\, empresta sua visão singular à exposição\, garantindo uma jornada fluida e envolvente pelos trabalhos de Averbuck e Santos. \n(IN) COMUM – A possibilidade de captar o mundo está disponível para todos. Nosso perceber é um universo amplo e repleto de fragmentos que estão gravados nas memórias\, na vivência e nas experiências de cada um de nós. In comum permeia\, flui e costura dois universos paralelos\, nos quais o encontro é inevitável: em um ponto que pode estar no infinito ou no tempo presente\, onde a narrativa se expressa nos detalhes\, no aparente e no imperceptível que vagam entre o sonho e a realidade. Na proximidade do brilho do olhar\, na explosão das cores ou no silêncio e reflexão do preto e branco\, a arte e a fotografia de Heloiza Averbuck e Zulaine Santos estão à espera dos olhares de todos nós\, para encontrarmos na sua narrativa momentos de pura emoção.  Inaugurando a primeira exposição do novo ano na Galeria Carlinhos Rodrigues\, (IN)COMUM tem abertura\, na sexta feira\, 5 janeiro às 18h\, na confeitaria Maomé. – Texto: Alexandre Eckert \nDetalhes do Evento: \n\nPeríodo: 5 de janeiro a 7 de março de 2024\nHorário de visitação: 1diariamente das 8h às 20h\nLocal: Confeitaria Maomé\, Galeria Carlinhos Rodrigues\n\nEsta é uma oportunidade única de se perder nos detalhes extraordinários do (IN)COMUM. Venha fazer parte deste encontro inesquecível entre arte\, emoção e narrativas entrelaçadas. A entrada é gratuita\, e sua presença é essencial para completar essa experiência única.
URL:https://fotoclubepoa.com.br/evento/exposicao-incomum-uma-jornada-artistica-de-heloiza-averbuck-e-zulaine-santos-2/
LOCATION:Confeitaria Maomé\, Rua Vicente da Fontoura\, 1857\, Porto Alegre\, Rio Grande do Sul\, Brasil
CATEGORIES:Exposições
ATTACH;FMTTYPE=image/png:https://fotoclubepoa.com.br/wp-content/uploads/2024/01/AGENDA-CULTURAL-V1-18.png
END:VEVENT
BEGIN:VEVENT
DTSTART;TZID=America/Sao_Paulo:20240315T180000
DTEND;TZID=America/Sao_Paulo:20240315T200000
DTSTAMP:20260425T115825
CREATED:20240129T210327Z
LAST-MODIFIED:20240311T225203Z
UID:5693-1710525600-1710532800@fotoclubepoa.com.br
SUMMARY:[Exposição] Um instante\, uma imagem\, Nely Alves\, Galeria Carlinhos Rodrigues ABERTURA
DESCRIPTION:Convite para Exposição “Um Instante – Uma Imagem” \nEm um mundo onde as distâncias se encurtam por meio dos olhares e das pausas\, a proximidade se revela em cada imagem capturada. A fotografia\, protagonista de histórias\, assume o papel de guardiã mágica das memórias\, transcende lugares e o tempo\, encontrando-se imersa em cada um de nós. \nNely Alves\, fotógrafa cujo olhar curioso e em constante movimento desvenda panoramas repletos de segredos prontos para serem descobertos\, apresenta sua exposição: “Um Instante – Uma Imagem“. Nesta jornada visual\, os momentos significativos\, a arte\, a beleza\, a vida urbana e bucólica\, as estações do ano\, a viagem e a experimentação se unem em um caleidoscópio de cores e formas que impactam e emocionam. \nSob a concepção e expografia de Alexandre Eckert\, esta exposição convida você a explorar a energia e a paixão que permeiam cada cena. \nDetalhes da Exposição: \n\nNome: Um Instante – Uma Imagem\nFotógrafa: Nely Alves\nConcepção e Expografia: Alexandre Eckert\nAbertura da Exposição: 15 de março\, às 18h\nLocal: Galeria Carlinhos Rodrigues\nEndereço: Confeitaria Maomé\, Rua Vicente da Fontoura\, 1857 – Porto Alegre\nPeríodo de Visitação: De 15 de março a 16 de abril\nHorário de Funcionamento: Segunda a domingo\, das 8h às 20h
URL:https://fotoclubepoa.com.br/evento/exposicao-save-the-date-galeria-carlinhos-rodrigues-3/
LOCATION:Confeitaria Maomé\, Rua Vicente da Fontoura\, 1857\, Porto Alegre\, Rio Grande do Sul\, Brasil
CATEGORIES:Exposições
ATTACH;FMTTYPE=image/jpeg:https://fotoclubepoa.com.br/wp-content/uploads/2024/01/WhatsApp-Image-2024-03-11-at-13.23.07.jpeg
END:VEVENT
BEGIN:VEVENT
DTSTART;TZID=America/Sao_Paulo:20240315T180000
DTEND;TZID=America/Sao_Paulo:20240315T200000
DTSTAMP:20260425T115825
CREATED:20240312T221517Z
LAST-MODIFIED:20240312T221517Z
UID:5810-1710525600-1710532800@fotoclubepoa.com.br
SUMMARY:[Exposição] Vida sem grades\, Iara Tonidandel\, Galeria Carlinhos Rodrigues ABERTURA
DESCRIPTION:Exposição “Vida Sem Grades” Revela a Beleza da Natureza Por Meio das Lentes de Iara Tonidandel \nA Galeria Carlinhos Rodrigues\, situada dentro da tradicional Confeitaria Maomé\, tem a honra de apresentar a mais recente exposição fotográfica intitulada “Vida Sem Grades“\, da talentosa fotógrafa e fotoclubista Iara Tonidandel. \nEsta exposição oferece uma jornada visual através da beleza e da diversidade da natureza em sua forma mais pura. Por meio das habilidosas lentes de Tonidandel\, os visitantes serão transportados para os mais remotos cantos do mundo\, onde a vida selvagem vive em seu habitat natural\, sem amarras ou limitações. \n“Vida Sem Grades” não é apenas uma coleção de fotografias impressionantes\, mas uma declaração de amor e comprometimento com a preservação da fauna e flora deste planeta. Ao longo de sete anos de incursões por quatro continentes\, Iara Tonidandel capturou momentos únicos e preciosos\, destacando a beleza e a importância da vida selvagem em liberdade. \nAlém de seu trabalho fotográfico\, Tonidandel também compartilha sua paixão por ajudar e empoderar comunidades ao redor do mundo. Durante suas viagens\, ela se envolveu em atividades voluntárias\, desde o centro de recuperação de ursos em Borneo até aulas de inglês para crianças em orfanatos no Nepal. \nA abertura da exposição está marcada para o dia 15 de março\, às 18h\, na Galeria Carlinhos Rodrigues\, localizada na Confeitaria Maomé\, na Rua Vicente da Fontoura\, 1857. A entrada é gratuita e a mostra estará aberta ao público de 15 de março a 16 de abril\, de segunda a domingo\, das 8h às 20h. \nVenha se encantar com as imagens cativantes de “Vida Sem Grades” e mergulhe na maravilha e na magia da natureza capturada pela sensibilidade de Iara Tonidandel. \nPara mais informações\, entre em contato por meio do site ClickIara ou Instagram. \n\n\n\n\n\n\n\n\nDetalhes da Exposição: \n\nNome: Vida Sem Grades \nFotógrafa: Iara Tonidandel \nConcepção e Expografia: Iara Tonidandel \nLocal: Galeria Carlinhos Rodrigues\, na Confeitaria Maomé \nEndereço: Rua Vicente da Fontoura\, 1857 – Porto Alegre \nAbertura da Exposição: 15 de março\, às 18h \nPeríodo de Visitação: De 15 de março a 16 de abril \nHorário de Funcionamento: Segunda a domingo\, das 8h às 20h \nEntrada: Gratuita\n\n\nSobre a Galeria Carlinhos Rodrigues: A Galeria Carlinhos Rodrigues\, localizada na Confeitaria Maomé em Porto Alegre\, é um espaço dedicado à exposição de obras fotográficas\, inaugurado em 14 de julho. Sob a curadoria do renomado fotógrafo Carlinhos Rodrigues\, a galeria tem como objetivo promover e celebrar a arte da fotografia\, apresentando o trabalho de talentosos fotógrafos locais e internacionais. \nTexto de Iara Tonidandel:\n\nVIDA SEM GRADES\nNa infância animais pequenos e grandes moravam na minha casa.\nAlguns de estimação\, outros para enfeitar o almoço de domingo.\nA toalha da mesa\, nesse dia\, recebia sal dos pratos e do meu pranto.\nEntão\nDe vez em quando eu abria portas e soltava correntes.\nOs pequenos e grandes bichos desapareciam pela montanha.\nOs dias de castigo eram riscados em calendário pendurado na parede.\n(trecho da poesia O Marcador\, de autoria de Iara Tonidandel)\n…\nAlguns acontecimentos da nossa infância\, tornam-se marcantes em nossa vida adulta\, especialmente quando somos artistas. O fato do pai da Iara Tonidandel apreciar fotografia e ela desde pequena ter acesso a uma câmera fotográfica acabou desenvolvendo nela\, anos mais tarde\, já fotógrafa\, o prazer de registrar a natureza. Desde a mais tenra idade já demonstrava seu amor e carinho pelos animais. Com o tempo e as circunstâncias\, foram criadas condições para que ela produzisse uma obra consistente por meio de viagens em quatro continentes: americano\, africano\, asiático e oceânico. As obras de Iara Tonidandel\, expostas na amostra — Vida Sem Grades\, são resultantes de seu trabalho fotográfico realizado no período de sete anos em incursões por vários espaços que buscam preservar a continuidade de espécies da fauna que compõem a natureza desse planeta. Na fotografia é dito que essas imagens são de fotógrafos que documentam vida selvagem. Iara declara que sua fotografa não se limita a esse conceito\, pois ela fotografa liberdade.\nNessas viagens ela associa trabalho voluntário como em Borneo/ Malásia no centro de recuperação de ursos ou na Namíbia e África do Sul em parques de reabilitação de grandes felinos com aulas de inglês básico para jovens budistas\, empoderamento feminino no Siri Lanka e Tailândia ou inglês básico para crianças de orfanatos no Nepal\, Kenya e Tanzânia.\nVida sem Grades é uma mostra que nos apresenta a força\, a beleza da natureza em liberdade conduzidas pela sensibilidade\, cuidado e ternura dessa artista que é Iara Tonidandel. \n“O meu ato de fotografar é determinado pelo encantamento com a vida\, a beleza\, a energia. Pelo movimento que traduz o estar vivo\, em pleno estado de mutação. Fotografo quando sinto meu olhar ser inundado por uma emoção que\, muitas vezes\, faz meu coração disparar. Fotografo liberdade.” (Iara Tonidandel)
URL:https://fotoclubepoa.com.br/evento/exposicao-vida-sem-grades-iara-tonidandel-galeria-carlinhos-rodrigues-abertura/
LOCATION:Confeitaria Maomé\, Rua Vicente da Fontoura\, 1857\, Porto Alegre\, Rio Grande do Sul\, Brasil
CATEGORIES:Exposições
ATTACH;FMTTYPE=image/png:https://fotoclubepoa.com.br/wp-content/uploads/2024/03/CARD-EXPOSICAOIara.png
END:VEVENT
BEGIN:VEVENT
DTSTART;TZID=America/Sao_Paulo:20240316T080000
DTEND;TZID=America/Sao_Paulo:20240416T200000
DTSTAMP:20260425T115825
CREATED:20240312T233247Z
LAST-MODIFIED:20240312T233247Z
UID:5813-1710576000-1713297600@fotoclubepoa.com.br
SUMMARY:[Exposição] Vida sem grades\, Iara Tonidandel\, Galeria Carlinhos Rodrigues VISITAÇÃO
DESCRIPTION:Exposição “Vida Sem Grades” Revela a Beleza da Natureza Por Meio das Lentes de Iara Tonidandel \nA Galeria Carlinhos Rodrigues\, situada dentro da tradicional Confeitaria Maomé\, tem a honra de apresentar a mais recente exposição fotográfica intitulada “Vida Sem Grades“\, da talentosa fotógrafa e fotoclubista Iara Tonidandel. \nEsta exposição oferece uma jornada visual através da beleza e da diversidade da natureza em sua forma mais pura. Por meio das habilidosas lentes de Tonidandel\, os visitantes serão transportados para os mais remotos cantos do mundo\, onde a vida selvagem vive em seu habitat natural\, sem amarras ou limitações. \n“Vida Sem Grades” não é apenas uma coleção de fotografias impressionantes\, mas uma declaração de amor e comprometimento com a preservação da fauna e flora deste planeta. Ao longo de sete anos de incursões por quatro continentes\, Iara Tonidandel capturou momentos únicos e preciosos\, destacando a beleza e a importância da vida selvagem em liberdade. \nAlém de seu trabalho fotográfico\, Tonidandel também compartilha sua paixão por ajudar e empoderar comunidades ao redor do mundo. Durante suas viagens\, ela se envolveu em atividades voluntárias\, desde o centro de recuperação de ursos em Borneo até aulas de inglês para crianças em orfanatos no Nepal. \nA abertura da exposição está marcada para o dia 15 de março\, às 18h\, na Galeria Carlinhos Rodrigues\, localizada na Confeitaria Maomé\, na Rua Vicente da Fontoura\, 1857. A entrada é gratuita e a mostra estará aberta ao público de 15 de março a 16 de abril\, de segunda a domingo\, das 8h às 20h. \nVenha se encantar com as imagens cativantes de “Vida Sem Grades” e mergulhe na maravilha e na magia da natureza capturada pela sensibilidade de Iara Tonidandel. \nPara mais informações\, entre em contato por meio do site ClickIara ou Instagram. \n\n\n\n\n\n\n\n\nDetalhes da Exposição: \n\nNome: Vida Sem Grades \nFotógrafa: Iara Tonidandel \nConcepção e Expografia: Iara Tonidandel \nLocal: Galeria Carlinhos Rodrigues\, na Confeitaria Maomé \nEndereço: Rua Vicente da Fontoura\, 1857 – Porto Alegre \nAbertura da Exposição: 15 de março\, às 18h \nPeríodo de Visitação: De 15 de março a 16 de abril \nHorário de Funcionamento: Segunda a domingo\, das 8h às 20h \nEntrada: Gratuita\n\n\nSobre a Galeria Carlinhos Rodrigues: A Galeria Carlinhos Rodrigues\, localizada na Confeitaria Maomé em Porto Alegre\, é um espaço dedicado à exposição de obras fotográficas\, inaugurado em 14 de julho. Sob a curadoria do renomado fotógrafo Carlinhos Rodrigues\, a galeria tem como objetivo promover e celebrar a arte da fotografia\, apresentando o trabalho de talentosos fotógrafos locais e internacionais. \nTexto de Iara Tonidandel:\n\nVIDA SEM GRADES\nNa infância animais pequenos e grandes moravam na minha casa.\nAlguns de estimação\, outros para enfeitar o almoço de domingo.\nA toalha da mesa\, nesse dia\, recebia sal dos pratos e do meu pranto.\nEntão\nDe vez em quando eu abria portas e soltava correntes.\nOs pequenos e grandes bichos desapareciam pela montanha.\nOs dias de castigo eram riscados em calendário pendurado na parede.\n(trecho da poesia O Marcador\, de autoria de Iara Tonidandel)\n…\nAlguns acontecimentos da nossa infância\, tornam-se marcantes em nossa vida adulta\, especialmente quando somos artistas. O fato do pai da Iara Tonidandel apreciar fotografia e ela desde pequena ter acesso a uma câmera fotográfica acabou desenvolvendo nela\, anos mais tarde\, já fotógrafa\, o prazer de registrar a natureza. Desde a mais tenra idade já demonstrava seu amor e carinho pelos animais. Com o tempo e as circunstâncias\, foram criadas condições para que ela produzisse uma obra consistente por meio de viagens em quatro continentes: americano\, africano\, asiático e oceânico. As obras de Iara Tonidandel\, expostas na amostra — Vida Sem Grades\, são resultantes de seu trabalho fotográfico realizado no período de sete anos em incursões por vários espaços que buscam preservar a continuidade de espécies da fauna que compõem a natureza desse planeta. Na fotografia é dito que essas imagens são de fotógrafos que documentam vida selvagem. Iara declara que sua fotografa não se limita a esse conceito\, pois ela fotografa liberdade.\nNessas viagens ela associa trabalho voluntário como em Borneo/ Malásia no centro de recuperação de ursos ou na Namíbia e África do Sul em parques de reabilitação de grandes felinos com aulas de inglês básico para jovens budistas\, empoderamento feminino no Siri Lanka e Tailândia ou inglês básico para crianças de orfanatos no Nepal\, Kenya e Tanzânia.\nVida sem Grades é uma mostra que nos apresenta a força\, a beleza da natureza em liberdade conduzidas pela sensibilidade\, cuidado e ternura dessa artista que é Iara Tonidandel. \n“O meu ato de fotografar é determinado pelo encantamento com a vida\, a beleza\, a energia. Pelo movimento que traduz o estar vivo\, em pleno estado de mutação. Fotografo quando sinto meu olhar ser inundado por uma emoção que\, muitas vezes\, faz meu coração disparar. Fotografo liberdade.” (Iara Tonidandel)
URL:https://fotoclubepoa.com.br/evento/exposicao-vida-sem-grades-iara-tonidandel-galeria-carlinhos-rodrigues-visitacao/
LOCATION:Confeitaria Maomé\, Rua Vicente da Fontoura\, 1857\, Porto Alegre\, Rio Grande do Sul\, Brasil
CATEGORIES:Exposições
ATTACH;FMTTYPE=image/png:https://fotoclubepoa.com.br/wp-content/uploads/2024/03/CARD-EXPOSICAOIara.png
END:VEVENT
BEGIN:VEVENT
DTSTART;TZID=America/Sao_Paulo:20240316T080000
DTEND;TZID=America/Sao_Paulo:20240618T200000
DTSTAMP:20260425T115825
CREATED:20240311T224445Z
LAST-MODIFIED:20240617T210828Z
UID:5790-1710576000-1718740800@fotoclubepoa.com.br
SUMMARY:[Exposição] Um instante\, uma imagem\, Nely Alves\, Galeria Carlinhos Rodrigues VISITAÇÃO
DESCRIPTION:Convite para Exposição “Um Instante – Uma Imagem” \nEm um mundo onde as distâncias se encurtam por meio dos olhares e das pausas\, a proximidade se revela em cada imagem capturada. A fotografia\, protagonista de histórias\, assume o papel de guardiã mágica das memórias\, transcende lugares e o tempo\, encontrando-se imersa em cada um de nós. \nNely Alves\, fotógrafa cujo olhar curioso e em constante movimento desvenda panoramas repletos de segredos prontos para serem descobertos\, apresenta sua exposição: “Um Instante – Uma Imagem“. Nesta jornada visual\, os momentos significativos\, a arte\, a beleza\, a vida urbana e bucólica\, as estações do ano\, a viagem e a experimentação se unem em um caleidoscópio de cores e formas que impactam e emocionam. \nSob a concepção e expografia de Alexandre Eckert\, esta exposição convida você a explorar a energia e a paixão que permeiam cada cena. \nDetalhes da Exposição: \n\nNome: Um Instante – Uma Imagem\nFotógrafa: Nely Alves\nConcepção e Expografia: Alexandre Eckert\nAbertura da Exposição: 15 de março\, às 18h\nLocal: Galeria Carlinhos Rodrigues\nEndereço: Confeitaria Maomé\, Rua Vicente da Fontoura\, 1857 – Porto Alegre\nPeríodo de Visitação: De 15 de março a 14 de maio\nHorário de Funcionamento: Segunda a domingo\, das 8h às 20h
URL:https://fotoclubepoa.com.br/evento/exposicao-um-instante-uma-imagem-nely-alves-galeria-carlinhos-rodrigues-visitacao/
LOCATION:Confeitaria Maomé\, Rua Vicente da Fontoura\, 1857\, Porto Alegre\, Rio Grande do Sul\, Brasil
CATEGORIES:Exposições
ATTACH;FMTTYPE=image/jpeg:https://fotoclubepoa.com.br/wp-content/uploads/2024/01/WhatsApp-Image-2024-03-11-at-13.23.07.jpeg
END:VEVENT
END:VCALENDAR