BEGIN:VCALENDAR
VERSION:2.0
PRODID:-//Fotoclube Porto-alegrense - ECPv6.15.20//NONSGML v1.0//EN
CALSCALE:GREGORIAN
METHOD:PUBLISH
X-ORIGINAL-URL:https://fotoclubepoa.com.br
X-WR-CALDESC:Eventos para Fotoclube Porto-alegrense
REFRESH-INTERVAL;VALUE=DURATION:PT1H
X-Robots-Tag:noindex
X-PUBLISHED-TTL:PT1H
BEGIN:VTIMEZONE
TZID:America/Sao_Paulo
BEGIN:STANDARD
TZOFFSETFROM:-0300
TZOFFSETTO:-0300
TZNAME:-03
DTSTART:20240101T000000
END:STANDARD
END:VTIMEZONE
BEGIN:VEVENT
DTSTART;VALUE=DATE:20250901
DTEND;VALUE=DATE:20250924
DTSTAMP:20260424T035658
CREATED:20250913T121329Z
LAST-MODIFIED:20250913T124433Z
UID:7603-1756684800-1758671999@fotoclubepoa.com.br
SUMMARY:[Curso] Fotografia\, uma história de desejos\, por Fernando Schmitt [INSCRIÇÕES ABERTAS]
DESCRIPTION:Curso Online – Fotografia\, uma história de desejos\nProfessor: Fernando Schmitt (fotoclubista) \n📅 Datas: 24/09\, 25/09\, 02/10 e 03/10\n⏰ Horário: das 19h às 21h\n💻 Formato: 100% online\n🎓 Carga horária: 8h/aula\n👥 Número de vagas: 30\n💰 Investimento: R$ 300\,00 (público em geral) | R$ 225\,00 (fotoclubistas ativos do FCPOA e de outros fotoclubes brasileiros)\n✍️ Inscrições:  (51) 99785 4575\, com o Professor. \n\nSobre o curso\nAbrindo a agenda de formações do Fotoclube Porto-alegrense em 2025\, o curso Fotografia\, uma história de desejos propõe um olhar original sobre a trajetória da fotografia. Com a condução de Fernando Schmitt\, a narrativa não segue uma linha cronológica tradicional\, mas se organiza em torno dos desejos que atravessam o fazer fotográfico ao longo da história. \nAo longo de quatro encontros\, vamos discutir: \n\nO nascimento e a materialidade da imagem fotográfica;\nA fotografia no espaço doméstico\, dos álbuns às selfies;\nA potência transformadora do fotojornalismo e da fotografia documental;\nO diálogo entre imaginação\, técnica e inteligência artificial.\n\nMais do que revisitar fatos históricos\, este curso é um convite a ampliar o repertório visual e crítico\, reconhecendo a fotografia como prática social\, criativa e transformadora. \n\nBenefício exclusivo para fotoclubistas\n💡 Cash-back de R$ 60\,00: associado ativo do FCPOA pode solicitar este benefício (válido uma única vez em 2025). Para utilizar\, basta seguir as regras definidas no informativo oficial do Fotoclube\, comunicar a escolha do curso ao professor e enviar e-mail para fotoclubeportoalegrense@gmail.com indicando o uso do cash-back. \n\nOutros cursos da programação 2025\n📌 Este é apenas o primeiro curso da série. Ainda neste ano\, teremos também: \n     Saiba mais aqui\, sobre o Curso de Gerson Turelly. \n     Saiba mais aqui\, sobre o Curso de Rogério Amaral Ribeiro. \n\n#fotoclubeportoalegrense #fotoclubepoa #fcpoa #fotoclube #fotografia #cursoonline #historiadafotografia #aprendizagemfotografica
URL:https://fotoclubepoa.com.br/evento/curso-2025-fernando/
CATEGORIES:Cursos
ATTACH;FMTTYPE=image/jpeg:https://fotoclubepoa.com.br/wp-content/uploads/2025/09/UmaHistoriadeDesejos1.jpg
END:VEVENT
BEGIN:VEVENT
DTSTART;TZID=America/Sao_Paulo:20250930T170000
DTEND;TZID=America/Sao_Paulo:20250930T210000
DTSTAMP:20260424T035658
CREATED:20250925T163958Z
LAST-MODIFIED:20250925T163958Z
UID:7709-1759251600-1759266000@fotoclubepoa.com.br
SUMMARY:[Exposição] PROJETO POTÊNCIA\, 55 70 25\, por Nega Ângela\, Fundação Ecarta ABERTURA
DESCRIPTION:Abertura de Exposição – Nega Ângela na Fundação Ecarta\nA fotoclubista Nega Ângela (Angela Cristina Ribeiro dos Santos) convida para a abertura de sua exposição 55 70 25\, projeto selecionado para o Programa Potência 2025 da Fundação Ecarta. O trabalho tem curadoria de Fernando Schmitt e apresenta sua força poética através da fotografia\, marcada pelo olhar atento ao cotidiano\, pela simplicidade técnica e pela potência expressiva que atravessa sua trajetória artística iniciada em 2017. \nNega Ângela vem consolidando seu espaço na fotografia contemporânea do Rio Grande do Sul\, com exposições no Brasil e no exterior. Sua participação no Projeto Potência reafirma o compromisso da artista em dar visibilidade a vozes diversas e à arte que nasce da experiência vivida. \nProgramação da abertura\n📅 Abertura: 30 de setembro de 2025⏰ 17h – conversa entre artistas\, curadores e público🥂 19h às 21h – coquetel de inauguração📍 Local: Fundação Ecarta – Galeria de Arte (Av. João Pessoa\, 943 – Porto Alegre/RS)🖼 Visitação: de 1º de outubro a 10 de novembro de 2025⏰ Horários: terças a domingos\, das 10h às 18h \nExposições em cartaz\n\n\nARTISTA+ARTISTA: CORPOEFÊMERO: Qual a terra da Arte?\, de Jotape Pax e Ubiratan Fernandes (curadoria de Mona Carvalho). \n\n\nPROJETO POTÊNCIA: 55 70 25\, de Nega Ângela (curadoria de Fernando Schmitt). \n\n\nPROFESSOR ARTISTA/ARTISTA PROFESSOR: Ana Aita\, artista e arte-educadora. \n\n\nTodas as propostas dialogam com a poética do corpo\, explorando diferentes linguagens – pintura\, escultura e fotografia – e criando interlocuções entre obras e trajetórias. \n\n✨ Convido você para a abertura das novas exposições na galeria de arte da Fundação Ecarta (Av. João Pessoa\, 943)\, no dia 30 de setembro\, a partir das 17h. Haverá uma conversa entre artistas\, curadores e público\, explorando as poéticas do corpo e as interlocuções entre as obras e as trajetórias artísticas. Das 19h às 21h\, teremos o coquetel de inauguração dos seguintes programas expositivos: ARTISTA+ARTISTA apresenta “CORPOEFÊMERO: Qual a terra da Arte?”\, de Jotape Pax e Ubiratan Fernandes\, curadoria de Mona Carvalho; PROJETO POTÊNCIA apresenta 55 70 25\, de Nega Angela\, curadoria de Fernando Schmitt; PROFESSOR ARTISTA/ARTISTA PROFESSOR apresenta o trabalho da artista e arte-educadora Ana Aita; todos abordando diferentes leituras da poética do corpo através da pintura\, da escultura e da fotografia. Venha celebrar a abertura desses caminhos criativos\, onde diferentes linguagens se encontram para revelar o corpo e o tempo que o habita. \n\n#NegaAngela #55_70_25 #FundaçãoEcarta #ProjetoPotência #ArteContemporânea #FotografiaContemporânea #PoéticaDoCorpo #ExposiçãoFotográfica #CulturaRS #PortoAlegre #ArteFotográfica #ExposiçãoDeArte #FotografiaBrasileira #ArtistaVisual #FotoclubePortoAlegrense #fotoclubepoa #FCPOA #fotoclubepoa
URL:https://fotoclubepoa.com.br/evento/exposicao-nega-angela-fundacao-ecarta/
CATEGORIES:Exposições
ATTACH;FMTTYPE=image/jpeg:https://fotoclubepoa.com.br/wp-content/uploads/2025/09/IMG-20250923-WA0026-scaled.jpg
END:VEVENT
END:VCALENDAR