BEGIN:VCALENDAR
VERSION:2.0
PRODID:-//Fotoclube Porto-alegrense - ECPv6.15.20//NONSGML v1.0//EN
CALSCALE:GREGORIAN
METHOD:PUBLISH
X-ORIGINAL-URL:https://fotoclubepoa.com.br
X-WR-CALDESC:Eventos para Fotoclube Porto-alegrense
REFRESH-INTERVAL;VALUE=DURATION:PT1H
X-Robots-Tag:noindex
X-PUBLISHED-TTL:PT1H
BEGIN:VTIMEZONE
TZID:America/Sao_Paulo
BEGIN:STANDARD
TZOFFSETFROM:-0300
TZOFFSETTO:-0300
TZNAME:-03
DTSTART:20240101T000000
END:STANDARD
END:VTIMEZONE
BEGIN:VEVENT
DTSTART;TZID=America/Sao_Paulo:20251001T100000
DTEND;TZID=America/Sao_Paulo:20251110T180000
DTSTAMP:20260424T035836
CREATED:20250925T164208Z
LAST-MODIFIED:20251011T201907Z
UID:7713-1759312800-1762797600@fotoclubepoa.com.br
SUMMARY:[Exposição] PROJETO POTÊNCIA\, 55 70 25\, por Nega Ângela\, Fundação Ecarta VISITAÇÃO
DESCRIPTION:Abertura de Exposição – Nega Ângela na Fundação Ecarta\nA fotoclubista Nega Ângela (Angela Cristina Ribeiro dos Santos) convida para a abertura de sua exposição 55 70 25\, projeto selecionado para o Programa Potência 2025 da Fundação Ecarta. O trabalho tem curadoria de Fernando Schmitt e apresenta sua força poética através da fotografia\, marcada pelo olhar atento ao cotidiano\, pela simplicidade técnica e pela potência expressiva que atravessa sua trajetória artística iniciada em 2017. \nNega Ângela vem consolidando seu espaço na fotografia contemporânea do Rio Grande do Sul\, com exposições no Brasil e no exterior. Sua participação no Projeto Potência reafirma o compromisso da artista em dar visibilidade a vozes diversas e à arte que nasce da experiência vivida. \nProgramação da abertura\n📅 Abertura: 30 de setembro de 2025⏰ 17h – conversa entre artistas\, curadores e público🥂 19h às 21h – coquetel de inauguração📍 Local: Fundação Ecarta – Galeria de Arte (Av. João Pessoa\, 943 – Porto Alegre/RS)🖼 Visitação: de 1º de outubro a 10 de novembro de 2025⏰ Horários: terças a domingos\, das 10h às 18h \nExposições em cartaz\n\n\nARTISTA+ARTISTA: CORPOEFÊMERO: Qual a terra da Arte?\, de Jotape Pax e Ubiratan Fernandes (curadoria de Mona Carvalho). \n\n\nPROJETO POTÊNCIA: 55 70 25\, de Nega Ângela (curadoria de Fernando Schmitt). \n\n\nPROFESSOR ARTISTA/ARTISTA PROFESSOR: Ana Aita\, artista e arte-educadora. \n\n\nTodas as propostas dialogam com a poética do corpo\, explorando diferentes linguagens – pintura\, escultura e fotografia – e criando interlocuções entre obras e trajetórias. \n\n✨ Convido você para a abertura das novas exposições na galeria de arte da Fundação Ecarta (Av. João Pessoa\, 943)\, no dia 30 de setembro\, a partir das 17h. Haverá uma conversa entre artistas\, curadores e público\, explorando as poéticas do corpo e as interlocuções entre as obras e as trajetórias artísticas. Das 19h às 21h\, teremos o coquetel de inauguração dos seguintes programas expositivos: ARTISTA+ARTISTA apresenta “CORPOEFÊMERO: Qual a terra da Arte?”\, de Jotape Pax e Ubiratan Fernandes\, curadoria de Mona Carvalho; PROJETO POTÊNCIA apresenta 55 70 25\, de Nega Angela\, curadoria de Fernando Schmitt; PROFESSOR ARTISTA/ARTISTA PROFESSOR apresenta o trabalho da artista e arte-educadora Ana Aita; todos abordando diferentes leituras da poética do corpo através da pintura\, da escultura e da fotografia. Venha celebrar a abertura desses caminhos criativos\, onde diferentes linguagens se encontram para revelar o corpo e o tempo que o habita. \n\nSite da Nega Ângela. \n#NegaAngela #55_70_25 #FundaçãoEcarta #ProjetoPotência #ArteContemporânea #FotografiaContemporânea #PoéticaDoCorpo #ExposiçãoFotográfica #CulturaRS #PortoAlegre #ArteFotográfica #ExposiçãoDeArte #FotografiaBrasileira #ArtistaVisual #FotoclubePortoAlegrense #fotoclubepoa #FCPOA #fotoclubepoa
URL:https://fotoclubepoa.com.br/evento/exposicao-projeto-potencia-55-70-25-por-nega-angela-fundacao-ecarta-visitacao/
CATEGORIES:Exposições
ATTACH;FMTTYPE=image/jpeg:https://fotoclubepoa.com.br/wp-content/uploads/2025/09/IMG-20250923-WA0026-scaled.jpg
END:VEVENT
BEGIN:VEVENT
DTSTART;TZID=America/Sao_Paulo:20251004T100000
DTEND;TZID=America/Sao_Paulo:20251004T150000
DTSTAMP:20260424T035836
CREATED:20251003T205036Z
LAST-MODIFIED:20251003T213128Z
UID:7733-1759572000-1759590000@fotoclubepoa.com.br
SUMMARY:[Exposição] PROJETO POTÊNCIA\, 55 70 25\, por Nega Ângela\, Fundação Ecarta VISITA GUIADA
DESCRIPTION:Visita Guiada – Nega Ângela na Fundação Ecarta\nA fotoclubista Nega Ângela (Angela Cristina Ribeiro dos Santos) abriu sua exposição 55 70 25\, projeto selecionado para o Programa Potência 2025 da Fundação Ecarta. O trabalho tem curadoria de Fernando Schmitt e apresenta sua força poética através da fotografia\, marcada pelo olhar atento ao cotidiano\, pela simplicidade técnica e pela potência expressiva que atravessa sua trajetória artística iniciada em 2017. \nNega Ângela vem consolidando seu espaço na fotografia contemporânea do Rio Grande do Sul\, com exposições no Brasil e no exterior. Sua participação no Projeto Potência reafirma o compromisso da artista em dar visibilidade a vozes diversas e à arte que nasce da experiência vivida. \nConvite\n\n📅 Sábados: até 02/11/2025\n⏰ 10h às 15h – Visita Guiada\n📍 Local: Fundação Ecarta – Galeria de Arte (Av. João Pessoa\, 943 – Porto Alegre/RS)\n🖼 Visitação da Exposição: de 1º de outubro a 10 de novembro de 2025\n⏰ Horários: terças a domingos\, das 10h às 18h\n\nExposições em cartaz no mesmo período\n\n\nARTISTA+ARTISTA: CORPOEFÊMERO: Qual a terra da Arte?\, de Jotape Pax e Ubiratan Fernandes (curadoria de Mona Carvalho). \n\n\nPROJETO POTÊNCIA: 55 70 25\, de Nega Ângela (curadoria de Fernando Schmitt). \n\n\nPROFESSOR ARTISTA/ARTISTA PROFESSOR: Ana Aita\, artista e arte-educadora. \n\n\nTodas as propostas dialogam com a poética do corpo\, explorando diferentes linguagens – pintura\, escultura e fotografia – e criando interlocuções entre obras e trajetórias. \n#NegaAngela #55_70_25 #FundaçãoEcarta #ProjetoPotência #ArteContemporânea #FotografiaContemporânea #PoéticaDoCorpo #ExposiçãoFotográfica #CulturaRS #PortoAlegre #ArteFotográfica #ExposiçãoDeArte #FotografiaBrasileira #ArtistaVisual #FotoclubePortoAlegrense #fotoclubepoa #FCPOA #fotoclubepoa
URL:https://fotoclubepoa.com.br/evento/exposicao-projeto-potencia-55-70-25-por-nega-angela-fundacao-ecarta-visita-guiada-1/
CATEGORIES:Exposições
ATTACH;FMTTYPE=image/png:https://fotoclubepoa.com.br/wp-content/uploads/2025/10/AGENDA-CULTURAL-2024-2025-9.png
END:VEVENT
BEGIN:VEVENT
DTSTART;TZID=America/Sao_Paulo:20251011T100000
DTEND;TZID=America/Sao_Paulo:20251011T150000
DTSTAMP:20260424T035836
CREATED:20251003T205135Z
LAST-MODIFIED:20251003T212952Z
UID:7736-1760176800-1760194800@fotoclubepoa.com.br
SUMMARY:[Exposição] PROJETO POTÊNCIA\, 55 70 25\, por Nega Ângela\, Fundação Ecarta VISITA GUIADA
DESCRIPTION:Visita Guiada – Nega Ângela na Fundação Ecarta\nA fotoclubista Nega Ângela (Angela Cristina Ribeiro dos Santos) abriu sua exposição 55 70 25\, projeto selecionado para o Programa Potência 2025 da Fundação Ecarta. O trabalho tem curadoria de Fernando Schmitt e apresenta sua força poética através da fotografia\, marcada pelo olhar atento ao cotidiano\, pela simplicidade técnica e pela potência expressiva que atravessa sua trajetória artística iniciada em 2017. \nNega Ângela vem consolidando seu espaço na fotografia contemporânea do Rio Grande do Sul\, com exposições no Brasil e no exterior. Sua participação no Projeto Potência reafirma o compromisso da artista em dar visibilidade a vozes diversas e à arte que nasce da experiência vivida. \nConvite\n\n📅 Sábados: até 02/11/2025\n⏰ 10h às 15h – Visita Guiada\n📍 Local: Fundação Ecarta – Galeria de Arte (Av. João Pessoa\, 943 – Porto Alegre/RS)\n🖼 Visitação da Exposição: de 1º de outubro a 10 de novembro de 2025\n⏰ Horários: terças a domingos\, das 10h às 18h\n\nExposições em cartaz no mesmo período\n\n\nARTISTA+ARTISTA: CORPOEFÊMERO: Qual a terra da Arte?\, de Jotape Pax e Ubiratan Fernandes (curadoria de Mona Carvalho). \n\n\nPROJETO POTÊNCIA: 55 70 25\, de Nega Ângela (curadoria de Fernando Schmitt). \n\n\nPROFESSOR ARTISTA/ARTISTA PROFESSOR: Ana Aita\, artista e arte-educadora. \n\n\nTodas as propostas dialogam com a poética do corpo\, explorando diferentes linguagens – pintura\, escultura e fotografia – e criando interlocuções entre obras e trajetórias. \n#NegaAngela #55_70_25 #FundaçãoEcarta #ProjetoPotência #ArteContemporânea #FotografiaContemporânea #PoéticaDoCorpo #ExposiçãoFotográfica #CulturaRS #PortoAlegre #ArteFotográfica #ExposiçãoDeArte #FotografiaBrasileira #ArtistaVisual #FotoclubePortoAlegrense #fotoclubepoa #FCPOA #fotoclubepoa
URL:https://fotoclubepoa.com.br/evento/exposicao-projeto-potencia-55-70-25-por-nega-angela-fundacao-ecarta-visita-guiada-2/
CATEGORIES:Exposições
ATTACH;FMTTYPE=image/png:https://fotoclubepoa.com.br/wp-content/uploads/2025/10/AGENDA-CULTURAL-2024-2025-9.png
END:VEVENT
BEGIN:VEVENT
DTSTART;TZID=America/Sao_Paulo:20251018T100000
DTEND;TZID=America/Sao_Paulo:20251018T150000
DTSTAMP:20260424T035836
CREATED:20251003T205226Z
LAST-MODIFIED:20251011T201946Z
UID:7738-1760781600-1760799600@fotoclubepoa.com.br
SUMMARY:[Exposição] PROJETO POTÊNCIA\, 55 70 25\, por Nega Ângela\, Fundação Ecarta VISITA GUIADA
DESCRIPTION:Visita Guiada – Nega Ângela na Fundação Ecarta\nA fotoclubista Nega Ângela (Angela Cristina Ribeiro dos Santos) abriu sua exposição 55 70 25\, projeto selecionado para o Programa Potência 2025 da Fundação Ecarta. O trabalho tem curadoria de Fernando Schmitt e apresenta sua força poética através da fotografia\, marcada pelo olhar atento ao cotidiano\, pela simplicidade técnica e pela potência expressiva que atravessa sua trajetória artística iniciada em 2017. \nNega Ângela vem consolidando seu espaço na fotografia contemporânea do Rio Grande do Sul\, com exposições no Brasil e no exterior. Sua participação no Projeto Potência reafirma o compromisso da artista em dar visibilidade a vozes diversas e à arte que nasce da experiência vivida. \nConvite\n\n📅 Sábados: até 02/11/2025\n⏰ 10h às 15h – Visita Guiada\n📍 Local: Fundação Ecarta – Galeria de Arte (Av. João Pessoa\, 943 – Porto Alegre/RS)\n🖼 Visitação da Exposição: de 1º de outubro a 10 de novembro de 2025\n⏰ Horários: terças a domingos\, das 10h às 18h\n\nExposições em cartaz no mesmo período\n\n\nARTISTA+ARTISTA: CORPOEFÊMERO: Qual a terra da Arte?\, de Jotape Pax e Ubiratan Fernandes (curadoria de Mona Carvalho). \n\n\nPROJETO POTÊNCIA: 55 70 25\, de Nega Ângela (curadoria de Fernando Schmitt). Site da Nega Ângela. \n\n\nPROFESSOR ARTISTA/ARTISTA PROFESSOR: Ana Aita\, artista e arte-educadora. \n\n\nTodas as propostas dialogam com a poética do corpo\, explorando diferentes linguagens – pintura\, escultura e fotografia – e criando interlocuções entre obras e trajetórias. \n#NegaAngela #55_70_25 #FundaçãoEcarta #ProjetoPotência #ArteContemporânea #FotografiaContemporânea #PoéticaDoCorpo #ExposiçãoFotográfica #CulturaRS #PortoAlegre #ArteFotográfica #ExposiçãoDeArte #FotografiaBrasileira #ArtistaVisual #FotoclubePortoAlegrense #fotoclubepoa #FCPOA #fotoclubepoa
URL:https://fotoclubepoa.com.br/evento/exposicao-projeto-potencia-55-70-25-por-nega-angela-fundacao-ecarta-visita-guiada-3/
CATEGORIES:Exposições
ATTACH;FMTTYPE=image/png:https://fotoclubepoa.com.br/wp-content/uploads/2025/10/AGENDA-CULTURAL-2024-2025-9.png
END:VEVENT
BEGIN:VEVENT
DTSTART;TZID=America/Sao_Paulo:20251025T100000
DTEND;TZID=America/Sao_Paulo:20251025T150000
DTSTAMP:20260424T035836
CREATED:20251003T205323Z
LAST-MODIFIED:20251003T213234Z
UID:7740-1761386400-1761404400@fotoclubepoa.com.br
SUMMARY:[Exposição] PROJETO POTÊNCIA\, 55 70 25\, por Nega Ângela\, Fundação Ecarta VISITA GUIADA
DESCRIPTION:Visita Guiada – Nega Ângela na Fundação Ecarta\nA fotoclubista Nega Ângela (Angela Cristina Ribeiro dos Santos) abriu sua exposição 55 70 25\, projeto selecionado para o Programa Potência 2025 da Fundação Ecarta. O trabalho tem curadoria de Fernando Schmitt e apresenta sua força poética através da fotografia\, marcada pelo olhar atento ao cotidiano\, pela simplicidade técnica e pela potência expressiva que atravessa sua trajetória artística iniciada em 2017. \nNega Ângela vem consolidando seu espaço na fotografia contemporânea do Rio Grande do Sul\, com exposições no Brasil e no exterior. Sua participação no Projeto Potência reafirma o compromisso da artista em dar visibilidade a vozes diversas e à arte que nasce da experiência vivida. \nConvite\n\n📅 Sábados: até 02/11/2025\n⏰ 10h às 15h – Visita Guiada\n📍 Local: Fundação Ecarta – Galeria de Arte (Av. João Pessoa\, 943 – Porto Alegre/RS)\n🖼 Visitação da Exposição: de 1º de outubro a 10 de novembro de 2025\n⏰ Horários: terças a domingos\, das 10h às 18h\n\nExposições em cartaz no mesmo período\n\n\nARTISTA+ARTISTA: CORPOEFÊMERO: Qual a terra da Arte?\, de Jotape Pax e Ubiratan Fernandes (curadoria de Mona Carvalho). \n\n\nPROJETO POTÊNCIA: 55 70 25\, de Nega Ângela (curadoria de Fernando Schmitt). \n\n\nPROFESSOR ARTISTA/ARTISTA PROFESSOR: Ana Aita\, artista e arte-educadora. \n\n\nTodas as propostas dialogam com a poética do corpo\, explorando diferentes linguagens – pintura\, escultura e fotografia – e criando interlocuções entre obras e trajetórias. \n#NegaAngela #55_70_25 #FundaçãoEcarta #ProjetoPotência #ArteContemporânea #FotografiaContemporânea #PoéticaDoCorpo #ExposiçãoFotográfica #CulturaRS #PortoAlegre #ArteFotográfica #ExposiçãoDeArte #FotografiaBrasileira #ArtistaVisual #FotoclubePortoAlegrense #fotoclubepoa #FCPOA #fotoclubepoa
URL:https://fotoclubepoa.com.br/evento/exposicao-projeto-potencia-55-70-25-por-nega-angela-fundacao-ecarta-visita-guiada-4/
CATEGORIES:Exposições
ATTACH;FMTTYPE=image/png:https://fotoclubepoa.com.br/wp-content/uploads/2025/10/AGENDA-CULTURAL-2024-2025-9.png
END:VEVENT
END:VCALENDAR