BEGIN:VCALENDAR
VERSION:2.0
PRODID:-//Fotoclube Porto-alegrense - ECPv6.15.20//NONSGML v1.0//EN
CALSCALE:GREGORIAN
METHOD:PUBLISH
X-ORIGINAL-URL:https://fotoclubepoa.com.br
X-WR-CALDESC:Eventos para Fotoclube Porto-alegrense
REFRESH-INTERVAL;VALUE=DURATION:PT1H
X-Robots-Tag:noindex
X-PUBLISHED-TTL:PT1H
BEGIN:VTIMEZONE
TZID:America/Sao_Paulo
BEGIN:STANDARD
TZOFFSETFROM:-0300
TZOFFSETTO:-0300
TZNAME:-03
DTSTART:20240101T000000
END:STANDARD
END:VTIMEZONE
BEGIN:VEVENT
DTSTART;TZID=America/Sao_Paulo:20251116T140000
DTEND;TZID=America/Sao_Paulo:20251116T150000
DTSTAMP:20260424T042819
CREATED:20251010T213506Z
LAST-MODIFIED:20251010T213506Z
UID:7824-1763301600-1763305200@fotoclubepoa.com.br
SUMMARY:[Sessão de Autógrafos] Clayton Mattos participa da 71ª Feira do Livro de Porto Alegre
DESCRIPTION:Clayton Mattos participa da 71ª Feira do Livro de Porto Alegre\n\nO fotoclubista Clayton Fritsche Mattos participará da tradicional Feira do Livro de Porto Alegre\, em uma sessão de autógrafos coletiva da obra Arquivo dos Sentidos – Imagens e Poesias\, publicada pela Editora Alternativa. O livro reúne 31 poetas em uma delicada revisita à luz\, conectando palavra e imagem de forma sensível e inspiradora. \n📅 Data: 16 de novembro🕑 Hora: 14h📍 Local: Praça de Autógrafos Coletivos – Feira do Livro de Porto Alegre \nA Feira do Livro é um dos eventos culturais mais emblemáticos do Rio Grande do Sul\, promovendo o encontro entre leitores\, autores e a cidade. Em sua 71ª edição\, volta a ocupar a Praça da Alfândega\, reafirmando a força da literatura e das expressões artísticas no coração de Porto Alegre. \nVenha prestigiar o talento de nosso associado e celebrar a integração entre poesia\, imagem e fotografia! \n🔗 Conheça mais sobre a Feira do Livro de Porto Alegre \n#FotoclubePortoAlegrense #Fotoclubepoa #fcpoa #fotoclube #feiradolivro
URL:https://fotoclubepoa.com.br/evento/sessao-de-autografos-clayton-mattos-participa-da-71a-feira-do-livro-de-porto-alegre/
CATEGORIES:Evento
ATTACH;FMTTYPE=image/jpeg:https://fotoclubepoa.com.br/wp-content/uploads/2025/10/Clayton-Mattos-FCPOA-Feira-do-Livro.jpg
END:VEVENT
END:VCALENDAR