BEGIN:VCALENDAR
VERSION:2.0
PRODID:-//Fotoclube Porto-alegrense - ECPv6.15.20//NONSGML v1.0//EN
CALSCALE:GREGORIAN
METHOD:PUBLISH
X-ORIGINAL-URL:https://fotoclubepoa.com.br
X-WR-CALDESC:Eventos para Fotoclube Porto-alegrense
REFRESH-INTERVAL;VALUE=DURATION:PT1H
X-Robots-Tag:noindex
X-PUBLISHED-TTL:PT1H
BEGIN:VTIMEZONE
TZID:America/Sao_Paulo
BEGIN:STANDARD
TZOFFSETFROM:-0300
TZOFFSETTO:-0300
TZNAME:-03
DTSTART:20240101T000000
END:STANDARD
END:VTIMEZONE
BEGIN:VEVENT
DTSTART;TZID=America/Sao_Paulo:20251101T190000
DTEND;TZID=America/Sao_Paulo:20251101T200000
DTSTAMP:20260424T014344
CREATED:20251028T175001Z
LAST-MODIFIED:20251028T175108Z
UID:7944-1762023600-1762027200@fotoclubepoa.com.br
SUMMARY:[Exposição] Águas de Maio – Para Nunca Esquecer\, Circuito de Arte Urbana 4º Distrito (2º Edição)
DESCRIPTION:Exposição “Águas de Maio – 2024: Para Jamais Esquecer” ganha instalação permanente no 4º Distrito\n\nDepois de emocionar o público entre abril e maio de 2025 no Nau Live Spaces\, a mostra “Águas de Maio – 2024: Para Jamais Esquecer” será instalada ao ar livre\, passando a integrar o Circuito de Arte Urbana do 4º Distrito – 2º Edição — projeto que nasceu em 2024 e vem transformando o bairro em um espaço de expressão e memória. \nA exposição reúne o olhar sensível de 14 fotógrafos sobre os efeitos da enchente que atingiu Porto Alegre\, entre eles nove fotoclubistas do FCPOA:Ale Freitas\, Andréia Kris\, Cynthia Recuero\, Jorge Lansarin\, Jorge Leão\, Nega Angela\, Nely Alves\, William Clavijo e Roberto Martinez. \nCompletam o grupo os artistas Adriana Felden\, Adroaldo Xavier\, Monica Santiago\, Neusa Turatti e Ricardo Dastis. \nA nova montagem estará localizada na Av. São Paulo\, esquina com a Rua Cairú\, marcando um reencontro simbólico entre cidade\, arte e lembrança.A abertura oficial acontece no dia 1º de novembro\, às 19h\, e promete uma celebração coletiva — que culmina\, depois\, com a Festa de Halloween na região. \nUm convite para brindar juntos o poder da arte em transformar dor em memória e resistência. \n📍 Serviço \n\nEvento: Abertura da exposição “Águas de Maio – 2024: Para Jamais Esquecer”\nData: 1º de novembro de 2025 (sexta-feira)\, às 19h\nLocal: Av. São Paulo\, esquina com a Rua Cairú – 4º Distrito\, Porto Alegre\nAtividade integrante do Circuito de Arte Urbana do 4º Distrito – Saiba mais sobre a 1º edição\nEntrada franca\n\n#FotoclubePortoAlegrense #Fotoclubepoa #fotoclube #fcpoa
URL:https://fotoclubepoa.com.br/evento/exposicao-aguas-de-maio-para-nunca-esquecer-circuito-de-arte-urbana-4o-distrito-2o-edicao/
CATEGORIES:Exposições
ATTACH;FMTTYPE=image/png:https://fotoclubepoa.com.br/wp-content/uploads/2025/10/AGENDA-CULTURAL-2024-2025-13.png
END:VEVENT
BEGIN:VEVENT
DTSTART;TZID=America/Sao_Paulo:20251101T200000
DTEND;TZID=America/Sao_Paulo:20251102T020000
DTSTAMP:20260424T014344
CREATED:20251017T165538Z
LAST-MODIFIED:20251017T165538Z
UID:7865-1762027200-1762048800@fotoclubepoa.com.br
SUMMARY:[Festa a Fantasia] CrazyWeen\, no FDS\, com participação especial do FCPOA
DESCRIPTION:🎭 Festa à Fantasia no FDS — Edição 2025\nConvidado especial: Fotoclube Porto-alegrense \nEm 2023\, uma festa intimista e memorável marcou o aniversário de 5 anos do Fotoclube Porto-alegrense\, com muita fantasia\, risadas e fotos incríveis no espaço do FDS — o Quarto Distrito pulsando criatividade. A parceria com o empresário Carlos Kolesny\, anfitrião da noite\, resultou em uma conexão especial com nossa comunidade. \nAgora\, essa festa ganhou vida própria: nasce a CrazyWeen\, uma experiência mágica\, divertida e criativa\, onde as fantasias são passaporte para um universo de alegria. E nós\, fotoclubistas\, somos novamente convidados de honra! \n📸 Para quem participou da primeira edição\, há um reels no Instagram do FC com registros inesquecíveis daquela noite. Vale assistir e se inspirar! \nNesta nova edição\, a vibe anos 80 vai embalar a noite com a banda New Wave 80\, além de concurso de melhor fantasia\, brindes para aniversariantes e condições especiais para associados. \n🗓 Data e Local\n📍 01 de novembro de 2025📍 FDS – Avenida Cairú\, 376 – Quarto Distrito\, Porto Alegre \n🎉 Programação\n\nBanda New Wave 80 ao vivo (vibe anos 80)\nConcurso de Fantasias🥇 1º lugar: Troféu🥈 2º lugar: Caneco FDS🥉 3º lugar: Um drink especial\n🎂 Brinde com champanhe para aniversariantes de outubro e novembro\nAmbiente temático e experiências surpresas\n\n🎟 Ingressos\n\nR$ 30 (antecipado) | R$ 40 (na hora)\nAssociados do FCPOA e empresas parceiras: 50% de desconto\nAniversariantes: entrada gratuita + garrafa de espumante\nVendas via Pix ou pelo Sympla\nObrigatório o uso de fantasia\n\nAssista um pouco do que foi uma das festas aqui. \n\n👁️‍🗨️ Para confirmar sua presença\, acesse o grupo do FCPOA e responda a enquete de interesse. Vamos nos organizar para curtir juntos mais uma noite inesquecível! \n📲 Dúvidas e informações: (51) 98111-4888 | forthdistrictspace@gmail.com📸 Instagram do evento: @fds4distrito
URL:https://fotoclubepoa.com.br/evento/festa-a-fantasia-crazyween-no-fds-com-participacao-especial-do-fcpoa/
CATEGORIES:Confraternização
ATTACH;FMTTYPE=image/jpeg:https://fotoclubepoa.com.br/wp-content/uploads/2025/10/Dj-Henrique-Frotah.jpg
END:VEVENT
END:VCALENDAR