BEGIN:VCALENDAR
VERSION:2.0
PRODID:-//Fotoclube Porto-alegrense - ECPv6.15.20//NONSGML v1.0//EN
CALSCALE:GREGORIAN
METHOD:PUBLISH
X-WR-CALNAME:Fotoclube Porto-alegrense
X-ORIGINAL-URL:https://fotoclubepoa.com.br
X-WR-CALDESC:Eventos para Fotoclube Porto-alegrense
REFRESH-INTERVAL;VALUE=DURATION:PT1H
X-Robots-Tag:noindex
X-PUBLISHED-TTL:PT1H
BEGIN:VTIMEZONE
TZID:America/Sao_Paulo
BEGIN:STANDARD
TZOFFSETFROM:-0300
TZOFFSETTO:-0300
TZNAME:-03
DTSTART:20240101T000000
END:STANDARD
END:VTIMEZONE
BEGIN:VEVENT
DTSTART;TZID=America/Sao_Paulo:20251021T100000
DTEND;TZID=America/Sao_Paulo:20260120T183000
DTSTAMP:20260423T213120
CREATED:20251021T195355Z
LAST-MODIFIED:20251021T195355Z
UID:7892-1761040800-1768933800@fotoclubepoa.com.br
SUMMARY:[Exposição] Novos Caminhos do Pampa Uruguaio\, por Douglas Fischer
DESCRIPTION:Novos Caminhos do Pampa Uruguaio\nExposição de Douglas Fischer no Café do MARGS \nO fotoclubista Douglas Fischer apresenta seu projeto “Novos Caminhos do Pampa Uruguaio”\, uma das quatro propostas selecionadas no Concurso de Fotografia do Café da AAMARGS em 2024. A mostra\, adiada em virtude das enchentes que afetaram o estado\, ganha agora forma e luz no aconchegante Café do MARGS\, em Porto Alegre. \nA exposição revela a força e a sensibilidade do olhar de Douglas sobre o pampa uruguaio\, território de amplidão\, trabalho e tradição. Suas imagens retratam o cotidiano e a poesia dos caminhos que se cruzam entre homens\, cavalos e horizontes — um convite à contemplação das sutilezas do Sul. \n📅 Visitação: de 21 de outubro de 2025 a 20 de janeiro de 2026🕓 Horário: terça a domingo\, das 10h às 18h30📍 Local: Café do MARGS – Museu de Arte do Rio Grande do Sul(Praça da Alfândega\, Centro Histórico de Porto Alegre)📱 Instagram: @margs_cafe | @aamargs.oficial \nO Café do MARGS é reconhecido por unir arte\, gastronomia e cultura em um ambiente inspirador — um ponto de encontro para quem valoriza a beleza das expressões artísticas e o sabor de bons momentos. \n#FotoclubePortoAlegrense #Fotoclubepoa #fcpoa #fotoclube#DouglasFischer #MARGS #AAMARGS #fotografia #exposicao #artegaúcha
URL:https://fotoclubepoa.com.br/evento/exposicao-novos-caminhos-do-pampa-uruguaio-por-douglas-fischer/
LOCATION:Café do MARGS\, Praça da Alfândega\, S/nº\, Porto Alegre\, Rio Grande do Sul\, 90010050\, Brasil
CATEGORIES:Exposições
ATTACH;FMTTYPE=image/jpeg:https://fotoclubepoa.com.br/wp-content/uploads/2025/10/Douglas-1.jpg
END:VEVENT
BEGIN:VEVENT
DTSTART;TZID=America/Sao_Paulo:20251119T090000
DTEND;TZID=America/Sao_Paulo:20260331T173000
DTSTAMP:20260423T213120
CREATED:20251117T193941Z
LAST-MODIFIED:20251117T194033Z
UID:7985-1763542800-1774978200@fotoclubepoa.com.br
SUMMARY:[Exposição] Porto Alegre Natural: As Cores Vivas da Capital Gaúcha\, Museu de Porto Alegre Joaquim Felizardo VISITAÇÃO
DESCRIPTION:Mostra Fotográfica – Porto Alegre Natural: As Cores Vivas da Capital Gaúcha\nFotoclubistas representam o FC na programação da Noite dos Museus 2025\nO Fotoclube Porto-alegrense convida toda a comunidade a prestigiar a abertura da mostra “Porto Alegre Natural: As Cores Vivas da Capital Gaúcha”\, uma celebração da cidade por meio de olhares que revelam afeto\, identidade e experiências visuais únicas. A exposição reúne 29 fotografias selecionadas por Edital Público\, trazendo obras de profissionais e amadores que mergulham na riqueza estética de Porto Alegre. \n📅 Abertura: 18 de novembro (terça-feira)\, às 19h📍 Museu de Porto Alegre Joaquim Felizardo – Rua João Alfredo\, 582🖼️ Visitação: de 19 de novembro de 2025 até 31 de março de 2026\, de segunda a sexta-feira\, das 9h às 17h30. \n \nTemos orgulho de anunciar a presença dos fotoclubistas que representam o FC nesta mostra:William Clavijo\, Gerson Turelly\, Andrea Seligman\, Edison Nunes\, Jorge Leão e Rafael Sgari.Cada obra selecionada confirma a potência criativa dos nossos talentos e reforça o compromisso do fotoclube com a produção cultural da cidade. \nA mostra antecede a Noite dos Museus 2025\, que neste ano apresentará mais de cem atrações em 38 espaços culturais da capital\, em uma programação vibrante promovida pelo Instituto Noite dos Museus\, com patrocínio da Petrobras. \nSobre o Museu\nCriado em 1979\, o Museu de Porto Alegre Joaquim Felizardo ocupa o histórico Solar Lopo Gonçalves\, um dos marcos arquitetônicos mais emblemáticos da cidade. Vinculado à Diretoria de Patrimônio e Memória da Secretaria Municipal de Cultura\, o museu preserva acervos tridimensionais\, iconográficos e arqueológicos que contam a história viva da capital. Seu espaço acolhe iniciativas que conectam memória\, território e identidade — cenário perfeito para uma mostra que celebra a Porto Alegre que pulsa em cada olhar. \nVenham prestigiar e celebrar com a gente esta conquista coletiva\, que valoriza nossos artistas e fortalece o espírito da comunidade fotográfica. \n#fotoclubeportoalegrense #fotoclubepoa #fotoclube #fcpoa #MuseuJoaquimFelizardo #NoidedosMuseus
URL:https://fotoclubepoa.com.br/evento/exposicao-porto-alegre-natural-as-cores-vivas-da-capital-gaucha-museu-de-porto-alegre-joaquim-felizardo-visitacao/
CATEGORIES:Exposições
ATTACH;FMTTYPE=image/png:https://fotoclubepoa.com.br/wp-content/uploads/2025/11/AGENDA-CULTURAL-2024-2025-19.png
END:VEVENT
BEGIN:VEVENT
DTSTART;VALUE=DATE:20251122
DTEND;VALUE=DATE:20251221
DTSTAMP:20260423T213120
CREATED:20251123T172202Z
LAST-MODIFIED:20251123T172626Z
UID:8042-1763769600-1766275199@fotoclubepoa.com.br
SUMMARY:[Exposição} Memorial das Águas – 5ª Exposição “Retomada” VISITAÇÃO
DESCRIPTION:📸 Memorial das Águas – 5ª Exposição “Retomada”\n🗓 De 22 de novembro a 20 de dezembro de 2025📍 Largo do Mercado Público – Pelotas🎟 Acesso gratuito | Visitação 24h por dia \nSite do projeto. \nO projeto Memorial das Águas chega ao seu capítulo final com a exposição “Retomada”\, celebrada neste sábado\, 22/11\, em Pelotas. A abertura reuniu público\, fotógrafos e parceiros em um encontro marcado pela emoção e pela força simbólica deste encerramento. \nA mostra apresenta obras de 24 fotógrafos\, entre eles colegas do Fotoclube Porto-alegrense\, que mais uma vez levaram seu olhar sensível e comprometido para este ciclo de memória e reconstrução. \nA exposição permanece aberta diariamente\, ao longo das 24 horas\, até 20 de dezembro\, ocupando o Largo do Mercado Público com imagens que celebram a esperança\, a união e a capacidade coletiva de recomeçar. \nAo longo de cinco exposições – três em Porto Alegre e duas em Pelotas – o Memorial das Águas reuniu 98 fotógrafos\, 400 imagens e um público estimado em 270 mil pessoas. Um percurso que documentou não apenas a destruição causada pelas enchentes de 2024\, mas também a extraordinária solidariedade que emergiu delas. \nCom curadoria de Marcos Monteiro e produção executiva de Edison Nunes\, o projeto se consolidou como um marco cultural\, utilizando a fotografia como ferramenta de memória\, sensibilização e reconstrução. \nA exposição “Retomada” fecha este ciclo olhando para frente: para o futuro que se reconstrói dia após dia\, com esforço coletivo\, afeto e esperança. \n\n👥 Fotógrafos participantes desta edição\nÁlvaro Sanguinetti | Andréia Kris | Anelise Ferreira | Charles Guerra | Cláudia Brandão | Cynthia Recuero | Diego Lopes | Felipe Campal | Filipi Amorim | Gilberto Renner | Gustavo Vara | Jô Folha | Jorge Lansarin | Josiane Chocho | Leandro Lopes | Lucas Pedruzzi | Mac Morales | Rafael Rosa | Renan Lemos | Selmar Medeiros | Stheve Balbinot | William Clavijo \n(Fotoclubistas) \n\nServiço\nMemorial das Águas – 5ª Exposição “Retomada”📅 Abertura: 22 de novembro de 2025\, às 15h📍 Local: Largo do Mercado Público de Pelotas🗓 Visitação: até 20 de dezembro⏰ Horário: 24h por dia🎟 Entrada franca \nContatoAssessoria de imprensa – Vera Pinto: (51) 99104-1372Curadoria – Marcos Monteiro: (51) 9935-0608 \n\n#fotoclubeportoalegrense #fotoclubepoa #fotoclube #fcpoa #MemorialDasÁguas #Retomada #SolidariedadeEReconstrução #ArteAoArLivre #CulturaRS \nFotos da Abertura\, 22/11/2025\, por Andréia Kris. \n       \nMemorial das Águas encerra sua jornada com a exposição “Retomada” em Pelotas\nProjeto fotográfico que documentou a solidariedade e a reconstrução após a enchente de 2024 chega à sua quinta e última mostra\, celebrando a esperança e a resiliência do povo gaúcho.\n  \nO projeto Memorial das Águas – Solidariedade e Reconstrução\, anuncia sua quinta e última exposição\, “Retomada”\, que abriu no dia 22 de novembro (sábado)\, às 15h\, no Largo do Mercado Público de Pelotas\, com a participação de 24 fotógrafos. A mostra encerra um ciclo de grande sucesso que percorreu Porto Alegre e Pelotas\, emocionando o público com registros tocantes da maior tragédia climática da história do Rio Grande do Sul e da extraordinária onda de união que se formou em resposta a ela. A visitação segue diariamente\, ao longo de 24h\, até o dia 20 de dezembro. \nAo longo de cinco exposições – três em Porto Alegre e duas em Pelotas- o projeto não apenas documentou a dor e a destruição\, mas\, principalmente\, celebrou a vida\, a ajuda mútua e a incrível capacidade de recomeçar. Ele reuniu 98 fotógrafos e 400 fotografias\, distribuídas em 80 painéis\, alcançando um público estimado em 270 mil pessoas. “Retomada” encerra este ciclo com um olhar voltado para o futuro. Um futuro que se reconstrói a cada dia com o esforço e a união de todos. As imagens desta coletiva são um tributo àqueles que\, mesmo diante da adversidade\, não perderam a esperança e se reergueram\, provando que a solidariedade é a mais poderosa ferramenta de reconstrução. \nParticipam: Álvaro Sanguinetti\, Andréia Kris\, Anelise Ferreira\, Charles Guerra\, Cláudia Brandão\, Cynthia Recuero\, Diego Lopes\, Felipe Campal\, Filipi A\,orim\, Gilberto Renner\, Gustavo Vara\, Jô Folha\, Jorge Lansarin\, Josiane Chocho\, Leandro Lopes\, Lucas Pedruzzi\, Mac Morales\, Rafael Rosa\, Renan Lemos\, Selmar Medeiros\, Stheve Balbinot e William Clavijo. Com curadoria de Marcos Monteiro e produção executiva de Edison Nunes\, o Memorial das Águas se consolidou como um marco na cena cultural do Estado\, utilizando a fotografia como uma poderosa ferramenta de memória e reflexão. O tema central\, “Voluntariado e Reconstrução”\, permeou todas as coletivas\, destacando não apenas a devastação causada pelas águas\, mas\, sobretudo\, a força da ajuda mútua e a capacidade de superação das comunidades atingidas. \nSegundo o curador Marcos Monteiro\, “Retomada” é “o capítulo final de uma história que todos nós construímos juntos. É um momento de celebrar a vida\, de honrar a memória daqueles que se foram e de olhar para o futuro com esperança. As imagens desta exposição são um testemunho da força do nosso povo e da certeza de que\, unidos\, somos capazes de reconstruir não apenas cidades\, mas também sonhos e esperanças.” Monteiro é experiente em exposições a ceu aberto e coordenador da Galeria Escadaria\, em Porto Alegre\, que funcionou no Viaduto Otávio Rocha\, na avenida Borges de Medeiros\, que por conta das obras de restauro\, passou para o Pier do Gasômetro. \nNeste momento de encerramento\, o Memorial das Águas expressa sua mais profunda gratidão. À população de Porto Alegre e de Pelotas\, que abraçaram o projeto com tanto carinho e respeito\, tornando cada visita uma experiência única de conexão e reflexão. Aos talentosos fotógrafos\, que com seus olhares sensíveis nos presentearam com imagens que ficarão para sempre em nossa memória. Um agradecimento especial aos patrocinadores\, que acreditaram na força da arte como instrumento de transformação e tornaram este projeto uma realidade: Paraflu do Brasil Indústria e Produtos Químicos Ltda.\, Grupo RBS\, Nutrire Indústria de Alimentos Ltda. e Soma Sul Equipamentos Ltda. Também aos apoiadores\, as Prefeituras de Porto Alegre e Pelotas\, por meio de suas secretarias da Cultura\, a Valorize Projetos\, Gestão de Recursos e Patrocínios Ltda. e a CDF Locações de Materiais Cenográficos e Culturais Ltda. E a todos os profissionais envolvidos que\, com sua dedicação\, fizeram do “Memorial das Águas” um marco na história e cultura do nosso estado.
URL:https://fotoclubepoa.com.br/evento/memorial-das-aguas-5-retomada/
CATEGORIES:Exposições
ATTACH;FMTTYPE=image/jpeg:https://fotoclubepoa.com.br/wp-content/uploads/2025/11/1000102543.jpg
END:VEVENT
BEGIN:VEVENT
DTSTART;TZID=America/Sao_Paulo:20251126T100000
DTEND;TZID=America/Sao_Paulo:20251209T180000
DTSTAMP:20260423T213120
CREATED:20251120T182453Z
LAST-MODIFIED:20251120T182453Z
UID:8026-1764151200-1765303200@fotoclubepoa.com.br
SUMMARY:[Exposição] Coletiva – Ateliê Fluxo Escola de Fotografia VISITAÇÃO
DESCRIPTION:Exposição Coletiva – Ateliê Fluxo Escola de Fotografia\nCom participação do fotoclubista João Henrique Ramos \nO Ateliê da Fluxo Escola de Fotografia é um espaço onde a criação acontece com autenticidade\, pesquisa e intenção. Sob orientação de Tiago Coelho e Rochelle Zandavalli\, cada participante desenvolveu um projeto autoral ao longo do semestre\, explorando temas\, processos e formas de expressão que agora se materializam na galeria. \nA mostra reúne trabalhos de: Alisson\, André\, Antonio\, Glauber\, Ilka\, Iara e Carol\, Jaime\, João e Malu — incluindo o fotoclubista João Henrique Ramos\, que nos representa com sensibilidade e firmeza de linguagem. \n   \nA exposição celebra a diversidade dos percursos criativos: imagens que dialogam com memória\, afeto\, território\, objeto\, infância\, cor\, cotidiano e as múltiplas maneiras de narrar o mundo pela fotografia. \n\n📍 Serviço\n\nExposição Coletiva – Ateliê Fluxo Escola de Fotografia\nAbertura: 25 de novembro de 2025\, às 19h\nVisitação: até 09 de dezembro de 2025\nLocal: Fluxo Escola de Fotografia – Rua Laurindo\, 332 – Porto Alegre\nEntrada gratuita\nHorário: comercial\nBar à disposição na abertura.\n\nCelebramos nossos talentos e reforçamos o orgulho de estar em uma comunidade que valoriza o olhar autoral\, o respeito e a força da fotografia como linguagem. \n#fotoclubeportoalegrense #fotoclubepoa #fotoclube #fcpoa #fotografiaautoral #exposicaodefotografia #circuitofotografico #fluxoescoladefotografia
URL:https://fotoclubepoa.com.br/evento/exposicao-coletiva-atelie-fluxo-escola-de-fotografia-visitacao/
CATEGORIES:Exposições
ATTACH;FMTTYPE=image/png:https://fotoclubepoa.com.br/wp-content/uploads/2025/11/Fluxo-2511-1.png
END:VEVENT
BEGIN:VEVENT
DTSTART;TZID=America/Sao_Paulo:20251204T180000
DTEND;TZID=America/Sao_Paulo:20251204T203000
DTSTAMP:20260423T213120
CREATED:20251117T211520Z
LAST-MODIFIED:20251118T163959Z
UID:8007-1764871200-1764880200@fotoclubepoa.com.br
SUMMARY:[Exposição] Liberdade Dá Asas\, por Jorge Neumann e Sérgio de Paula Ramos\, Galeria Carlinhos Rodrigues ABERTURA
DESCRIPTION:Exposição “Liberdade Dá Asas” – Galeria Carlinhos Rodrigues / Centro Cultural Maomé\nA nova exposição Liberdade Dá Asas convida você para a exposição fotográfica que pulsa beleza\, movimento e delicadeza. Inspirada pela frase de Guimarães Rosa — “Passarinho que se debruça\, o voo já está pronto!” — e pelo sentido poético de Ará Porã (“canto bonito”\, em Tupi-Guarani)\, a mostra revela a força simbólica e o encantamento que as aves despertam. \nAs fotografias de Jorge Neumann e Sérgio de Paula Ramos aproximam o que tantas vezes nos passa despercebido: o som do galho que estala\, o ritmo das asas\, o desenho das sombras no ar\, a pressa diante da chuva\, a ternura do encontro\, o voo que é sobrevivência e celebração. Cada registro nasce da paciência\, da escuta e da capacidade de deixar-se atravessar pela natureza. \nAo observar esse universo com tamanha nitidez\, descobrimos novas formas de ver — cores\, gestos e poesia que se revelam quando o olhar encontra a calma. As aves nos ensinam a desacelerar\, a perceber o tempo em outras cadências\, a imaginar possibilidades que só o voo conhece. \nMais do que uma coleção de imagens\, a exposição é um convite à curiosidade\, ao respeito e à preservação da fauna que nos rodeia. Uma oportunidade de conhecer esses seres de perto\, intensos e magníficos\, guiados pela paixão de dois médicos\, fotógrafos e amigos que encontraram\, na fotografia de natureza\, um caminho de liberdade e contemplação. \nA concepção e a expografia são assinadas por Alexandre Eckert\, que orquestra narrativa e sensibilidade na construção da mostra. \n \n\n📍 Serviço\n\nExposição: Liberdade Dá Asas\nArtistas: Jorge Neumann e Sérgio de Paula Ramos\nAbertura: 04/12/2025\, às 18h\nVisitação: até 15 de janeiro de 2026 – Entrada gratuita\, diariamente\, das 8h às 20h.\nLocal: Galeria Carlinhos Rodrigues – Confeitaria Maomé – Vicente da Fontoura\, 2057\, Porto Alegre\n\n\nUm convite para inspirar o olhar\, celebrar nossos talentos e fortalecer essa comunidade fotográfica que tanto nos orgulha. \n#fotoclubeportoalegrense #fotoclubepoa #fotoclube #fcpoa #Liberdadedaasas #SergiodePaulaRamos #JorgeNewmann #ConfeitariaMaomé
URL:https://fotoclubepoa.com.br/evento/exposicao-liberdade-da-asas-por-jorge-neumann-e-sergio-de-paula-ramos-galeria-carlinhos-rodrigues-abertura/
CATEGORIES:Exposições
ATTACH;FMTTYPE=image/png:https://fotoclubepoa.com.br/wp-content/uploads/2025/11/AGENDA-CULTURAL-2024-2025-23.png
END:VEVENT
BEGIN:VEVENT
DTSTART;TZID=America/Sao_Paulo:20251205T080000
DTEND;TZID=America/Sao_Paulo:20260115T200000
DTSTAMP:20260423T213120
CREATED:20251118T164141Z
LAST-MODIFIED:20251118T164141Z
UID:8015-1764921600-1768507200@fotoclubepoa.com.br
SUMMARY:[Exposição] Liberdade Dá Asas\, por Jorge Neumann e Sérgio de Paula Ramos\, Galeria Carlinhos Rodrigues VISITAÇÃO
DESCRIPTION:Exposição “Liberdade Dá Asas” – Galeria Carlinhos Rodrigues / Centro Cultural Maomé\nA nova exposição Liberdade Dá Asas convida você para a exposição fotográfica que pulsa beleza\, movimento e delicadeza. Inspirada pela frase de Guimarães Rosa — “Passarinho que se debruça\, o voo já está pronto!” — e pelo sentido poético de Ará Porã (“canto bonito”\, em Tupi-Guarani)\, a mostra revela a força simbólica e o encantamento que as aves despertam. \nAs fotografias de Jorge Neumann e Sérgio de Paula Ramos aproximam o que tantas vezes nos passa despercebido: o som do galho que estala\, o ritmo das asas\, o desenho das sombras no ar\, a pressa diante da chuva\, a ternura do encontro\, o voo que é sobrevivência e celebração. Cada registro nasce da paciência\, da escuta e da capacidade de deixar-se atravessar pela natureza. \nAo observar esse universo com tamanha nitidez\, descobrimos novas formas de ver — cores\, gestos e poesia que se revelam quando o olhar encontra a calma. As aves nos ensinam a desacelerar\, a perceber o tempo em outras cadências\, a imaginar possibilidades que só o voo conhece. \nMais do que uma coleção de imagens\, a exposição é um convite à curiosidade\, ao respeito e à preservação da fauna que nos rodeia. Uma oportunidade de conhecer esses seres de perto\, intensos e magníficos\, guiados pela paixão de dois médicos\, fotógrafos e amigos que encontraram\, na fotografia de natureza\, um caminho de liberdade e contemplação. \nA concepção e a expografia são assinadas por Alexandre Eckert\, que orquestra narrativa e sensibilidade na construção da mostra. \n \n\n📍 Serviço\n\nExposição: Liberdade Dá Asas\nArtistas: Jorge Neumann e Sérgio de Paula Ramos\nAbertura: 04/12/2025\, às 18h\nVisitação: até 15 de janeiro de 2026 – Entrada gratuita\, diariamente\, das 8h às 20h.\nLocal: Galeria Carlinhos Rodrigues – Confeitaria Maomé – Vicente da Fontoura\, 2057\, Porto Alegre\n\n\nUm convite para inspirar o olhar\, celebrar nossos talentos e fortalecer essa comunidade fotográfica que tanto nos orgulha. \n#fotoclubeportoalegrense #fotoclubepoa #fotoclube #fcpoa #Liberdadedaasas #SergiodePaulaRamos #JorgeNewmann #ConfeitariaMaomé
URL:https://fotoclubepoa.com.br/evento/exposicao-liberdade-da-asas-por-jorge-neumann-e-sergio-de-paula-ramos-galeria-carlinhos-rodrigues-visitacao/
CATEGORIES:Exposições
ATTACH;FMTTYPE=image/png:https://fotoclubepoa.com.br/wp-content/uploads/2025/11/AGENDA-CULTURAL-2024-2025-23.png
END:VEVENT
END:VCALENDAR