BEGIN:VCALENDAR
VERSION:2.0
PRODID:-//Fotoclube Porto-alegrense - ECPv6.15.20//NONSGML v1.0//EN
CALSCALE:GREGORIAN
METHOD:PUBLISH
X-WR-CALNAME:Fotoclube Porto-alegrense
X-ORIGINAL-URL:https://fotoclubepoa.com.br
X-WR-CALDESC:Eventos para Fotoclube Porto-alegrense
REFRESH-INTERVAL;VALUE=DURATION:PT1H
X-Robots-Tag:noindex
X-PUBLISHED-TTL:PT1H
BEGIN:VTIMEZONE
TZID:America/Sao_Paulo
BEGIN:STANDARD
TZOFFSETFROM:-0300
TZOFFSETTO:-0300
TZNAME:-03
DTSTART:20240101T000000
END:STANDARD
END:VTIMEZONE
BEGIN:VEVENT
DTSTART;VALUE=DATE:20250901
DTEND;VALUE=DATE:20251116
DTSTAMP:20260424T001217
CREATED:20250913T123449Z
LAST-MODIFIED:20250913T124702Z
UID:7608-1756684800-1763251199@fotoclubepoa.com.br
SUMMARY:[Curso] Imersão Fotográfica\, por Rogério Amaral Ribeiro [INSCRIÇÕES ABERTAS]
DESCRIPTION:Workshop Prático de Fotografia – Imersão Fotográfica\nProfessor: Rogério Amaral Ribeiro (fotoclubista) \n📅 Datas: \n\n20/11 – Aula preparatória online\, das 19h às 20h\n22/11 – Imersão presencial em Barra do Ribeiro\, das 9h30 às 19h30\n27/11 – Apresentação online das fotos\, das 19h às 22h\n\n📍 Local: Estúdio Câmera Viajante\, na cidade de Barra do Ribeiro/RS\n🎓 Carga horária: 14h/aula Amaral Ribeiro \n👥 Número de vagas: 10\n💰 Investimento: R$ 200\,00 (público em geral) | R$ 150\,00 (fotoclubistas ativos do FCPOA e de outros fotoclubes brasileiros)\n✍️ Inscrições: (51) 99964 1352 (com Professor) \n\nSobre o curso\nO Workshop Prático de Fotografia – Imersão Fotográfica é a oportunidade ideal para quem deseja sair do modo automático e vivenciar a fotografia de forma intensa. Em três etapas\, o curso combina teoria\, prática e análise crítica das imagens produzidas. \nDurante a imersão em Barra do Ribeiro/RS\, os participantes terão contato com diferentes técnicas e cenários: \n\nEm estúdio: técnicas de iluminação para retratos e autorretratos; criação de atmosferas e personagens com uso de flashes e rebatedores.\nAo ar livre: passeio fotográfico por paisagens do Lago Guaíba\, áreas naturais\, casarios e arquitetura da cidade.\nApresentação final: compartilhamento e comentários sobre as fotos produzidas\, com feedback do professor e do grupo.\n\nMais do que aprender ajustes manuais e recursos técnicos\, este workshop é um convite a ampliar o repertório criativo e aplicar novas soluções visuais em situações reais. \n\nBenefício exclusivo para fotoclubistas\n💡 Cash-back de R$ 60\,00: associado ativo do FCPOA pode solicitar este benefício (válido uma única vez em 2025). Para utilizar\, basta seguir as regras definidas no informativo oficial do Fotoclube\, comunicar a escolha do curso ao professor e enviar e-mail para fotoclubeportoalegrense@gmail.com indicando o uso do cash-back. \n\nConclusão da programação 2025\n📌 Este é o terceiro e último curso da série de formações do ano. Uma experiência prática e imersiva que encerra o ciclo de 2025 com intensidade e inspiração. \n \n\n  \n#fotoclubeportoalegrense #fotoclubepoa #fcpoa #fotoclube #fotografia #workshopfotografia #imersao #aprendizagemfotografica
URL:https://fotoclubepoa.com.br/evento/curso-3-rogerio-amaral-ribeiro/
CATEGORIES:Cursos
ATTACH;FMTTYPE=image/jpeg:https://fotoclubepoa.com.br/wp-content/uploads/2025/09/ImersaoFotografica1.jpg
END:VEVENT
END:VCALENDAR