BEGIN:VCALENDAR
VERSION:2.0
PRODID:-//Fotoclube Porto-alegrense - ECPv6.15.20//NONSGML v1.0//EN
CALSCALE:GREGORIAN
METHOD:PUBLISH
X-WR-CALNAME:Fotoclube Porto-alegrense
X-ORIGINAL-URL:https://fotoclubepoa.com.br
X-WR-CALDESC:Eventos para Fotoclube Porto-alegrense
REFRESH-INTERVAL;VALUE=DURATION:PT1H
X-Robots-Tag:noindex
X-PUBLISHED-TTL:PT1H
BEGIN:VTIMEZONE
TZID:America/Sao_Paulo
BEGIN:STANDARD
TZOFFSETFROM:-0300
TZOFFSETTO:-0300
TZNAME:-03
DTSTART:20240101T000000
END:STANDARD
END:VTIMEZONE
BEGIN:VEVENT
DTSTART;TZID=America/Sao_Paulo:20250909T140000
DTEND;TZID=America/Sao_Paulo:20250909T160000
DTSTAMP:20260424T033805
CREATED:20250831T221252Z
LAST-MODIFIED:20250831T221252Z
UID:7584-1757426400-1757433600@fotoclubepoa.com.br
SUMMARY:[Exposição] Porto Alegre em Reconstrução\, Concurso Sioma Breitman de Fotografia 2025
DESCRIPTION:XVIII Concurso Sioma Breitman de Fotografia\nFotoclubistas se destacam em uma das maiores premiações do cenário gaúcho\nO Concurso Sioma Breitman de Fotografia\, promovido pela Câmara Municipal de Porto Alegre desde 1996\, chega à sua 18ª edição consolidado como um dos principais eventos da fotografia no Rio Grande do Sul e com reconhecimento em todo o Brasil. Criado por iniciativa do ex-vereador e ex-prefeito João Antonio Dib\, o concurso homenageia o fotógrafo Sioma Breitman (1903–1980)\, ucraniano que se radicou em Porto Alegre e se tornou referência na fotografia em preto e branco\, retratando a capital gaúcha e conquistando prêmios nacionais e internacionais. Parte de seu acervo encontra-se preservada no Museu Joaquim José Felizardo\, na fototeca que leva o seu nome. \nDesde 2011\, o concurso passou a ser bienal\, acontecendo em anos ímpares\, e hoje integra o calendário cultural da cidade\, valorizando a fotografia como instrumento de memória e expressão artística. Em cada edição\, fotógrafos amadores e profissionais são convidados a retratar Porto Alegre sob diferentes olhares e temas. \nA edição de 2025: Porto Alegre em Reconstrução\nNeste ano\, o concurso trouxe como tema “Porto Alegre em Reconstrução”\, estimulando fotógrafos a registrarem a retomada da cidade em seus aspectos culturais\, sociais e políticos. Ao todo\, foram 23 fotógrafos selecionados e 40 imagens escolhidas entre as categorias preto e branco e colorida. \nPreto e Branco:Álvaro Bertoni Sanguinetti (FCPOA)\, André Pitome Ávila\, Andréia Cristiane de Oliveira (FCPOA)\, Ayres Estima Potthoff (FCPOA)\, Carlos Daniel Macedo\, Douglas Fischer (FCPOA)\, HUB38 / Maria Alessandra Fernandez Bruny Ferrari\, Jorge Guerino Lansarin (FCPOA)\, Laura dos Santos Bernardes\, Mateus Bruxel\, Michele Lorena de Oliveira Cavalcanti\, Roberto Martinez Duarte (FCPOA)\, William Omar Pérez Clavijo (FCPOA). \nColoridas:Anelise Barra Ferreira (FCPOA)\, Andréia Cristiane de Oliveira (FCPOA)\, Carlos Daniel Macedo\, Douglas Fischer (FCPOA)\, Glauber Machado Ribeiro (FCPOA)\, Gustavo Gomes Batista\, Isabelle Rieger dos Santos\, Jorge Guerino Lansarin (FCPOA)\, Karine Mesquita da Costa\, Luise Aguzzi Borges\, Maria Eduarda Fortes\, Mateus Bruxel\, Matheus Malcum Miranda\, Renan Adriam de Mattos\, Roberto Martinez Duarte (FCPOA)\, Stheve Balbinotti Pereira\, William Omar Pérez Clavijo (FCPOA). \nEntre os nomes\, destacamos com orgulho os oito fotoclubistas do Fotoclube Porto-alegrense (FCPOA)\, que juntos tiveram 20 fotos selecionadas\, representando metade do total da mostra. \nEssa expressiva presença reforça o papel do Fotoclube como espaço de incentivo à criação\, ao estudo e à difusão da fotografia. Fundado em 2018 e filiado à CONFOTO (Confederação Brasileira de Fotografia)\, o Fotoclube Porto-alegrense já soma participações em exposições nacionais e internacionais\, promovendo saídas fotográficas\, palestras e projetos coletivos que fortalecem a cena fotográfica no Estado. \nO Concurso em números\n\nCriado em 1996.\nTornou-se bienal em 2011.\nJá recebeu milhares de inscrições ao longo de sua história.\nAs imagens premiadas passam a integrar o acervo público da Câmara Municipal de Porto Alegre.\n\nServiço\n📍 Solenidade de Premiação e Abertura da Exposição \n\nData: 9 de setembro de 2025\nHorário: 14h\nLocal: Plenário Ana Terra – Câmara Municipal de Porto Alegre\n\n📍 Exposição Coletiva \n\nPeríodo: de 9 de setembro a 9 de outubro de 2025\nLocal: Espaço T Cultural – Av. Loureiro da Silva\, 255 – Porto Alegre
URL:https://fotoclubepoa.com.br/evento/exposicao-porto-alegre-em-reconstrucao-concurso-sioma-breitman-de-fotografia-2025/
CATEGORIES:Concurso,Exposições
ATTACH;FMTTYPE=image/jpeg:https://fotoclubepoa.com.br/wp-content/uploads/2025/08/Sioma-card.jpg
END:VEVENT
BEGIN:VEVENT
DTSTART;TZID=America/Sao_Paulo:20250910T083000
DTEND;TZID=America/Sao_Paulo:20251010T180000
DTSTAMP:20260424T033805
CREATED:20250831T221520Z
LAST-MODIFIED:20250831T221520Z
UID:7587-1757493000-1760119200@fotoclubepoa.com.br
SUMMARY:[Exposição] Porto Alegre em Reconstrução\, Concurso Sioma Breitman de Fotografia 2025 VISITAÇÃO
DESCRIPTION:XVIII Concurso Sioma Breitman de Fotografia\nFotoclubistas se destacam em uma das maiores premiações do cenário gaúcho\nO Concurso Sioma Breitman de Fotografia\, promovido pela Câmara Municipal de Porto Alegre desde 1996\, chega à sua 18ª edição consolidado como um dos principais eventos da fotografia no Rio Grande do Sul e com reconhecimento em todo o Brasil. Criado por iniciativa do ex-vereador e ex-prefeito João Antonio Dib\, o concurso homenageia o fotógrafo Sioma Breitman (1903–1980)\, ucraniano que se radicou em Porto Alegre e se tornou referência na fotografia em preto e branco\, retratando a capital gaúcha e conquistando prêmios nacionais e internacionais. Parte de seu acervo encontra-se preservada no Museu Joaquim José Felizardo\, na fototeca que leva o seu nome. \nDesde 2011\, o concurso passou a ser bienal\, acontecendo em anos ímpares\, e hoje integra o calendário cultural da cidade\, valorizando a fotografia como instrumento de memória e expressão artística. Em cada edição\, fotógrafos amadores e profissionais são convidados a retratar Porto Alegre sob diferentes olhares e temas. \nA edição de 2025: Porto Alegre em Reconstrução\nNeste ano\, o concurso trouxe como tema “Porto Alegre em Reconstrução”\, estimulando fotógrafos a registrarem a retomada da cidade em seus aspectos culturais\, sociais e políticos. Ao todo\, foram 23 fotógrafos selecionados e 40 imagens escolhidas entre as categorias preto e branco e colorida. \nPreto e Branco:Álvaro Bertoni Sanguinetti (FCPOA)\, André Pitome Ávila\, Andréia Cristiane de Oliveira (FCPOA)\, Ayres Estima Potthoff (FCPOA)\, Carlos Daniel Macedo\, Douglas Fischer (FCPOA)\, HUB38 / Maria Alessandra Fernandez Bruny Ferrari\, Jorge Guerino Lansarin (FCPOA)\, Laura dos Santos Bernardes\, Mateus Bruxel\, Michele Lorena de Oliveira Cavalcanti\, Roberto Martinez Duarte (FCPOA)\, William Omar Pérez Clavijo (FCPOA). \nColoridas:Anelise Barra Ferreira (FCPOA)\, Andréia Cristiane de Oliveira (FCPOA)\, Carlos Daniel Macedo\, Douglas Fischer (FCPOA)\, Glauber Machado Ribeiro (FCPOA)\, Gustavo Gomes Batista\, Isabelle Rieger dos Santos\, Jorge Guerino Lansarin (FCPOA)\, Karine Mesquita da Costa\, Luise Aguzzi Borges\, Maria Eduarda Fortes\, Mateus Bruxel\, Matheus Malcum Miranda\, Renan Adriam de Mattos\, Roberto Martinez Duarte (FCPOA)\, Stheve Balbinotti Pereira\, William Omar Pérez Clavijo (FCPOA). \nEntre os nomes\, destacamos com orgulho os oito fotoclubistas do Fotoclube Porto-alegrense (FCPOA)\, que juntos tiveram 20 fotos selecionadas\, representando metade do total da mostra. \nEssa expressiva presença reforça o papel do Fotoclube como espaço de incentivo à criação\, ao estudo e à difusão da fotografia. Fundado em 2018 e filiado à CONFOTO (Confederação Brasileira de Fotografia)\, o Fotoclube Porto-alegrense já soma participações em exposições nacionais e internacionais\, promovendo saídas fotográficas\, palestras e projetos coletivos que fortalecem a cena fotográfica no Estado. \nO Concurso em números\n\nCriado em 1996.\nTornou-se bienal em 2011.\nJá recebeu milhares de inscrições ao longo de sua história.\nAs imagens premiadas passam a integrar o acervo público da Câmara Municipal de Porto Alegre.\n\nServiço\n📍 Solenidade de Premiação e Abertura da Exposição \n\nData: 9 de setembro de 2025\nHorário: 14h\nLocal: Plenário Ana Terra – Câmara Municipal de Porto Alegre\n\n📍 Exposição Coletiva \n\nPeríodo: de 9 de setembro a 9 de outubro de 2025\, segunda a sexta\, das 8h30 às 18h\nLocal: Espaço T Cultural – Av. Loureiro da Silva\, 255 – Porto Alegre
URL:https://fotoclubepoa.com.br/evento/exposicao-porto-alegre-em-reconstrucao-concurso-sioma-breitman-de-fotografia-2025-visitacao/
CATEGORIES:Concurso,Exposições
ATTACH;FMTTYPE=image/jpeg:https://fotoclubepoa.com.br/wp-content/uploads/2025/08/Sioma-card.jpg
END:VEVENT
END:VCALENDAR