BEGIN:VCALENDAR
VERSION:2.0
PRODID:-//Fotoclube Porto-alegrense - ECPv6.15.20//NONSGML v1.0//EN
CALSCALE:GREGORIAN
METHOD:PUBLISH
X-WR-CALNAME:Fotoclube Porto-alegrense
X-ORIGINAL-URL:https://fotoclubepoa.com.br
X-WR-CALDESC:Eventos para Fotoclube Porto-alegrense
REFRESH-INTERVAL;VALUE=DURATION:PT1H
X-Robots-Tag:noindex
X-PUBLISHED-TTL:PT1H
BEGIN:VTIMEZONE
TZID:America/Sao_Paulo
BEGIN:STANDARD
TZOFFSETFROM:-0300
TZOFFSETTO:-0300
TZNAME:-03
DTSTART:20230101T000000
END:STANDARD
END:VTIMEZONE
BEGIN:VEVENT
DTSTART;TZID=America/Sao_Paulo:20241017T080000
DTEND;TZID=America/Sao_Paulo:20250228T200000
DTSTAMP:20260425T101218
CREATED:20241012T205527Z
LAST-MODIFIED:20250208T193157Z
UID:6569-1729152000-1740772800@fotoclubepoa.com.br
SUMMARY:[Exposição] Halifax e Outros Destinos\, por Marco Resende e José Roque Guimarães VISITAÇÃO
DESCRIPTION:Exposição Fotográfica “Halifax e Outros Destinos” por Marco Resende e José Roque Guimarães\n\n\n\n\n\n\n\n\n\n\n\nAbertura: 16 de outubro de 2024\, às 18h\nVisitação: 17/10/2024 a 28/02/2025\, de segunda a sexta-feira\, das 8h às 20h\nLocal: Galeria Carlinhos Rodrigues\, Confeitaria Maomé\, Rua Vicente da Fontoura\, 1857\, Porto Alegre/RS\nConcepção\, Expografia e Texto: Alexandre Eckert\nOrganização: Carlinhos Rodrigues\nApoio: Fotoclube Porto-alegrense \nO Fotoclube Porto-alegrense convida você para a abertura da exposição fotográfica “Halifax e Outros Destinos\,” com obras dos fotoclubistas Marco Resende e José Roque Guimarães\, que aconteceu no dia 16 de outubro de 2024\, às 18h\, na Galeria Carlinhos Rodrigues. \nNesta exposição\, os artistas nos transportam por uma jornada visual por Halifax\, no Canadá\, e outros destinos ao redor do mundo. As fotografias capturam a essência das viagens\, da diversidade de paisagens e culturas\, e das narrativas construídas ao longo do caminho. Inspirados pelo espírito de aventura e pela busca de novas descobertas\, Marco e José Roque nos convidam a vivenciar suas experiências de viagem através das lentes. \nCom curadoria e expografia de Alexandre Eckert\, “Halifax e Outros Destinos” nos faz refletir sobre a viagem como uma metáfora para a vida e nos inspira a ultrapassar fronteiras em busca do desconhecido. \nVenha embarcar nesta aventura visual e aproveite para desfrutar do aconchegante ambiente da Confeitaria Maomé\, onde a arte e a gastronomia se encontram. A visitação estará aberta de 17 de outubro de 2024 a 28 de fevereiro de 2025\, de segunda a sexta-feira\, das 8h às 20h. \nNão perca essa oportunidade de conhecer novas culturas e paisagens por meio das fotografias de Marco Resende e José Roque Guimarães! \n#ExposiçãoHalifaxEOlhosDestinos #FotografiaDeViagem #FotoclubePortoAlegrense #fotoclubepoa #fotoclube @fcpoa #GaleriaCarlinhosRodrigues #ConfeitariaMaomé #ArteFotográfica #Cultura #PortoAlegre \n        \n\nTexto Alexandre Eckert\nHALIFAX E OUTROS DESTINOS \nUma coleção de fotografias de viagem \n“Para viajar basta existir” \n“As viagens são os viajantes”.  \n“O que vemos não é o que vemos\, senão o que somos.” \nFernando Pessoa \n Viajar sempre encantou o homem que era gregário antes de começar a encontrar seus lugares pelo mundo. Ultrapassar fronteiras invisíveis alimentou intensamente o desejo de novas descobertas. \nA diversidade de paisagens. O conhecer novas culturas\, o partir estabelecendo destinos\, mas\, sobretudo se encantando com os caminhos da viagem proporcionam a possibilidade de construir belas narrativas. \n Marco Polo\, o primeiro grande viajante\, nesse seu movimentar pelo mundo trouxe em suas descobertas o novo que ampliou conhecimentos\, compartilhou hábitos\, influenciou costumes e provocou a interação entre a multiplicidade do homem\, que habita e se adapta a diversas regiões do mundo. \n Pensar nos transporta para outras possibilidades. A viagem (mais longa) se inicia em nós\, onde as distâncias e a ilusão são ainda imensuráveis. \nAlém dos tempos da infância\, quando qualquer saída representava uma viagem ao redor do mundo\, viajar é partir em direção a um destino aparentemente estabelecido\, estando aberto a todas as experiências disponíveis que poderão ser encontradas. \nAssim surgiram em pensamentos a construção de viagens imaginárias por lugares cada vez mais insólitos e longínquos\, na busca de algo que está sempre à espera para ser descoberto\, independente da distância percorrida.  \nA aventura de ser estrangeiro no tempo e no espaço\, nos diversos lugares ao redor do planeta agrega histórias e memórias novas\, à medida que fronteiras são suplantadas e o novo\, o inédito passa a ser compreendido e agregado ao repertório das vivências. \nDesafivele seu cinto e desembarque nas múltiplas possibilidades disponíveis nos relatos e nas histórias de Marco Resende e José Roque Guimarães neste magnifico conjunto de viagens. \n Concepção\, Expografia e texto: Alexandre Eckert.
URL:https://fotoclubepoa.com.br/evento/exposicao-halifax-e-outros-destinos-por-marco-resende-e-jose-roque-guimaraes-visitacao/
LOCATION:Confeitaria Maomé\, Rua Vicente da Fontoura\, 1857\, Porto Alegre\, Rio Grande do Sul\, Brasil
CATEGORIES:Exposições
ATTACH;FMTTYPE=image/jpeg:https://fotoclubepoa.com.br/wp-content/uploads/2024/10/Destinos-PossiveisOUTRO-QUADRADO-RF2-CARD-300924_page-0001.jpg
END:VEVENT
END:VCALENDAR