BEGIN:VCALENDAR
VERSION:2.0
PRODID:-//Fotoclube Porto-alegrense - ECPv6.15.20//NONSGML v1.0//EN
CALSCALE:GREGORIAN
METHOD:PUBLISH
X-ORIGINAL-URL:https://fotoclubepoa.com.br
X-WR-CALDESC:Eventos para Fotoclube Porto-alegrense
REFRESH-INTERVAL;VALUE=DURATION:PT1H
X-Robots-Tag:noindex
X-PUBLISHED-TTL:PT1H
BEGIN:VTIMEZONE
TZID:America/Sao_Paulo
BEGIN:STANDARD
TZOFFSETFROM:-0300
TZOFFSETTO:-0300
TZNAME:-03
DTSTART:20230101T000000
END:STANDARD
END:VTIMEZONE
BEGIN:VEVENT
DTSTART;TZID=America/Sao_Paulo:20240912T180000
DTEND;TZID=America/Sao_Paulo:20241014T200000
DTSTAMP:20260425T133017
CREATED:20240904T195851Z
LAST-MODIFIED:20240904T195851Z
UID:6449-1726164000-1728936000@fotoclubepoa.com.br
SUMMARY:[Exposição] Terra Animal\, por Jorge Neumann e Sérgio de Paula Ramos VISITAÇÃO
DESCRIPTION:Exposição Fotográfica “Terra Animal” por Jorge Neumann e Sérgio de Paula Ramos\n  \n\nVisitação: 11/09 a 14/10\, de segunda a sexta-feira\, das 8h às 20h\nLocal: Galeria Carlinhos Rodrigues\, Confeitaria Maomé\, Rua Vicente da Fontoura\, 1857\, Porto Alegre/RS\nConcepção e Expografia: Alexandre Eckert\nOrganização: Carlinhos Rodrigues\nApoio: Fotoclube Porto-alegrense\n\n\n\n\n\nO Fotoclube Porto-alegrense convida todos para a abertura da exposição fotográfica “Terra Animal\,” com obras de Jorge Neumann e Sérgio de Paula Ramos\, que aconteceu no dia 11 de setembro de 2024\, às 18h\, na Galeria Carlinhos Rodrigues. \nAmbos os fotógrafos\, além de médicos renomados\, são associados do Fotoclube Porto-alegrense e têm uma longa trajetória na fotografia: \n\nJorge Neumann\, médico imunologista e membro da Academia Sul-Rio-Grandense de Medicina\, explora a natureza e seus detalhes com sua Sony A7 IV\, capturando imagens fascinantes de aviões e\, mais recentemente\, de paisagens naturais.\nSérgio de Paula Ramos\, psiquiatra e psicanalista\, traz à exposição sua vasta experiência em fotografia de vida selvagem\, com imagens impactantes que refletem sua conexão profunda com a natureza.\n\nA exposição “Terra Animal” oferece uma janela para a beleza e a complexidade dos ecossistemas naturais\, destacando a importância da conservação e preservação das espécies e do meio ambiente. Com curadoria e expografia de Alexandre Eckert\, esta mostra é um convite para explorar um universo repleto de simplicidade e beleza\, onde a natureza revela sua força e encantos. \n \nVenha prestigiar este encontro com a natureza na Galeria Carlinhos Rodrigues\, localizada na Confeitaria Maomé\, e aproveite para desfrutar das delícias que este espaço acolhedor oferece. A visitação estará aberta de 11 de setembro a 14 de outubro\, de segunda a sexta-feira\, das 8h às 20h. \nTexto: Alexandre Eckert\n\n“Olhe profundamente a natureza e então você entenderá tudo melhor” Albert Einstein.\nSempre que voltamos a estabelecer uma conexão com a natureza tomamos consciência do quanto estamos afastados dela.\nA transformação da raça humana de nômades em gregários originou a sua fixação em outros territórios e com o desenvolvimento das urbes\, ampliou a distância entre a paisagem construída e a natural.\nPara podermos perceber e interagir com a natureza primitiva temos que nos deslocar para lugares cada vez mais afastados e longínquos.\nNestas conexões temos a oportunidade de mergulhar em outro universo\, onde o tempo tem ciclos e relações diversas das que estamos acostumados a vivenciar no mundo urbano.\nO equilíbrio do meio ambiente e a sobrevivência das espécies são os principais determinantes no meio de vida natural. Presas e predadores não são inimigos\, são seres que representam partes de uma grande cadeia\, que sem a interferência do homem\, salvo situações totalmente inusitadas\, tendem a permanecer em equilíbrio mantendo intacta a biodiversidade.\nReestabelecer uma relação de observação e respeito pelo mundo natural traz para o humano uma compreensão da importância da manutenção deste imenso e interligado ecossistema.\nTrazer imagens de locais isolados\, muitas vezes com condições de acesso limitadas\, possibilita compartilhar momentos belos e inéditos que multiplicam a possibilidade de conhecimento para muitas pessoas que não tem a oportunidade da proximidade deste contato.\nA fotografia da natureza oferece uma janela aberta para a beleza e complexidade dos ecossistemas naturais\, capturando a essência das criaturas em seus habitats específicos. Tem também a missão de conscientizar o homem da necessidade de conservação e preservação das diversas espécies e da relação que elas estabelecem como o meio ambiente.\nJorge Neumann médico imunologista e Sérgio de Paula Ramos médico psiquiatra\, se conhecem desde 2015\, quando ambos foram eleitos para Membro Titular da Academia Sul-Rio-grandense de Medicina\, transitam há algum tempo pela fotografia\, território em que mesclam ciência\, paixão e emoção.\nA fotografia de natureza transformou-se em um caminho comum\, provocando novos encontros e inúmeras viagens para encontrar habitats\, flora e fauna\, lugares onde o meio natural pulsa de modo intenso e mágico.\nO conjunto de imagens desta exposição apresenta um apanhado destas diferentes incursões pela terra animal\, convidando os espectadores a conhecer um pouco deste outro universo\, repleto de simplicidade e beleza.\nConcepção e Expografia: Alexandre Ecker
URL:https://fotoclubepoa.com.br/evento/exposicao-terra-animal-por-jorge-neumann-e-sergio-de-paula-ramos-visitacao/
LOCATION:Confeitaria Maomé\, Rua Vicente da Fontoura\, 1857\, Porto Alegre\, Rio Grande do Sul\, Brasil
CATEGORIES:Exposições
ATTACH;FMTTYPE=image/png:https://fotoclubepoa.com.br/wp-content/uploads/2024/09/Terra-Animal-feed.png
END:VEVENT
BEGIN:VEVENT
DTSTART;TZID=America/Sao_Paulo:20241016T180000
DTEND;TZID=America/Sao_Paulo:20241016T203000
DTSTAMP:20260425T133017
CREATED:20241012T205313Z
LAST-MODIFIED:20241012T205804Z
UID:6563-1729101600-1729110600@fotoclubepoa.com.br
SUMMARY:[Exposição] Halifax e Outros Destinos\, por Marco Resende e José Roque Guimarães ABERTURA
DESCRIPTION:Exposição Fotográfica “Halifax e Outros Destinos” por Marco Resende e José Roque Guimarães\n\n\n\n\n\n\n\n\n\n\n\nAbertura: 16 de outubro de 2024\, às 18h\nVisitação: 17/10 a 18/11\, de segunda a sexta-feira\, das 8h às 20h\nLocal: Galeria Carlinhos Rodrigues\, Confeitaria Maomé\, Rua Vicente da Fontoura\, 1857\, Porto Alegre/RS\nConcepção\, Expografia e Texto: Alexandre Eckert\nOrganização: Carlinhos Rodrigues\nApoio: Fotoclube Porto-alegrense \nO Fotoclube Porto-alegrense convida você para a abertura da exposição fotográfica “Halifax e Outros Destinos\,” com obras dos fotoclubistas Marco Resende e José Roque Guimarães\, que acontece no dia 16 de outubro de 2024\, às 18h\, na Galeria Carlinhos Rodrigues. \nNesta exposição\, os artistas nos transportam por uma jornada visual por Halifax\, no Canadá\, e outros destinos ao redor do mundo. As fotografias capturam a essência das viagens\, da diversidade de paisagens e culturas\, e das narrativas construídas ao longo do caminho. Inspirados pelo espírito de aventura e pela busca de novas descobertas\, Marco e José Roque nos convidam a vivenciar suas experiências de viagem através das lentes. \nCom curadoria e expografia de Alexandre Eckert\, “Halifax e Outros Destinos” nos faz refletir sobre a viagem como uma metáfora para a vida e nos inspira a ultrapassar fronteiras em busca do desconhecido. \nVenha embarcar nesta aventura visual e aproveite para desfrutar do aconchegante ambiente da Confeitaria Maomé\, onde a arte e a gastronomia se encontram. A visitação estará aberta de 17 de outubro a 18 de novembro\, de segunda a sexta-feira\, das 8h às 20h. \nNão perca essa oportunidade de conhecer novas culturas e paisagens por meio das fotografias de Marco Resende e José Roque Guimarães! \n#ExposiçãoHalifaxEOlhosDestinos #FotografiaDeViagem #FotoclubePortoAlegrense #fotoclubepoa #fotoclube @fcpoa #GaleriaCarlinhosRodrigues #ConfeitariaMaomé #ArteFotográfica #Cultura #PortoAlegre \n        \n\nTexto Alexandre Eckert\nHALIFAX E OUTROS DESTINOS \nUma coleção de fotografias de viagem \n“Para viajar basta existir” \n“As viagens são os viajantes”.  \n“O que vemos não é o que vemos\, senão o que somos.” \nFernando Pessoa \n Viajar sempre encantou o homem que era gregário antes de começar a encontrar seus lugares pelo mundo. Ultrapassar fronteiras invisíveis alimentou intensamente o desejo de novas descobertas. \nA diversidade de paisagens. O conhecer novas culturas\, o partir estabelecendo destinos\, mas\, sobretudo se encantando com os caminhos da viagem proporcionam a possibilidade de construir belas narrativas. \n Marco Polo\, o primeiro grande viajante\, nesse seu movimentar pelo mundo trouxe em suas descobertas o novo que ampliou conhecimentos\, compartilhou hábitos\, influenciou costumes e provocou a interação entre a multiplicidade do homem\, que habita e se adapta a diversas regiões do mundo. \n Pensar nos transporta para outras possibilidades. A viagem (mais longa) se inicia em nós\, onde as distâncias e a ilusão são ainda imensuráveis. \nAlém dos tempos da infância\, quando qualquer saída representava uma viagem ao redor do mundo\, viajar é partir em direção a um destino aparentemente estabelecido\, estando aberto a todas as experiências disponíveis que poderão ser encontradas. \nAssim surgiram em pensamentos a construção de viagens imaginárias por lugares cada vez mais insólitos e longínquos\, na busca de algo que está sempre à espera para ser descoberto\, independente da distância percorrida.  \nA aventura de ser estrangeiro no tempo e no espaço\, nos diversos lugares ao redor do planeta agrega histórias e memórias novas\, à medida que fronteiras são suplantadas e o novo\, o inédito passa a ser compreendido e agregado ao repertório das vivências. \nDesafivele seu cinto e desembarque nas múltiplas possibilidades disponíveis nos relatos e nas histórias de Marco Resende e José Roque Guimarães neste magnifico conjunto de viagens. \n Concepção\, Expografia e texto: Alexandre Eckert.
URL:https://fotoclubepoa.com.br/evento/exposicao-halifax-e-outros-destinos-por-marco-resende-e-jose-roque-guimaraes/
LOCATION:Confeitaria Maomé\, Rua Vicente da Fontoura\, 1857\, Porto Alegre\, Rio Grande do Sul\, Brasil
CATEGORIES:Exposições
ATTACH;FMTTYPE=image/jpeg:https://fotoclubepoa.com.br/wp-content/uploads/2024/10/Destinos-PossiveisOUTRO-QUADRADO-RF2-CARD-300924_page-0001.jpg
END:VEVENT
BEGIN:VEVENT
DTSTART;TZID=America/Sao_Paulo:20241017T080000
DTEND;TZID=America/Sao_Paulo:20250228T200000
DTSTAMP:20260425T133017
CREATED:20241012T205527Z
LAST-MODIFIED:20250208T193157Z
UID:6569-1729152000-1740772800@fotoclubepoa.com.br
SUMMARY:[Exposição] Halifax e Outros Destinos\, por Marco Resende e José Roque Guimarães VISITAÇÃO
DESCRIPTION:Exposição Fotográfica “Halifax e Outros Destinos” por Marco Resende e José Roque Guimarães\n\n\n\n\n\n\n\n\n\n\n\nAbertura: 16 de outubro de 2024\, às 18h\nVisitação: 17/10/2024 a 28/02/2025\, de segunda a sexta-feira\, das 8h às 20h\nLocal: Galeria Carlinhos Rodrigues\, Confeitaria Maomé\, Rua Vicente da Fontoura\, 1857\, Porto Alegre/RS\nConcepção\, Expografia e Texto: Alexandre Eckert\nOrganização: Carlinhos Rodrigues\nApoio: Fotoclube Porto-alegrense \nO Fotoclube Porto-alegrense convida você para a abertura da exposição fotográfica “Halifax e Outros Destinos\,” com obras dos fotoclubistas Marco Resende e José Roque Guimarães\, que aconteceu no dia 16 de outubro de 2024\, às 18h\, na Galeria Carlinhos Rodrigues. \nNesta exposição\, os artistas nos transportam por uma jornada visual por Halifax\, no Canadá\, e outros destinos ao redor do mundo. As fotografias capturam a essência das viagens\, da diversidade de paisagens e culturas\, e das narrativas construídas ao longo do caminho. Inspirados pelo espírito de aventura e pela busca de novas descobertas\, Marco e José Roque nos convidam a vivenciar suas experiências de viagem através das lentes. \nCom curadoria e expografia de Alexandre Eckert\, “Halifax e Outros Destinos” nos faz refletir sobre a viagem como uma metáfora para a vida e nos inspira a ultrapassar fronteiras em busca do desconhecido. \nVenha embarcar nesta aventura visual e aproveite para desfrutar do aconchegante ambiente da Confeitaria Maomé\, onde a arte e a gastronomia se encontram. A visitação estará aberta de 17 de outubro de 2024 a 28 de fevereiro de 2025\, de segunda a sexta-feira\, das 8h às 20h. \nNão perca essa oportunidade de conhecer novas culturas e paisagens por meio das fotografias de Marco Resende e José Roque Guimarães! \n#ExposiçãoHalifaxEOlhosDestinos #FotografiaDeViagem #FotoclubePortoAlegrense #fotoclubepoa #fotoclube @fcpoa #GaleriaCarlinhosRodrigues #ConfeitariaMaomé #ArteFotográfica #Cultura #PortoAlegre \n        \n\nTexto Alexandre Eckert\nHALIFAX E OUTROS DESTINOS \nUma coleção de fotografias de viagem \n“Para viajar basta existir” \n“As viagens são os viajantes”.  \n“O que vemos não é o que vemos\, senão o que somos.” \nFernando Pessoa \n Viajar sempre encantou o homem que era gregário antes de começar a encontrar seus lugares pelo mundo. Ultrapassar fronteiras invisíveis alimentou intensamente o desejo de novas descobertas. \nA diversidade de paisagens. O conhecer novas culturas\, o partir estabelecendo destinos\, mas\, sobretudo se encantando com os caminhos da viagem proporcionam a possibilidade de construir belas narrativas. \n Marco Polo\, o primeiro grande viajante\, nesse seu movimentar pelo mundo trouxe em suas descobertas o novo que ampliou conhecimentos\, compartilhou hábitos\, influenciou costumes e provocou a interação entre a multiplicidade do homem\, que habita e se adapta a diversas regiões do mundo. \n Pensar nos transporta para outras possibilidades. A viagem (mais longa) se inicia em nós\, onde as distâncias e a ilusão são ainda imensuráveis. \nAlém dos tempos da infância\, quando qualquer saída representava uma viagem ao redor do mundo\, viajar é partir em direção a um destino aparentemente estabelecido\, estando aberto a todas as experiências disponíveis que poderão ser encontradas. \nAssim surgiram em pensamentos a construção de viagens imaginárias por lugares cada vez mais insólitos e longínquos\, na busca de algo que está sempre à espera para ser descoberto\, independente da distância percorrida.  \nA aventura de ser estrangeiro no tempo e no espaço\, nos diversos lugares ao redor do planeta agrega histórias e memórias novas\, à medida que fronteiras são suplantadas e o novo\, o inédito passa a ser compreendido e agregado ao repertório das vivências. \nDesafivele seu cinto e desembarque nas múltiplas possibilidades disponíveis nos relatos e nas histórias de Marco Resende e José Roque Guimarães neste magnifico conjunto de viagens. \n Concepção\, Expografia e texto: Alexandre Eckert.
URL:https://fotoclubepoa.com.br/evento/exposicao-halifax-e-outros-destinos-por-marco-resende-e-jose-roque-guimaraes-visitacao/
LOCATION:Confeitaria Maomé\, Rua Vicente da Fontoura\, 1857\, Porto Alegre\, Rio Grande do Sul\, Brasil
CATEGORIES:Exposições
ATTACH;FMTTYPE=image/jpeg:https://fotoclubepoa.com.br/wp-content/uploads/2024/10/Destinos-PossiveisOUTRO-QUADRADO-RF2-CARD-300924_page-0001.jpg
END:VEVENT
BEGIN:VEVENT
DTSTART;TZID=America/Sao_Paulo:20241022T170000
DTEND;TZID=America/Sao_Paulo:20241022T200000
DTSTAMP:20260425T133017
CREATED:20241020T144648Z
LAST-MODIFIED:20241020T144648Z
UID:6621-1729616400-1729627200@fotoclubepoa.com.br
SUMMARY:[Exposição] Halifax e Outros Destinos\, por Marco Resende e José Roque Guimarães VISITA GUIADA
DESCRIPTION:Exposição Fotográfica “Halifax e Outros Destinos” por Marco Resende e José Roque Guimarães\n\n\n\n\n\n\n\n\n\n\n\nVisita Guiada com autores: 22 de outubro de 2024\, às 17h.\nVisitação: 17/10 a 18/11\, de segunda a sexta-feira\, das 8h às 20h.\nLocal: Galeria Carlinhos Rodrigues\, Confeitaria Maomé\, Rua Vicente da Fontoura\, 1857\, Porto Alegre/RS.\nConcepção\, Expografia e Texto: Alexandre Eckert.\nOrganização: Carlinhos Rodrigues.\nApoio: Fotoclube Porto-alegrense. \nO Fotoclube Porto-alegrense convida você para a abertura da exposição fotográfica “Halifax e Outros Destinos\,” com obras dos fotoclubistas Marco Resende e José Roque Guimarães\, que acontece na Galeria Carlinhos Rodrigues. \nNesta exposição\, os artistas nos transportam por uma jornada visual por Halifax\, no Canadá\, e outros destinos ao redor do mundo. As fotografias capturam a essência das viagens\, da diversidade de paisagens e culturas\, e das narrativas construídas ao longo do caminho. Inspirados pelo espírito de aventura e pela busca de novas descobertas\, Marco e José Roque nos convidam a vivenciar suas experiências de viagem através das lentes. \nCom curadoria e expografia de Alexandre Eckert\, “Halifax e Outros Destinos” nos faz refletir sobre a viagem como uma metáfora para a vida e nos inspira a ultrapassar fronteiras em busca do desconhecido. \nVenha embarcar nesta aventura visual e aproveite para desfrutar do aconchegante ambiente da Confeitaria Maomé\, onde a arte e a gastronomia se encontram. A visitação estará aberta de 17 de outubro a 18 de novembro\, de segunda a sexta-feira\, das 8h às 20h. \nNão perca essa oportunidade de conhecer novas culturas e paisagens por meio das fotografias de Marco Resende e José Roque Guimarães! \n#ExposiçãoHalifaxEOlhosDestinos #FotografiaDeViagem #FotoclubePortoAlegrense #fotoclubepoa #fotoclube @fcpoa #GaleriaCarlinhosRodrigues #ConfeitariaMaomé #ArteFotográfica #Cultura #PortoAlegre \n        \n\nTexto Alexandre Eckert\nHALIFAX E OUTROS DESTINOS \nUma coleção de fotografias de viagem \n“Para viajar basta existir” \n“As viagens são os viajantes”.  \n“O que vemos não é o que vemos\, senão o que somos.” \nFernando Pessoa \n Viajar sempre encantou o homem que era gregário antes de começar a encontrar seus lugares pelo mundo. Ultrapassar fronteiras invisíveis alimentou intensamente o desejo de novas descobertas. \nA diversidade de paisagens. O conhecer novas culturas\, o partir estabelecendo destinos\, mas\, sobretudo se encantando com os caminhos da viagem proporcionam a possibilidade de construir belas narrativas. \n Marco Polo\, o primeiro grande viajante\, nesse seu movimentar pelo mundo trouxe em suas descobertas o novo que ampliou conhecimentos\, compartilhou hábitos\, influenciou costumes e provocou a interação entre a multiplicidade do homem\, que habita e se adapta a diversas regiões do mundo. \n Pensar nos transporta para outras possibilidades. A viagem (mais longa) se inicia em nós\, onde as distâncias e a ilusão são ainda imensuráveis. \nAlém dos tempos da infância\, quando qualquer saída representava uma viagem ao redor do mundo\, viajar é partir em direção a um destino aparentemente estabelecido\, estando aberto a todas as experiências disponíveis que poderão ser encontradas. \nAssim surgiram em pensamentos a construção de viagens imaginárias por lugares cada vez mais insólitos e longínquos\, na busca de algo que está sempre à espera para ser descoberto\, independente da distância percorrida.  \nA aventura de ser estrangeiro no tempo e no espaço\, nos diversos lugares ao redor do planeta agrega histórias e memórias novas\, à medida que fronteiras são suplantadas e o novo\, o inédito passa a ser compreendido e agregado ao repertório das vivências. \nDesafivele seu cinto e desembarque nas múltiplas possibilidades disponíveis nos relatos e nas histórias de Marco Resende e José Roque Guimarães neste magnifico conjunto de viagens. \n Concepção\, Expografia e texto: Alexandre Eckert.
URL:https://fotoclubepoa.com.br/evento/exposicao-halifax-e-outros-destinos-por-marco-resende-e-jose-roque-guimaraes-visita-guiada/
LOCATION:Confeitaria Maomé\, Rua Vicente da Fontoura\, 1857\, Porto Alegre\, Rio Grande do Sul\, Brasil
CATEGORIES:Exposições
ATTACH;FMTTYPE=image/jpeg:https://fotoclubepoa.com.br/wp-content/uploads/2024/10/Destinos-PossiveisOUTRO-QUADRADO-RF2-CARD-300924_page-0001.jpg
END:VEVENT
END:VCALENDAR