BEGIN:VCALENDAR
VERSION:2.0
PRODID:-//Fotoclube Porto-alegrense - ECPv6.15.20//NONSGML v1.0//EN
CALSCALE:GREGORIAN
METHOD:PUBLISH
X-ORIGINAL-URL:https://fotoclubepoa.com.br
X-WR-CALDESC:Eventos para Fotoclube Porto-alegrense
REFRESH-INTERVAL;VALUE=DURATION:PT1H
X-Robots-Tag:noindex
X-PUBLISHED-TTL:PT1H
BEGIN:VTIMEZONE
TZID:America/Sao_Paulo
BEGIN:STANDARD
TZOFFSETFROM:-0300
TZOFFSETTO:-0300
TZNAME:-03
DTSTART:20230101T000000
END:STANDARD
END:VTIMEZONE
BEGIN:VEVENT
DTSTART;TZID=America/Sao_Paulo:20240815T080000
DTEND;TZID=America/Sao_Paulo:20240912T200000
DTSTAMP:20260425T150902
CREATED:20240727T220638Z
LAST-MODIFIED:20240805T224134Z
UID:6226-1723708800-1726171200@fotoclubepoa.com.br
SUMMARY:[Exposição] Metamorfose\, por Carlinhos Rodrigue VISITAÇÃO
DESCRIPTION:Exposição “Metamorfoses”\, por Carlinhos Rodrigues\n  \nAbertura: Quarta-feira\, 14/08 às 18h\nVisitação: 15/08 a 12/09\, de segunda a sexta-feira\, das 8h às 20h.\nLocal: Galeria Carlinhos Rodrigues\, Confeitaria Maomé\, Rua Vicente da Fontoura\, 1857\, Porto Alegre/RS \nA Galeria Carlinhos Rodrigues tem o prazer de anunciar a exposição “Metamorfoses\,” uma coleção de obras do talentoso artista Carlinhos Rodrigues. Esta exposição\, que será inaugurada no dia 14 de agosto às 18h\, ficará aberta para visitação de 15 de agosto a 12 de setembro\, de segunda a sexta-feira\, das 8h às 20h. \n“Metamorfoses” oferece uma perspectiva única sobre as transformações da vida\, capturando momentos de mudança através das lentes de Carlinhos Rodrigues. A exposição promete inspirar e provocar reflexão\, mostrando a beleza e a complexidade das transições que todos vivemos. \nAlém da exposição “Metamorfoses\,” o público também poderá visitar simultaneamente a exposição “BlackBird\,” que celebra os 30 anos do projeto Beatles em Concerto. Venha prestigiar esta rica experiência cultural e aproveite para explorar duas exposições únicas no mesmo espaço.
URL:https://fotoclubepoa.com.br/evento/exposicao-metamorfose-por-carlinhos-rodrigue-visitacao/
LOCATION:Confeitaria Maomé\, Rua Vicente da Fontoura\, 1857\, Porto Alegre\, Rio Grande do Sul\, Brasil
CATEGORIES:Exposições
ATTACH;FMTTYPE=image/png:https://fotoclubepoa.com.br/wp-content/uploads/2024/07/AGENDA-CULTURAL-V1-40.png
END:VEVENT
BEGIN:VEVENT
DTSTART;TZID=America/Sao_Paulo:20240815T080000
DTEND;TZID=America/Sao_Paulo:20240918T200000
DTSTAMP:20260425T150902
CREATED:20240727T220731Z
LAST-MODIFIED:20240802T135704Z
UID:6228-1723708800-1726689600@fotoclubepoa.com.br
SUMMARY:[Exposição] BlackBird\, por Beatles em Concerto VISITAÇÃO
DESCRIPTION:Exposição “BlackBird”\, em comemoração aos 30 anos do Beatles em Concerto\n  \nAbertura: Quarta-feira\, 14/08 às 18h\nVisitação: 15/08 a 12/09\, de segunda a sexta-feira\, das 8h às 20h.\nLocal: Galeria Carlinhos Rodrigues\, Confeitaria Maomé\, Rua Vicente da Fontoura\, 1857\, Porto Alegre/RS \nA Galeria Carlinhos Rodrigues\, tem a honra de apresentar a exposição “BlackBird\,” uma celebração dos 30 anos do projeto Beatles em Concerto. A abertura será no dia 14 de agosto às 18h\, com visitação de 15 de agosto a 12 de setembro\, de segunda a sexta-feira\, das 8h às 20h. \n“BlackBird” reúne 13 talentosos artistas\, incluindo 12 fotoclubistas e um convidado especial\, Luiz Carlos Felizardo. Esta exposição\, anteriormente apresentada no Theatro São Pedro\, faz parte das comemorações do projeto Beatles em Concerto e inclui fotografias selecionadas por meio de um concurso interno realizado pelo Fotoclube Porto-alegrense. \nFotoclubistas participantes:\nÂngela Cristina Santos | Ana Fernanda Tarrago Grovermann | Anelise Ferreira | Ayres Potthoff | Bia Donelli | Carlos Rangel | Cris Matos | Fernando Schmitt | Gutemberg Ostemberg | Luis Schossler | Marcelo Leal | Viviane Monteavaro \nParalelamente à exposição “BlackBird\,” os visitantes poderão apreciar a exposição “Metamorfoses” de Carlinhos Rodrigues\, oferecendo uma experiência cultural rica e diversificada em um único espaço. Não perca a oportunidade de explorar essas duas mostras extraordinárias. \n  \nLivro BlackBird\n\nInspirados nas canções dos Beatles que integram o repertório de Beatles em Concerto\, 13 autores e 13 fotógrafos compuseram contos e fotos inéditas que são apresentadas ao público em Blackbird.  Formado por Ayres Potthoff na flauta\, Daniel Wolff no violão e Rodrigo Alquati no cello\, Beatles em Concerto está comemorando 30 anos de apresentações\, tendo passado por palcos do Brasil\, Uruguai\, Peru\, Estados Unidos\, Portugal e Noruega. Além de reunir o talento de escritores\, escritoras e de fotógrafos  e fotógrafas do Fotoclube Porto-alegrense\, Blackbird é um dos braços do projeto educativo Musicando para o Futuro — iniciativa que une música\, literatura\, criatividade e educação para capacitar\, gratuitamente\, educadores da rede pública de ensino do Rio Grande do Sul. \nAutores participantes \n\nAna Marson\nAyres Potthoff\nClaudia Tajes\nCíntia Moscovich\nGuto Leite\nLuís Augusto Fischer\nLuiz Mauricio Azevedo\nMarcelo Martins\nNathallia Protazio\nOndina Fachel Leal\nRenata Azevedo Requião\nSandro Farias\nZara Gerhardt\n\nFotógrafos participantes \n\nAna Fernanda Tarrago\nAnelise Barra Ferreira\nAngela Cristina Ribeiro dos Santos\nAyres Potthoff\nBia Donelli\nCarlos Rangel\nCris Mattos\nFernando B. Schmitt\nGutemberg Ostemberg\nLuis Fernando Schossler Carvalho\nLuiz Carlos Felizardo\nMarcelo Leal\nViviane Monteavaro\n\nVenda do Livro BlackBird na Loja Quatorze Vinte e Um.
URL:https://fotoclubepoa.com.br/evento/exposicao-blackbird-por-beatles-em-concerto-visitacao/
LOCATION:Confeitaria Maomé\, Rua Vicente da Fontoura\, 1857\, Porto Alegre\, Rio Grande do Sul\, Brasil
CATEGORIES:Exposições
ATTACH;FMTTYPE=image/png:https://fotoclubepoa.com.br/wp-content/uploads/2024/07/AGENDA-CULTURAL-V1-39.png
END:VEVENT
BEGIN:VEVENT
DTSTART;TZID=America/Sao_Paulo:20240911T180000
DTEND;TZID=America/Sao_Paulo:20240911T200000
DTSTAMP:20260425T150902
CREATED:20240904T123254Z
LAST-MODIFIED:20240904T195924Z
UID:6442-1726077600-1726084800@fotoclubepoa.com.br
SUMMARY:[Exposição] Terra Animal\, por Jorge Neumann e Sérgio de Paula Ramos ABERTURA
DESCRIPTION:Exposição Fotográfica “Terra Animal” por Jorge Neumann e Sérgio de Paula Ramos\n  \n\nAbertura: 11 de setembro de 2024\, às 18h\nVisitação: 12/09 a 14/10\, de segunda a sexta-feira\, das 8h às 20h\nLocal: Galeria Carlinhos Rodrigues\, Confeitaria Maomé\, Rua Vicente da Fontoura\, 1857\, Porto Alegre/RS\nConcepção e Expografia: Alexandre Eckert\nOrganização: Carlinhos Rodrigues\nApoio: Fotoclube Porto-alegrense\n\n\n\n\n\nO Fotoclube Porto-alegrense convida todos para a abertura da exposição fotográfica “Terra Animal\,” com obras de Jorge Neumann e Sérgio de Paula Ramos\, que acontece no dia 11 de setembro de 2024\, às 18h\, na Galeria Carlinhos Rodrigues. \nAmbos os fotógrafos\, além de médicos renomados\, são associados do Fotoclube Porto-alegrense e têm uma longa trajetória na fotografia: \n\nJorge Neumann\, médico imunologista e membro da Academia Sul-Rio-Grandense de Medicina\, explora a natureza e seus detalhes com sua Sony A7 IV\, capturando imagens fascinantes de aviões e\, mais recentemente\, de paisagens naturais.\nSérgio de Paula Ramos\, psiquiatra e psicanalista\, traz à exposição sua vasta experiência em fotografia de vida selvagem\, com imagens impactantes que refletem sua conexão profunda com a natureza.\n\nA exposição “Terra Animal” oferece uma janela para a beleza e a complexidade dos ecossistemas naturais\, destacando a importância da conservação e preservação das espécies e do meio ambiente. Com curadoria e expografia de Alexandre Eckert\, esta mostra é um convite para explorar um universo repleto de simplicidade e beleza\, onde a natureza revela sua força e encantos. \n \nVenha prestigiar este encontro com a natureza na Galeria Carlinhos Rodrigues\, localizada na Confeitaria Maomé\, e aproveite para desfrutar das delícias que este espaço acolhedor oferece. A visitação estará aberta de 12 de setembro a 14 de outubro\, de segunda a sexta-feira\, das 8h às 20h. \nTexto: Alexandre Eckert\n\n“Olhe profundamente a natureza e então você entenderá tudo melhor” Albert Einstein.\nSempre que voltamos a estabelecer uma conexão com a natureza tomamos consciência do quanto estamos afastados dela.\nA transformação da raça humana de nômades em gregários originou a sua fixação em outros territórios e com o desenvolvimento das urbes\, ampliou a distância entre a paisagem construída e a natural.\nPara podermos perceber e interagir com a natureza primitiva temos que nos deslocar para lugares cada vez mais afastados e longínquos.\nNestas conexões temos a oportunidade de mergulhar em outro universo\, onde o tempo tem ciclos e relações diversas das que estamos acostumados a vivenciar no mundo urbano.\nO equilíbrio do meio ambiente e a sobrevivência das espécies são os principais determinantes no meio de vida natural. Presas e predadores não são inimigos\, são seres que representam partes de uma grande cadeia\, que sem a interferência do homem\, salvo situações totalmente inusitadas\, tendem a permanecer em equilíbrio mantendo intacta a biodiversidade.\nReestabelecer uma relação de observação e respeito pelo mundo natural traz para o humano uma compreensão da importância da manutenção deste imenso e interligado ecossistema.\nTrazer imagens de locais isolados\, muitas vezes com condições de acesso limitadas\, possibilita compartilhar momentos belos e inéditos que multiplicam a possibilidade de conhecimento para muitas pessoas que não tem a oportunidade da proximidade deste contato.\nA fotografia da natureza oferece uma janela aberta para a beleza e complexidade dos ecossistemas naturais\, capturando a essência das criaturas em seus habitats específicos. Tem também a missão de conscientizar o homem da necessidade de conservação e preservação das diversas espécies e da relação que elas estabelecem como o meio ambiente.\nJorge Neumann médico imunologista e Sérgio de Paula Ramos médico psiquiatra\, se conhecem desde 2015\, quando ambos foram eleitos para Membro Titular da Academia Sul-Rio-grandense de Medicina\, transitam há algum tempo pela fotografia\, território em que mesclam ciência\, paixão e emoção.\nA fotografia de natureza transformou-se em um caminho comum\, provocando novos encontros e inúmeras viagens para encontrar habitats\, flora e fauna\, lugares onde o meio natural pulsa de modo intenso e mágico.\nO conjunto de imagens desta exposição apresenta um apanhado destas diferentes incursões pela terra animal\, convidando os espectadores a conhecer um pouco deste outro universo\, repleto de simplicidade e beleza.\nConcepção e Expografia: Alexandre Ecker
URL:https://fotoclubepoa.com.br/evento/exposicao-terra-animal-galeria-carlinhos-rodrigues/
LOCATION:Confeitaria Maomé\, Rua Vicente da Fontoura\, 1857\, Porto Alegre\, Rio Grande do Sul\, Brasil
CATEGORIES:Exposições
ATTACH;FMTTYPE=image/png:https://fotoclubepoa.com.br/wp-content/uploads/2024/09/Terra-Animal-feed.png
END:VEVENT
BEGIN:VEVENT
DTSTART;TZID=America/Sao_Paulo:20240912T180000
DTEND;TZID=America/Sao_Paulo:20241014T200000
DTSTAMP:20260425T150902
CREATED:20240904T195851Z
LAST-MODIFIED:20240904T195851Z
UID:6449-1726164000-1728936000@fotoclubepoa.com.br
SUMMARY:[Exposição] Terra Animal\, por Jorge Neumann e Sérgio de Paula Ramos VISITAÇÃO
DESCRIPTION:Exposição Fotográfica “Terra Animal” por Jorge Neumann e Sérgio de Paula Ramos\n  \n\nVisitação: 11/09 a 14/10\, de segunda a sexta-feira\, das 8h às 20h\nLocal: Galeria Carlinhos Rodrigues\, Confeitaria Maomé\, Rua Vicente da Fontoura\, 1857\, Porto Alegre/RS\nConcepção e Expografia: Alexandre Eckert\nOrganização: Carlinhos Rodrigues\nApoio: Fotoclube Porto-alegrense\n\n\n\n\n\nO Fotoclube Porto-alegrense convida todos para a abertura da exposição fotográfica “Terra Animal\,” com obras de Jorge Neumann e Sérgio de Paula Ramos\, que aconteceu no dia 11 de setembro de 2024\, às 18h\, na Galeria Carlinhos Rodrigues. \nAmbos os fotógrafos\, além de médicos renomados\, são associados do Fotoclube Porto-alegrense e têm uma longa trajetória na fotografia: \n\nJorge Neumann\, médico imunologista e membro da Academia Sul-Rio-Grandense de Medicina\, explora a natureza e seus detalhes com sua Sony A7 IV\, capturando imagens fascinantes de aviões e\, mais recentemente\, de paisagens naturais.\nSérgio de Paula Ramos\, psiquiatra e psicanalista\, traz à exposição sua vasta experiência em fotografia de vida selvagem\, com imagens impactantes que refletem sua conexão profunda com a natureza.\n\nA exposição “Terra Animal” oferece uma janela para a beleza e a complexidade dos ecossistemas naturais\, destacando a importância da conservação e preservação das espécies e do meio ambiente. Com curadoria e expografia de Alexandre Eckert\, esta mostra é um convite para explorar um universo repleto de simplicidade e beleza\, onde a natureza revela sua força e encantos. \n \nVenha prestigiar este encontro com a natureza na Galeria Carlinhos Rodrigues\, localizada na Confeitaria Maomé\, e aproveite para desfrutar das delícias que este espaço acolhedor oferece. A visitação estará aberta de 11 de setembro a 14 de outubro\, de segunda a sexta-feira\, das 8h às 20h. \nTexto: Alexandre Eckert\n\n“Olhe profundamente a natureza e então você entenderá tudo melhor” Albert Einstein.\nSempre que voltamos a estabelecer uma conexão com a natureza tomamos consciência do quanto estamos afastados dela.\nA transformação da raça humana de nômades em gregários originou a sua fixação em outros territórios e com o desenvolvimento das urbes\, ampliou a distância entre a paisagem construída e a natural.\nPara podermos perceber e interagir com a natureza primitiva temos que nos deslocar para lugares cada vez mais afastados e longínquos.\nNestas conexões temos a oportunidade de mergulhar em outro universo\, onde o tempo tem ciclos e relações diversas das que estamos acostumados a vivenciar no mundo urbano.\nO equilíbrio do meio ambiente e a sobrevivência das espécies são os principais determinantes no meio de vida natural. Presas e predadores não são inimigos\, são seres que representam partes de uma grande cadeia\, que sem a interferência do homem\, salvo situações totalmente inusitadas\, tendem a permanecer em equilíbrio mantendo intacta a biodiversidade.\nReestabelecer uma relação de observação e respeito pelo mundo natural traz para o humano uma compreensão da importância da manutenção deste imenso e interligado ecossistema.\nTrazer imagens de locais isolados\, muitas vezes com condições de acesso limitadas\, possibilita compartilhar momentos belos e inéditos que multiplicam a possibilidade de conhecimento para muitas pessoas que não tem a oportunidade da proximidade deste contato.\nA fotografia da natureza oferece uma janela aberta para a beleza e complexidade dos ecossistemas naturais\, capturando a essência das criaturas em seus habitats específicos. Tem também a missão de conscientizar o homem da necessidade de conservação e preservação das diversas espécies e da relação que elas estabelecem como o meio ambiente.\nJorge Neumann médico imunologista e Sérgio de Paula Ramos médico psiquiatra\, se conhecem desde 2015\, quando ambos foram eleitos para Membro Titular da Academia Sul-Rio-grandense de Medicina\, transitam há algum tempo pela fotografia\, território em que mesclam ciência\, paixão e emoção.\nA fotografia de natureza transformou-se em um caminho comum\, provocando novos encontros e inúmeras viagens para encontrar habitats\, flora e fauna\, lugares onde o meio natural pulsa de modo intenso e mágico.\nO conjunto de imagens desta exposição apresenta um apanhado destas diferentes incursões pela terra animal\, convidando os espectadores a conhecer um pouco deste outro universo\, repleto de simplicidade e beleza.\nConcepção e Expografia: Alexandre Ecker
URL:https://fotoclubepoa.com.br/evento/exposicao-terra-animal-por-jorge-neumann-e-sergio-de-paula-ramos-visitacao/
LOCATION:Confeitaria Maomé\, Rua Vicente da Fontoura\, 1857\, Porto Alegre\, Rio Grande do Sul\, Brasil
CATEGORIES:Exposições
ATTACH;FMTTYPE=image/png:https://fotoclubepoa.com.br/wp-content/uploads/2024/09/Terra-Animal-feed.png
END:VEVENT
BEGIN:VEVENT
DTSTART;TZID=America/Sao_Paulo:20240927T173000
DTEND;TZID=America/Sao_Paulo:20240927T200000
DTSTAMP:20260425T150902
CREATED:20240927T155255Z
LAST-MODIFIED:20240927T155255Z
UID:6557-1727458200-1727467200@fotoclubepoa.com.br
SUMMARY:[Exposição] Terra Animal\, por Jorge Neumann e Sérgio de Paula Ramos ENCONTRO
DESCRIPTION:Exposição Fotográfica “Terra Animal” por Jorge Neumann e Sérgio de Paula Ramos\n  \n\nEncontro: 27/09\,  das 17h30 às 20h\nLocal: Galeria Carlinhos Rodrigues\, Confeitaria Maomé\, Rua Vicente da Fontoura\, 1857\, Porto Alegre/RS\nConcepção e Expografia: Alexandre Eckert\nOrganização: Carlinhos Rodrigues\nApoio: Fotoclube Porto-alegrense\n\n\n\n\n\nO Fotoclube Porto-alegrense convida todos para a abertura da exposição fotográfica “Terra Animal\,” com obras de Jorge Neumann e Sérgio de Paula Ramos\, que aconteceu no dia 11 de setembro de 2024\, às 18h\, na Galeria Carlinhos Rodrigues. \nAmbos os fotógrafos\, além de médicos renomados\, são associados do Fotoclube Porto-alegrense e têm uma longa trajetória na fotografia: \n\nJorge Neumann\, médico imunologista e membro da Academia Sul-Rio-Grandense de Medicina\, explora a natureza e seus detalhes com sua Sony A7 IV\, capturando imagens fascinantes de aviões e\, mais recentemente\, de paisagens naturais.\nSérgio de Paula Ramos\, psiquiatra e psicanalista\, traz à exposição sua vasta experiência em fotografia de vida selvagem\, com imagens impactantes que refletem sua conexão profunda com a natureza.\n\nA exposição “Terra Animal” oferece uma janela para a beleza e a complexidade dos ecossistemas naturais\, destacando a importância da conservação e preservação das espécies e do meio ambiente. Com curadoria e expografia de Alexandre Eckert\, esta mostra é um convite para explorar um universo repleto de simplicidade e beleza\, onde a natureza revela sua força e encantos. \n \nVenha prestigiar este encontro com a natureza na Galeria Carlinhos Rodrigues\, localizada na Confeitaria Maomé\, e aproveite para desfrutar das delícias que este espaço acolhedor oferece. A visitação estará aberta de 11 de setembro a 14 de outubro\, de segunda a sexta-feira\, das 8h às 20h. \nTexto: Alexandre Eckert\n\n“Olhe profundamente a natureza e então você entenderá tudo melhor” Albert Einstein.\nSempre que voltamos a estabelecer uma conexão com a natureza tomamos consciência do quanto estamos afastados dela.\nA transformação da raça humana de nômades em gregários originou a sua fixação em outros territórios e com o desenvolvimento das urbes\, ampliou a distância entre a paisagem construída e a natural.\nPara podermos perceber e interagir com a natureza primitiva temos que nos deslocar para lugares cada vez mais afastados e longínquos.\nNestas conexões temos a oportunidade de mergulhar em outro universo\, onde o tempo tem ciclos e relações diversas das que estamos acostumados a vivenciar no mundo urbano.\nO equilíbrio do meio ambiente e a sobrevivência das espécies são os principais determinantes no meio de vida natural. Presas e predadores não são inimigos\, são seres que representam partes de uma grande cadeia\, que sem a interferência do homem\, salvo situações totalmente inusitadas\, tendem a permanecer em equilíbrio mantendo intacta a biodiversidade.\nReestabelecer uma relação de observação e respeito pelo mundo natural traz para o humano uma compreensão da importância da manutenção deste imenso e interligado ecossistema.\nTrazer imagens de locais isolados\, muitas vezes com condições de acesso limitadas\, possibilita compartilhar momentos belos e inéditos que multiplicam a possibilidade de conhecimento para muitas pessoas que não tem a oportunidade da proximidade deste contato.\nA fotografia da natureza oferece uma janela aberta para a beleza e complexidade dos ecossistemas naturais\, capturando a essência das criaturas em seus habitats específicos. Tem também a missão de conscientizar o homem da necessidade de conservação e preservação das diversas espécies e da relação que elas estabelecem como o meio ambiente.\nJorge Neumann médico imunologista e Sérgio de Paula Ramos médico psiquiatra\, se conhecem desde 2015\, quando ambos foram eleitos para Membro Titular da Academia Sul-Rio-grandense de Medicina\, transitam há algum tempo pela fotografia\, território em que mesclam ciência\, paixão e emoção.\nA fotografia de natureza transformou-se em um caminho comum\, provocando novos encontros e inúmeras viagens para encontrar habitats\, flora e fauna\, lugares onde o meio natural pulsa de modo intenso e mágico.\nO conjunto de imagens desta exposição apresenta um apanhado destas diferentes incursões pela terra animal\, convidando os espectadores a conhecer um pouco deste outro universo\, repleto de simplicidade e beleza.\nConcepção e Expografia: Alexandre Ecker
URL:https://fotoclubepoa.com.br/evento/exposicao-terra-animal-por-jorge-neumann-e-sergio-de-paula-ramos-encontro/
LOCATION:Confeitaria Maomé\, Rua Vicente da Fontoura\, 1857\, Porto Alegre\, Rio Grande do Sul\, Brasil
CATEGORIES:Exposições
ATTACH;FMTTYPE=image/png:https://fotoclubepoa.com.br/wp-content/uploads/2024/09/Terra-Animal-feed.png
END:VEVENT
END:VCALENDAR