BEGIN:VCALENDAR
VERSION:2.0
PRODID:-//Fotoclube Porto-alegrense - ECPv6.15.20//NONSGML v1.0//EN
CALSCALE:GREGORIAN
METHOD:PUBLISH
X-WR-CALNAME:Fotoclube Porto-alegrense
X-ORIGINAL-URL:https://fotoclubepoa.com.br
X-WR-CALDESC:Eventos para Fotoclube Porto-alegrense
REFRESH-INTERVAL;VALUE=DURATION:PT1H
X-Robots-Tag:noindex
X-PUBLISHED-TTL:PT1H
BEGIN:VTIMEZONE
TZID:America/Sao_Paulo
BEGIN:STANDARD
TZOFFSETFROM:-0300
TZOFFSETTO:-0300
TZNAME:-03
DTSTART:20230101T000000
END:STANDARD
END:VTIMEZONE
BEGIN:VEVENT
DTSTART;TZID=America/Sao_Paulo:20240629T080000
DTEND;TZID=America/Sao_Paulo:20240808T200000
DTSTAMP:20260425T164810
CREATED:20240701T134948Z
LAST-MODIFIED:20240802T133426Z
UID:6075-1719648000-1723147200@fotoclubepoa.com.br
SUMMARY:[Exposição] As duas faces de Eva\, com Anelise Ferreira e Bia Donelli VISTAÇÃO
DESCRIPTION:Anelise Ferreira e Bia Donelli nos trazem em “As duas faces de Eva”\, a complexidade feminina\, num contraste entre a força da mulher e\, ao mesmo tempo\, a delicadeza. Uma brincadeira séria que une as suas pesquisas visuais. As fotógrafas questionam as padronizações e afirmam o direito a ser e fazer o que quiserem\, como pessoas livres e donas de si. Encontraram na música de Rita Lee a tradução perfeita dessa dualidade e homenageiam a cantora com Cor de rosa choque. Consideram que a luta por mais espaço\, direitos e reconhecimento ainda continua: “O sexo frágil\, não foge à luta\, … Por isso não provoque…” A abertura da exposição será dia 28 de junho\, as 18 horas e pode ser visitada até dia 08 de agosto deste ano\, na Confeitaria Maomé\, na Rua Vicente da Fontoura\, 1857 em Porto Alegre. \nServiço: \nAnelise Barra Ferreira e Bia Donelli\nExposição Fotográfica “As duas faces de Eva”\n\nLocal: Galeria Carlinhos Rodrigues\, na Confeitaria Maomé\nEndereço: Rua Vicente da Fontoura\, 1857 – Porto Alegre\nAbertura da Exposição: 28 de junho\, às 18h\nPeríodo de Visitação: De 29 de junho a 08 de agosto\nHorário de Funcionamento: Segunda a domingo\, das 8h às 20h\nEntrada: Gratuita\n\n  \nAnelise Barra Ferreira\, nascida e residente em Porto Alegre (RS). Doutora e Mestre em Educação pela UFRGS. Foi coordenadora do Laboratório de Fotografia\, pesquisando o fotografar com os alunos em uma escola especial (1990-2014). É proprietária da Oficina de Foto – espaço de criação e assessoria. A fotografia experimental e a macro fotografia são suas paixões. É sócia fundadora do Fotoclube Porto-alegrense. Participou de diversas exposições fotográficas\, tendo seu trabalho premiado em concursos. \nInstagram: @anelise_barra_ferreira \n  \nBia Donelli\, 60 anos\, nasceu em Caxias do Sul\, reside há 41 anos em Barra do Ribeiro/RS. Administradora de Empresas por formação e bancária aposentada\, fotografa desde 2012 com ênfase em fotografia da natureza\, urbana e fotografia fine art\, participando de diversas exposições coletivas e individuais\, podendo citar As Canibais e Street Expo Photo. É sócia fundadora do Fotoclube Porto-alegrense. \nInstagram: @biadonelli \n  \nSobre a Galeria Carlinhos Rodrigues: A Galeria Carlinhos Rodrigues\, localizada na Confeitaria Maomé em Porto Alegre\, é um espaço dedicado à exposição de obras fotográficas\, inaugurado em 14 de julho. Sob a curadoria do renomado fotógrafo Carlinhos Rodrigues\, a galeria tem como objetivo promover e celebrar a arte da fotografia\, apresentando o trabalho de talentosos fotógrafos locais e internacionais. \n  \n 
URL:https://fotoclubepoa.com.br/evento/exposicao-as-duas-faces-de-eva-com-anelise-ferreira-e-bia-donelli-vistacao/
LOCATION:Confeitaria Maomé\, Rua Vicente da Fontoura\, 1857\, Porto Alegre\, Rio Grande do Sul\, Brasil
CATEGORIES:Exposições
ATTACH;FMTTYPE=image/jpeg:https://fotoclubepoa.com.br/wp-content/uploads/2024/07/Cartaz-prorrogacao.jpg
END:VEVENT
BEGIN:VEVENT
DTSTART;TZID=America/Sao_Paulo:20240814T180000
DTEND;TZID=America/Sao_Paulo:20240814T200000
DTSTAMP:20260425T164810
CREATED:20240722T145639Z
LAST-MODIFIED:20240802T140021Z
UID:6186-1723658400-1723665600@fotoclubepoa.com.br
SUMMARY:[Exposição] Metamorfose\, por Carlinhos Rodrigue ABERTURA
DESCRIPTION:Exposição “Metamorfoses”\, por Carlinhos Rodrigues\n  \nAbertura: Quarta-feira\, 14/08 às 18h\nVisitação: 15/08 a 12/09\, de segunda a sexta-feira\, das 8h às 20h.\nLocal: Galeria Carlinhos Rodrigues\, Confeitaria Maomé\, Rua Vicente da Fontoura\, 1857\, Porto Alegre/RS \nA Galeria Carlinhos Rodrigues tem o prazer de anunciar a exposição “Metamorfoses\,” uma coleção de obras do talentoso artista Carlinhos Rodrigues. Esta exposição\, que será inaugurada no dia 14 de agosto às 18h\, ficará aberta para visitação de 15 de agosto a 12 de setembro\, de segunda a sexta-feira\, das 8h às 20h. \n“Metamorfoses” oferece uma perspectiva única sobre as transformações da vida\, capturando momentos de mudança através das lentes de Carlinhos Rodrigues. A exposição promete inspirar e provocar reflexão\, mostrando a beleza e a complexidade das transições que todos vivemos. \nAlém da exposição “Metamorfoses\,” o público também poderá visitar simultaneamente a exposição “BlackBird\,” que celebra os 30 anos do projeto Beatles em Concerto. Venha prestigiar esta rica experiência cultural e aproveite para explorar duas exposições únicas no mesmo espaço.
URL:https://fotoclubepoa.com.br/evento/exposicao-6-anos-fc-galeria-carlinhos-rodrigue-abertura/
LOCATION:Confeitaria Maomé\, Rua Vicente da Fontoura\, 1857\, Porto Alegre\, Rio Grande do Sul\, Brasil
CATEGORIES:Exposições
ATTACH;FMTTYPE=image/png:https://fotoclubepoa.com.br/wp-content/uploads/2024/07/AGENDA-CULTURAL-V1-40.png
END:VEVENT
BEGIN:VEVENT
DTSTART;TZID=America/Sao_Paulo:20240814T180000
DTEND;TZID=America/Sao_Paulo:20240814T200000
DTSTAMP:20260425T164810
CREATED:20240727T213414Z
LAST-MODIFIED:20240802T135832Z
UID:6218-1723658400-1723665600@fotoclubepoa.com.br
SUMMARY:[Exposição] BlackBird\, por Beatles em Concerto ABERTURA
DESCRIPTION:Exposição “BlackBird”\, em comemoração aos 30 anos do Beatles em Concerto\n  \nAbertura: Quarta-feira\, 14/08 às 18h\nVisitação: 15/08 a 12/09\, de segunda a sexta-feira\, das 8h às 20h.\nLocal: Galeria Carlinhos Rodrigues\, Confeitaria Maomé\, Rua Vicente da Fontoura\, 1857\, Porto Alegre/RS \nA Galeria Carlinhos Rodrigues\, tem a honra de apresentar a exposição “BlackBird\,” uma celebração dos 30 anos do projeto Beatles em Concerto. A abertura será no dia 14 de agosto às 18h\, com visitação de 15 de agosto a 12 de setembro\, de segunda a sexta-feira\, das 8h às 20h. \n“BlackBird” reúne 13 talentosos artistas\, incluindo 12 fotoclubistas e um convidado especial\, Luiz Carlos Felizardo. Esta exposição\, anteriormente apresentada no Theatro São Pedro\, faz parte das comemorações do projeto Beatles em Concerto e inclui fotografias selecionadas por meio de um concurso interno realizado pelo Fotoclube Porto-alegrense. \nFotoclubistas participantes:\nÂngela Cristina Santos | Ana Fernanda Tarrago Grovermann | Anelise Ferreira | Ayres Potthoff | Bia Donelli | Carlos Rangel | Cris Matos | Fernando Schmitt | Gutemberg Ostemberg | Luis Schossler | Marcelo Leal | Viviane Monteavaro \nParalelamente à exposição “BlackBird\,” os visitantes poderão apreciar a exposição “Metamorfoses” de Carlinhos Rodrigues\, oferecendo uma experiência cultural rica e diversificada em um único espaço. Não perca a oportunidade de explorar essas duas mostras extraordinárias. \n  \nLivro BlackBird\n\nInspirados nas canções dos Beatles que integram o repertório de Beatles em Concerto\, 13 autores e 13 fotógrafos compuseram contos e fotos inéditas que são apresentadas ao público em Blackbird.  Formado por Ayres Potthoff na flauta\, Daniel Wolff no violão e Rodrigo Alquati no cello\, Beatles em Concerto está comemorando 30 anos de apresentações\, tendo passado por palcos do Brasil\, Uruguai\, Peru\, Estados Unidos\, Portugal e Noruega. Além de reunir o talento de escritores\, escritoras e de fotógrafos  e fotógrafas do Fotoclube Porto-alegrense\, Blackbird é um dos braços do projeto educativo Musicando para o Futuro — iniciativa que une música\, literatura\, criatividade e educação para capacitar\, gratuitamente\, educadores da rede pública de ensino do Rio Grande do Sul. \nAutores participantes \n\nAna Marson\nAyres Potthoff\nClaudia Tajes\nCíntia Moscovich\nGuto Leite\nLuís Augusto Fischer\nLuiz Mauricio Azevedo\nMarcelo Martins\nNathallia Protazio\nOndina Fachel Leal\nRenata Azevedo Requião\nSandro Farias\nZara Gerhardt\n\nFotógrafos participantes \n\nAna Fernanda Tarrago\nAnelise Barra Ferreira\nAngela Cristina Ribeiro dos Santos\nAyres Potthoff\nBia Donelli\nCarlos Rangel\nCris Mattos\nFernando B. Schmitt\nGutemberg Ostemberg\nLuis Fernando Schossler Carvalho\nLuiz Carlos Felizardo\nMarcelo Leal\nViviane Monteavaro\n\nVenda do Livro BlackBird na Loja Quatorze Vinte e Um.
URL:https://fotoclubepoa.com.br/evento/exposicao-blackbird-por-beatles-em-concerto-abertura/
LOCATION:Confeitaria Maomé\, Rua Vicente da Fontoura\, 1857\, Porto Alegre\, Rio Grande do Sul\, Brasil
CATEGORIES:Exposições
ATTACH;FMTTYPE=image/png:https://fotoclubepoa.com.br/wp-content/uploads/2024/07/AGENDA-CULTURAL-V1-39.png
END:VEVENT
BEGIN:VEVENT
DTSTART;TZID=America/Sao_Paulo:20240815T080000
DTEND;TZID=America/Sao_Paulo:20240912T200000
DTSTAMP:20260425T164810
CREATED:20240727T220638Z
LAST-MODIFIED:20240805T224134Z
UID:6226-1723708800-1726171200@fotoclubepoa.com.br
SUMMARY:[Exposição] Metamorfose\, por Carlinhos Rodrigue VISITAÇÃO
DESCRIPTION:Exposição “Metamorfoses”\, por Carlinhos Rodrigues\n  \nAbertura: Quarta-feira\, 14/08 às 18h\nVisitação: 15/08 a 12/09\, de segunda a sexta-feira\, das 8h às 20h.\nLocal: Galeria Carlinhos Rodrigues\, Confeitaria Maomé\, Rua Vicente da Fontoura\, 1857\, Porto Alegre/RS \nA Galeria Carlinhos Rodrigues tem o prazer de anunciar a exposição “Metamorfoses\,” uma coleção de obras do talentoso artista Carlinhos Rodrigues. Esta exposição\, que será inaugurada no dia 14 de agosto às 18h\, ficará aberta para visitação de 15 de agosto a 12 de setembro\, de segunda a sexta-feira\, das 8h às 20h. \n“Metamorfoses” oferece uma perspectiva única sobre as transformações da vida\, capturando momentos de mudança através das lentes de Carlinhos Rodrigues. A exposição promete inspirar e provocar reflexão\, mostrando a beleza e a complexidade das transições que todos vivemos. \nAlém da exposição “Metamorfoses\,” o público também poderá visitar simultaneamente a exposição “BlackBird\,” que celebra os 30 anos do projeto Beatles em Concerto. Venha prestigiar esta rica experiência cultural e aproveite para explorar duas exposições únicas no mesmo espaço.
URL:https://fotoclubepoa.com.br/evento/exposicao-metamorfose-por-carlinhos-rodrigue-visitacao/
LOCATION:Confeitaria Maomé\, Rua Vicente da Fontoura\, 1857\, Porto Alegre\, Rio Grande do Sul\, Brasil
CATEGORIES:Exposições
ATTACH;FMTTYPE=image/png:https://fotoclubepoa.com.br/wp-content/uploads/2024/07/AGENDA-CULTURAL-V1-40.png
END:VEVENT
BEGIN:VEVENT
DTSTART;TZID=America/Sao_Paulo:20240815T080000
DTEND;TZID=America/Sao_Paulo:20240918T200000
DTSTAMP:20260425T164810
CREATED:20240727T220731Z
LAST-MODIFIED:20240802T135704Z
UID:6228-1723708800-1726689600@fotoclubepoa.com.br
SUMMARY:[Exposição] BlackBird\, por Beatles em Concerto VISITAÇÃO
DESCRIPTION:Exposição “BlackBird”\, em comemoração aos 30 anos do Beatles em Concerto\n  \nAbertura: Quarta-feira\, 14/08 às 18h\nVisitação: 15/08 a 12/09\, de segunda a sexta-feira\, das 8h às 20h.\nLocal: Galeria Carlinhos Rodrigues\, Confeitaria Maomé\, Rua Vicente da Fontoura\, 1857\, Porto Alegre/RS \nA Galeria Carlinhos Rodrigues\, tem a honra de apresentar a exposição “BlackBird\,” uma celebração dos 30 anos do projeto Beatles em Concerto. A abertura será no dia 14 de agosto às 18h\, com visitação de 15 de agosto a 12 de setembro\, de segunda a sexta-feira\, das 8h às 20h. \n“BlackBird” reúne 13 talentosos artistas\, incluindo 12 fotoclubistas e um convidado especial\, Luiz Carlos Felizardo. Esta exposição\, anteriormente apresentada no Theatro São Pedro\, faz parte das comemorações do projeto Beatles em Concerto e inclui fotografias selecionadas por meio de um concurso interno realizado pelo Fotoclube Porto-alegrense. \nFotoclubistas participantes:\nÂngela Cristina Santos | Ana Fernanda Tarrago Grovermann | Anelise Ferreira | Ayres Potthoff | Bia Donelli | Carlos Rangel | Cris Matos | Fernando Schmitt | Gutemberg Ostemberg | Luis Schossler | Marcelo Leal | Viviane Monteavaro \nParalelamente à exposição “BlackBird\,” os visitantes poderão apreciar a exposição “Metamorfoses” de Carlinhos Rodrigues\, oferecendo uma experiência cultural rica e diversificada em um único espaço. Não perca a oportunidade de explorar essas duas mostras extraordinárias. \n  \nLivro BlackBird\n\nInspirados nas canções dos Beatles que integram o repertório de Beatles em Concerto\, 13 autores e 13 fotógrafos compuseram contos e fotos inéditas que são apresentadas ao público em Blackbird.  Formado por Ayres Potthoff na flauta\, Daniel Wolff no violão e Rodrigo Alquati no cello\, Beatles em Concerto está comemorando 30 anos de apresentações\, tendo passado por palcos do Brasil\, Uruguai\, Peru\, Estados Unidos\, Portugal e Noruega. Além de reunir o talento de escritores\, escritoras e de fotógrafos  e fotógrafas do Fotoclube Porto-alegrense\, Blackbird é um dos braços do projeto educativo Musicando para o Futuro — iniciativa que une música\, literatura\, criatividade e educação para capacitar\, gratuitamente\, educadores da rede pública de ensino do Rio Grande do Sul. \nAutores participantes \n\nAna Marson\nAyres Potthoff\nClaudia Tajes\nCíntia Moscovich\nGuto Leite\nLuís Augusto Fischer\nLuiz Mauricio Azevedo\nMarcelo Martins\nNathallia Protazio\nOndina Fachel Leal\nRenata Azevedo Requião\nSandro Farias\nZara Gerhardt\n\nFotógrafos participantes \n\nAna Fernanda Tarrago\nAnelise Barra Ferreira\nAngela Cristina Ribeiro dos Santos\nAyres Potthoff\nBia Donelli\nCarlos Rangel\nCris Mattos\nFernando B. Schmitt\nGutemberg Ostemberg\nLuis Fernando Schossler Carvalho\nLuiz Carlos Felizardo\nMarcelo Leal\nViviane Monteavaro\n\nVenda do Livro BlackBird na Loja Quatorze Vinte e Um.
URL:https://fotoclubepoa.com.br/evento/exposicao-blackbird-por-beatles-em-concerto-visitacao/
LOCATION:Confeitaria Maomé\, Rua Vicente da Fontoura\, 1857\, Porto Alegre\, Rio Grande do Sul\, Brasil
CATEGORIES:Exposições
ATTACH;FMTTYPE=image/png:https://fotoclubepoa.com.br/wp-content/uploads/2024/07/AGENDA-CULTURAL-V1-39.png
END:VEVENT
END:VCALENDAR