BEGIN:VCALENDAR
VERSION:2.0
PRODID:-//Fotoclube Porto-alegrense - ECPv6.15.20//NONSGML v1.0//EN
CALSCALE:GREGORIAN
METHOD:PUBLISH
X-ORIGINAL-URL:https://fotoclubepoa.com.br
X-WR-CALDESC:Eventos para Fotoclube Porto-alegrense
REFRESH-INTERVAL;VALUE=DURATION:PT1H
X-Robots-Tag:noindex
X-PUBLISHED-TTL:PT1H
BEGIN:VTIMEZONE
TZID:America/Sao_Paulo
BEGIN:STANDARD
TZOFFSETFROM:-0300
TZOFFSETTO:-0300
TZNAME:-03
DTSTART:20220101T000000
END:STANDARD
END:VTIMEZONE
BEGIN:VEVENT
DTSTART;TZID=America/Sao_Paulo:20230707T080000
DTEND;TZID=America/Sao_Paulo:20230831T170000
DTSTAMP:20260426T004815
CREATED:20230701T164737Z
LAST-MODIFIED:20230701T164821Z
UID:5012-1688716800-1693501200@fotoclubepoa.com.br
SUMMARY:Exposição AIWASS - Canela/RS
DESCRIPTION:O fotoclubista Luiz Paulo de Araújo convida a todos(as) para visitar a Exposição AIWASS\, sob curadoria de Fernando Bueno e montagem de Vanderlei Zambisio e Luiz Paulo Araújo\, no Kempinski Laje de Pedra\, Galeria do Canela Instituto de Fotografia e Artes Visuais. \nO Fotoclube Porto-alegrense se orgulha de contar com talentosos associados que contribuem para o cenário cultural do Estado e convida a todos a prestigiarem a exposição. Parabéns pela exposição\, Luiz Paulo! \nAbertura da Exposição: 07 de julho\, a partir das 17h30. \nVisitação: até 31 de agosto\nGaleria do Canela Instituto de Fotografia e Artes Visuais\nKempinski Laje de Pedra – Canela – Rs – Brasil
URL:https://fotoclubepoa.com.br/evento/exposicao-aiwass-canela-rs/
CATEGORIES:Exposições
ATTACH;FMTTYPE=image/jpeg:https://fotoclubepoa.com.br/wp-content/uploads/2023/07/877fc18a-5d5d-4c26-9302-e8b49024acae.jpg
END:VEVENT
END:VCALENDAR