BEGIN:VCALENDAR
VERSION:2.0
PRODID:-//Fotoclube Porto-alegrense - ECPv6.15.20//NONSGML v1.0//EN
CALSCALE:GREGORIAN
METHOD:PUBLISH
X-ORIGINAL-URL:https://fotoclubepoa.com.br
X-WR-CALDESC:Eventos para Fotoclube Porto-alegrense
REFRESH-INTERVAL;VALUE=DURATION:PT1H
X-Robots-Tag:noindex
X-PUBLISHED-TTL:PT1H
BEGIN:VTIMEZONE
TZID:America/Sao_Paulo
BEGIN:STANDARD
TZOFFSETFROM:-0300
TZOFFSETTO:-0300
TZNAME:-03
DTSTART:20240101T000000
END:STANDARD
END:VTIMEZONE
BEGIN:VEVENT
DTSTART;TZID=America/Sao_Paulo:20250712T100000
DTEND;TZID=America/Sao_Paulo:20251012T183000
DTSTAMP:20260424T213331
CREATED:20250627T201853Z
LAST-MODIFIED:20250627T201853Z
UID:7428-1752314400-1760293800@fotoclubepoa.com.br
SUMMARY:[Exposição] Linhas\, Formas & Simetria\, por Marco Resende [Visitação]
DESCRIPTION:📸 Vem aí mais uma exposição que nos enche de orgulho!O fotoclubista Marco Resende apresenta a mostra “Linhas\, Formas & Simetria”\, no Café do MARGS — um convite para olhar a arquitetura e o cotidiano com outros olhos\, guiados pelo rigor estético\, pela curiosidade e por sua paixão declarada pela fotografia. \n✨ Abertura: 11 de julho de 2025 (sexta-feira)\, a partir das 17h📍 Local: Café do MARGS — Praça da Alfândega\, Centro Histórico de Porto Alegre📅 Visitação: de 12/07 a 12/10/2025🕙 De terça a domingo\, das 10h às 18h30🎟️ Entrada gratuita \nMarco nos inspira com sua sensibilidade e olhar preciso sobre o mundo. Essa mostra é também um reflexo da comunidade fotográfica que cresce e se fortalece com respeito\, talento e generosidade. \nVem prestigiar esse momento especial!@marcoresendefoto @margs_cafe @margs_museu \n#fotoclubeportoalegrense #fotoclubepoa #fotoclube #fcpoa #marcoresende #linhasformasetsimetria #cafedomargs #exposicaofotografica #arteepoesia #fotografiadearquitetura
URL:https://fotoclubepoa.com.br/evento/exposicao-linhas-formas-simetria-por-marco-resende-visitacao/
LOCATION:Café do MARGS\, Praça da Alfândega\, S/nº\, Porto Alegre\, Rio Grande do Sul\, 90010050\, Brasil
CATEGORIES:Exposições
ATTACH;FMTTYPE=image/jpeg:https://fotoclubepoa.com.br/wp-content/uploads/2025/06/Marco-Redende.jpg
END:VEVENT
BEGIN:VEVENT
DTSTART;TZID=America/Sao_Paulo:20250802T150000
DTEND;TZID=America/Sao_Paulo:20250802T183000
DTSTAMP:20260424T213331
CREATED:20250728T175356Z
LAST-MODIFIED:20250728T175356Z
UID:7503-1754146800-1754159400@fotoclubepoa.com.br
SUMMARY:[Exposição] Linhas\, Formas & Simetria\, por Marco Resende [Visita Guiada]
DESCRIPTION:“Gostaria de convidar todas e todos do FCPOA para um encontro especial no sábado\, 02 de agosto de 2025\, às 15h\, no Café do MARGS.\nTeremos o privilégio de contar com uma visita guiada e uma leitura crítica conduzida pelo curador Alexandre Eckert e pelo mestre em Semiótica Rogério Soares — uma oportunidade única de diálogo entre arte\, fotografia e interpretação.\nConto com a presença de vocês!” \nMarco Resende \n\n📍 Local: Café do MARGS — Praça da Alfândega\, Centro Histórico de Porto Alegre \n🕙 02 de agosto\, das 15h | 🎟️ Entrada gratuita \n\n📸 Uma exposição que nos enche de orgulho!\nO fotoclubista Marco Resende apresenta a mostra “Linhas\, Formas & Simetria”\, no Café do MARGS — um convite para olhar a arquitetura e o cotidiano com outros olhos\, guiados pelo rigor estético\, pela curiosidade e por sua paixão declarada pela fotografia. \n📍 Local: Café do MARGS — Praça da Alfândega\, Centro Histórico de Porto Alegre📅 Visitação: de 12/07 a 12/10/2025🕙 De terça a domingo\, das 10h às 18h30🎟️ Entrada gratuita \nMarco nos inspira com sua sensibilidade e olhar preciso sobre o mundo. Essa mostra é também um reflexo da comunidade fotográfica que cresce e se fortalece com respeito\, talento e generosidade. \nVem prestigiar esse momento especial!@marcoresendefoto @margs_cafe @margs_museu \n#fotoclubeportoalegrense #fotoclubepoa #fotoclube #fcpoa #marcoresende #linhasformasetsimetria #cafedomargs #exposicaofotografica #arteepoesia #fotografiadearquitetura
URL:https://fotoclubepoa.com.br/evento/exposicao-linhas-formas-simetria-por-marco-resende-visita-guiada/
LOCATION:Café do MARGS\, Praça da Alfândega\, S/nº\, Porto Alegre\, Rio Grande do Sul\, 90010050\, Brasil
CATEGORIES:Exposições
ATTACH;FMTTYPE=image/jpeg:https://fotoclubepoa.com.br/wp-content/uploads/2025/06/Marco-Redende.jpg
END:VEVENT
END:VCALENDAR