BEGIN:VCALENDAR
VERSION:2.0
PRODID:-//Fotoclube Porto-alegrense - ECPv6.15.20//NONSGML v1.0//EN
CALSCALE:GREGORIAN
METHOD:PUBLISH
X-ORIGINAL-URL:https://fotoclubepoa.com.br
X-WR-CALDESC:Eventos para Fotoclube Porto-alegrense
REFRESH-INTERVAL;VALUE=DURATION:PT1H
X-Robots-Tag:noindex
X-PUBLISHED-TTL:PT1H
BEGIN:VTIMEZONE
TZID:America/Sao_Paulo
BEGIN:STANDARD
TZOFFSETFROM:-0300
TZOFFSETTO:-0300
TZNAME:-03
DTSTART:20240101T000000
END:STANDARD
END:VTIMEZONE
BEGIN:VEVENT
DTSTART;TZID=America/Sao_Paulo:20251114T090000
DTEND;TZID=America/Sao_Paulo:20251128T170000
DTSTAMP:20260424T021802
CREATED:20251117T205510Z
LAST-MODIFIED:20251117T205510Z
UID:8001-1763110800-1764349200@fotoclubepoa.com.br
SUMMARY:[Exposição] Maio 24 – Quando a fotografia ajuda a cidade a respirar\, Hall Teatro Renascença VISITAÇÃO
DESCRIPTION:Exposição Maio 24 – Memória\, impacto e a força da fotografia documental\nA história deixa marcas profundas. Nos lugares\, nas pessoas\, na cidade inteira. A exposição Maio 24 nasce justamente desse desejo coletivo de compreender o que vivemos\, elaborar a dor e transformar memória em reflexão.Realizada no hall do Teatro Renascença\, a mostra reúne 20 imagens produzidas por fotógrafos da ARFOC-RS\, profissionais que estiveram nas ruas durante a enchente de 2024 documentando\, com coragem e sensibilidade\, a maior tragédia ambiental recente do Rio Grande do Sul. \nAs fotografias revelam o drama humano\, a força da solidariedade e a resiliência da população — registros que vão além do jornalismo e se tornam testemunhos visuais de um momento que marcou Porto Alegre para sempre. \nA curadoria da ARFOC-RS selecionou obras que dialogam diretamente com a memória coletiva\, propondo uma experiência que estimula a consciência social e o debate sobre mudanças climáticas\, ações preventivas e políticas públicas eficazes. Entre os artistas\, três associados do Fotoclube Porto-alegrense — Rafael Rosa\, Jorge Lansarin e Jorge Leão — reafirmam nosso orgulho e a relevância do olhar fotoclubista na documentação da história. \nAlém da força estética das imagens\, Maio 24 tem um compromisso com o acesso à cultura: há visitas guiadas destinadas a estudantes de escolas públicas\, fortalecendo a dimensão educativa do projeto. \n  \nCrédito Fotos: Matheus Fritz (divulgação)\n\nAcessibilidade e acolhimento\nToda a exposição foi pensada para ser inclusiva: \n\nAudioguias com audiodescrição das 20 obras\, disponíveis por QR Code.\nCatálogo e legendas em Braille.\nMonitores capacitados para atendimento inclusivo: Dias 17\, 19 e 21/11 (tarde) | Dias 24\, 26 e 28/11 (manhã)\nInfraestrutura acessível: rampas de acesso\, piso tátil e banheiros adaptados.\n\nUm convite para que todos — sem exceção — possam vivenciar essa experiência. \n\n📍 Serviço\nExposição Maio 24 – ARFOC RSReflexões fotográficas sobre a catástrofe climática em Porto Alegre \n\n🎉 Abertura oficial: 19/11\, às 18h\n📅 14 a 28 de novembro de 2025\n⏰ Visitação: segunda a sexta\, das 9h às 17h\n🗓️ Finais de semana conforme a programação do Teatro\n📌 Local: Hall do Teatro Renascença – Av. Érico Veríssimo\, 307 – Bairro Menino Deus – Porto Alegre/RS\n💰 Entrada gratuita\n\nFotógrafos participantes:Rodrigo Ziebell • Eduardo Rocha • Rafael Rosa • Jorge Lansarin • Diogo Zanatta • Jorge Leão • Jeff Botega • Max Peixoto • Eduardo Rodrigues • Neimar de Cesero • Fred Colorado • Ricardo Fabrello • Donaldo Hadlich • Renan Mattos \n\nRealização\nO projeto é viabilizado com recursos da Política Nacional Aldir Blanc (Lei nº 14.399/2022)\, por meio dos Editais 26/2024 – Descentralização da Cultura – Pró-Cultura RS e 27/2024 PNAB RS – Artes Visuais.Produção: Diádico Design EstúdioCoprodução: Ana Paula Domingos \n\nUma experiência para sentir\, lembrar e transformar — através do olhar daqueles que registraram a história em tempo real. \n#fotoclubeportoalegrense #fotoclubepoa #fotoclube #fcpoa #Maio24 #Enchente2024 #MemóriaColetiva #FotografiaDocumental #ARFOCRS #PortoAlegre #CulturaRS #AldirBlanc
URL:https://fotoclubepoa.com.br/evento/exposicao-maio-24-quando-a-fotografia-ajuda-a-cidade-a-respirar-hall-teatro-renascenca-visitacao/
CATEGORIES:Exposições
ATTACH;FMTTYPE=image/jpeg:https://fotoclubepoa.com.br/wp-content/uploads/2025/11/WhatsApp-Image-2025-11-12-at-15.58.09.jpeg
END:VEVENT
BEGIN:VEVENT
DTSTART;TZID=America/Sao_Paulo:20251119T180000
DTEND;TZID=America/Sao_Paulo:20251119T203000
DTSTAMP:20260424T021802
CREATED:20251117T204227Z
LAST-MODIFIED:20251117T205351Z
UID:7994-1763575200-1763584200@fotoclubepoa.com.br
SUMMARY:[Exposição] Maio 24 – Quando a fotografia ajuda a cidade a respirar\, Hall Teatro Renascença ABERTURA
DESCRIPTION:Exposição Maio 24 – Memória\, impacto e a força da fotografia documental\nA história deixa marcas profundas. Nos lugares\, nas pessoas\, na cidade inteira. A exposição Maio 24 nasce justamente desse desejo coletivo de compreender o que vivemos\, elaborar a dor e transformar memória em reflexão.Realizada no hall do Teatro Renascença\, a mostra reúne 20 imagens produzidas por fotógrafos da ARFOC-RS\, profissionais que estiveram nas ruas durante a enchente de 2024 documentando\, com coragem e sensibilidade\, a maior tragédia ambiental recente do Rio Grande do Sul. \nAs fotografias revelam o drama humano\, a força da solidariedade e a resiliência da população — registros que vão além do jornalismo e se tornam testemunhos visuais de um momento que marcou Porto Alegre para sempre. \nA curadoria da ARFOC-RS selecionou obras que dialogam diretamente com a memória coletiva\, propondo uma experiência que estimula a consciência social e o debate sobre mudanças climáticas\, ações preventivas e políticas públicas eficazes. Entre os artistas\, três associados do Fotoclube Porto-alegrense — Rafael Rosa\, Jorge Lansarin e Jorge Leão — reafirmam nosso orgulho e a relevância do olhar fotoclubista na documentação da história. \nAlém da força estética das imagens\, Maio 24 tem um compromisso com o acesso à cultura: há visitas guiadas destinadas a estudantes de escolas públicas\, fortalecendo a dimensão educativa do projeto. \n  \nCrédito Fotos: Matheus Fritz (divulgação)\n\nAcessibilidade e acolhimento\nToda a exposição foi pensada para ser inclusiva: \n\nAudioguias com audiodescrição das 20 obras\, disponíveis por QR Code.\nCatálogo e legendas em Braille.\nMonitores capacitados para atendimento inclusivo: Dias 17\, 19 e 21/11 (tarde) | Dias 24\, 26 e 28/11 (manhã)\nInfraestrutura acessível: rampas de acesso\, piso tátil e banheiros adaptados.\n\nUm convite para que todos — sem exceção — possam vivenciar essa experiência. \n\n📍 Serviço\nExposição Maio 24 – ARFOC RSReflexões fotográficas sobre a catástrofe climática em Porto Alegre \n\n🎉 Abertura oficial: 19/11\, às 18h\n📅 14 a 28 de novembro de 2025\n⏰ Visitação: segunda a sexta\, das 9h às 17h\n🗓️ Finais de semana conforme a programação do Teatro\n📌 Local: Hall do Teatro Renascença – Av. Érico Veríssimo\, 307 – Bairro Menino Deus – Porto Alegre/RS\n💰 Entrada gratuita\n\nFotógrafos participantes:Rodrigo Ziebell • Eduardo Rocha • Rafael Rosa • Jorge Lansarin • Diogo Zanatta • Jorge Leão • Jeff Botega • Max Peixoto • Eduardo Rodrigues • Neimar de Cesero • Fred Colorado • Ricardo Fabrello • Donaldo Hadlich • Renan Mattos \n\nRealização\nO projeto é viabilizado com recursos da Política Nacional Aldir Blanc (Lei nº 14.399/2022)\, por meio dos Editais 26/2024 – Descentralização da Cultura – Pró-Cultura RS e 27/2024 PNAB RS – Artes Visuais.Produção: Diádico Design EstúdioCoprodução: Ana Paula Domingos \n\nUma experiência para sentir\, lembrar e transformar — através do olhar daqueles que registraram a história em tempo real. \n#fotoclubeportoalegrense #fotoclubepoa #fotoclube #fcpoa #Maio24 #Enchente2024 #MemóriaColetiva #FotografiaDocumental #ARFOCRS #PortoAlegre #CulturaRS #AldirBlanc
URL:https://fotoclubepoa.com.br/evento/exposicao-maio-24-quando-a-fotografia-ajuda-a-cidade-a-respirar-hall-teatro-renascenca-abertura/
CATEGORIES:Exposições
ATTACH;FMTTYPE=image/jpeg:https://fotoclubepoa.com.br/wp-content/uploads/2025/11/WhatsApp-Image-2025-11-12-at-15.58.09.jpeg
END:VEVENT
END:VCALENDAR