BEGIN:VCALENDAR
VERSION:2.0
PRODID:-//Fotoclube Porto-alegrense - ECPv6.15.20//NONSGML v1.0//EN
CALSCALE:GREGORIAN
METHOD:PUBLISH
X-ORIGINAL-URL:https://fotoclubepoa.com.br
X-WR-CALDESC:Eventos para Fotoclube Porto-alegrense
REFRESH-INTERVAL;VALUE=DURATION:PT1H
X-Robots-Tag:noindex
X-PUBLISHED-TTL:PT1H
BEGIN:VTIMEZONE
TZID:America/Sao_Paulo
BEGIN:STANDARD
TZOFFSETFROM:-0300
TZOFFSETTO:-0300
TZNAME:-03
DTSTART:20240101T000000
END:STANDARD
END:VTIMEZONE
BEGIN:VEVENT
DTSTART;TZID=America/Sao_Paulo:20250817T140000
DTEND;TZID=America/Sao_Paulo:20250817T170000
DTSTAMP:20260424T081837
CREATED:20250603T135842Z
LAST-MODIFIED:20250718T170235Z
UID:7380-1755439200-1755450000@fotoclubepoa.com.br
SUMMARY:[Saída Fotográfica] Dia Estadual do Patrimônio Cultural
DESCRIPTION:📸 Participação do FCPOA no Dia Estadual do Patrimônio Cultural🗓 Data: 17 de agosto de 2025 (domingo)🕑 Horário: das 14h às 17h📍 Local: Antiga estação das antenas da Rádio Farroupilha – Ponta Grossa\, Porto Alegre \nComo parte das atividades do Dia Estadual do Patrimônio Cultural\, o prédio histórico da antiga estação da Rádio Farroupilha estará com as portas abertas para visitação. A Comissão de Saídas Fotográficas está organizando a participação do Fotoclube Porto-alegrense no evento. \nSerá uma oportunidade especial para explorar o espaço e registrar retratos criativos nos diferentes ambientes do prédio — um cenário com muito potencial para quem gosta de experimentar luz\, arquitetura e narrativa visual. \nMais informações estão sendo organizadas pelo grupo do whats do FC. \n#FotoclubePortoAlegrense #fcpoa #fotoclubepoa #fotoclube #DiaDoPatrimônio #RetratoFotográfico #SaídaFotográfica #RádioFarroupilha #FotografiaGaúcha \n\n  PROGRAMAÇÃO OFICIAL DO DIA ESTADUAL DO PATRIMÔNIO CULTURAL 2025\n FARROUPILHA DE PORTAS ABERTAS \nDOMINGO\, 17 DE AGOSTO DE 2025 – DAS 14H ÀS 17H \nA comemoração do Dia Estadual do Patrimônio 2025 @diadopatrimoniors no bairro Ponta Grossa será realizada num espaço muito especial da nossa terra: a ANTIGA ESTAÇÃO TRANSMISSORA DA RÁDIO FARROUPILHA @farroupilhapg. \nNesta atividade estaremos partilhando um pouquinho da história da Farroupilha dos ponta-grossenses e também recebendo a turma do Fotoclube Porto-Alegrense @fotoclube_portoalegrense para fotografar o espaço e os participantes do evento. \nLOCAL\n Antiga Estação Transmissora da Rádio Farroupilha – Estrada Retiro da Ponta Grossa\, 4105 – Ponta Grossa – Porto Alegre – Rio Grande do Sul \nPROGRAMAÇÃO\n 12h30min – concentração no terminal no Centro Histórico da linha de ônibus Ponta Grossa (Avenida Senador Salgado Filho\, defronte do nº 245)\n 14h-17h – atividades no prédio da Farroupilha \n EVENTO GRATUITO  \n Destacamos que se trata de atividade ao ar livre para a qual não estão disponíveis espaços para alimentação nem estruturas sanitárias.  \nREALIZAÇÃO\n Projeto Cultural ‘Histórias da Ponta Grossa’ @historiasdapontagrossa\n Ação de Educação Patrimonial ‘Antiga Estação Transmissora da Rádio Farroupilha’ @farroupilhapg\n Fotoclube Porto-Alegrense @fotoclube_portoalegrense \nAPOIO\n Associação dos Moradores da Estrada Retiro da Ponta Grossa (AMOERP) @amoerp\n Bruno Lorenz @brunolorenz – Projeto ‘Uns Predinhos’ @unspredinhos
URL:https://fotoclubepoa.com.br/evento/saida-fotografica-dia-estadual-do-patrimonio-cultural/
CATEGORIES:Saída Fotográfica
ATTACH;FMTTYPE=image/png:https://fotoclubepoa.com.br/wp-content/uploads/2025/06/1748908049556blob.png
END:VEVENT
END:VCALENDAR