BEGIN:VCALENDAR
VERSION:2.0
PRODID:-//Fotoclube Porto-alegrense - ECPv6.15.20//NONSGML v1.0//EN
CALSCALE:GREGORIAN
METHOD:PUBLISH
X-WR-CALNAME:Fotoclube Porto-alegrense
X-ORIGINAL-URL:https://fotoclubepoa.com.br
X-WR-CALDESC:Eventos para Fotoclube Porto-alegrense
REFRESH-INTERVAL;VALUE=DURATION:PT1H
X-Robots-Tag:noindex
X-PUBLISHED-TTL:PT1H
BEGIN:VTIMEZONE
TZID:America/Sao_Paulo
BEGIN:STANDARD
TZOFFSETFROM:-0300
TZOFFSETTO:-0300
TZNAME:-03
DTSTART:20250101T000000
END:STANDARD
END:VTIMEZONE
BEGIN:VEVENT
DTSTART;TZID=America/Sao_Paulo:20261104T000000
DTEND;TZID=America/Sao_Paulo:20261104T000000
DTSTAMP:20260424T114346
CREATED:20260418T222025Z
LAST-MODIFIED:20260418T222025Z
UID:8137-1793750400-1793750400@fotoclubepoa.com.br
SUMMARY:Saída Fotográfica com Carmem
DESCRIPTION:Horário: 09:00
URL:https://fotoclubepoa.com.br/evento/saida-fotografica-com-carmem/
CATEGORIES:Evento
END:VEVENT
END:VCALENDAR