BEGIN:VCALENDAR
VERSION:2.0
PRODID:-//Fotoclube Porto-alegrense - ECPv6.15.20//NONSGML v1.0//EN
CALSCALE:GREGORIAN
METHOD:PUBLISH
X-ORIGINAL-URL:https://fotoclubepoa.com.br
X-WR-CALDESC:Eventos para Fotoclube Porto-alegrense
REFRESH-INTERVAL;VALUE=DURATION:PT1H
X-Robots-Tag:noindex
X-PUBLISHED-TTL:PT1H
BEGIN:VTIMEZONE
TZID:America/Sao_Paulo
BEGIN:STANDARD
TZOFFSETFROM:-0300
TZOFFSETTO:-0300
TZNAME:-03
DTSTART:20250101T000000
END:STANDARD
END:VTIMEZONE
BEGIN:VEVENT
DTSTART;TZID=America/Sao_Paulo:20260803T000000
DTEND;TZID=America/Sao_Paulo:20260803T000000
DTSTAMP:20260423T180124
CREATED:20260418T222006Z
LAST-MODIFIED:20260418T222006Z
UID:8120-1785715200-1785715200@fotoclubepoa.com.br
SUMMARY:S. CULTURAL
DESCRIPTION:Saída Cultural
URL:https://fotoclubepoa.com.br/evento/s-cultural/
CATEGORIES:Evento
END:VEVENT
BEGIN:VEVENT
DTSTART;TZID=America/Sao_Paulo:20260804T000000
DTEND;TZID=America/Sao_Paulo:20260804T000000
DTSTAMP:20260423T180124
CREATED:20260418T222024Z
LAST-MODIFIED:20260418T222024Z
UID:8135-1785801600-1785801600@fotoclubepoa.com.br
SUMMARY:S. CULTURAL
DESCRIPTION:Saída Cultural
URL:https://fotoclubepoa.com.br/evento/s-cultural-2/
CATEGORIES:Evento
END:VEVENT
END:VCALENDAR