BEGIN:VCALENDAR
VERSION:2.0
PRODID:-//Fotoclube Porto-alegrense - ECPv6.15.20//NONSGML v1.0//EN
CALSCALE:GREGORIAN
METHOD:PUBLISH
X-ORIGINAL-URL:https://fotoclubepoa.com.br
X-WR-CALDESC:Eventos para Fotoclube Porto-alegrense
REFRESH-INTERVAL;VALUE=DURATION:PT1H
X-Robots-Tag:noindex
X-PUBLISHED-TTL:PT1H
BEGIN:VTIMEZONE
TZID:America/Sao_Paulo
BEGIN:STANDARD
TZOFFSETFROM:-0300
TZOFFSETTO:-0300
TZNAME:-03
DTSTART:20240101T000000
END:STANDARD
END:VTIMEZONE
BEGIN:VEVENT
DTSTART;TZID=America/Sao_Paulo:20250526T190000
DTEND;TZID=America/Sao_Paulo:20250526T210000
DTSTAMP:20260424T130650
CREATED:20250301T140142Z
LAST-MODIFIED:20250422T124923Z
UID:7048-1748286000-1748293200@fotoclubepoa.com.br
SUMMARY:[GEF] 2025/1 Uma mulher fotógrafa\, por Cerise Gomes ENCONTRO 2/2
DESCRIPTION:📸 Uma mulher fotógrafa: quem será? 📸 \nNo segundo ciclo do Grupo de Estudos FCPOA (GEF)\, nossa colega Cerise Gomes nos convida a explorar na obra de uma fotógrafa inspiradora. Mas quem será ela? 🤔 \nSeja uma pioneira que desafiou seu tempo\, uma artista revolucionária ou uma mestra da composição\, o mistério só será revelado nos encontros! O que podemos adiantar é que esta será uma jornada de descobertas\, onde cada imagem contará uma história e nos fará enxergar a fotografia sob uma nova perspectiva. \n📅 Encontros imperdíveis🗓️ 28/04 (segunda-feira) e 26/05 (segunda-feira)📍 Sala Zoom do FCPOA \n🔹 Curioso para saber quem é? Então venha descobrir com a gente!🔹 Troque ideias\, inspire-se e amplie seu repertório fotográfico em boa companhia. \n📌 Acesse o link da reunião no dia do encontro e participe! \n \nO Grupo de Estudos FCPOA (GEF) é uma iniciativa do Fotoclube Porto-Alegrense (FCPOA) voltada ao estudo da fotografia em suas diversas vertentes. Com encontros mensais\, o grupo explora artistas\, técnicas e conceitos\, proporcionando um espaço de aprendizado contínuo para seus associados. \n📸 Quem pode participar?Os encontros são destinados aos associados do FCPOA\, mas os interessados que não fazem parte do clube podem acompanhar os resultados por meio de artigos produzidos a partir das discussões do grupo. \n📅 Planejamento 2025: \n2025/1 Uma mulher fotógrafa\, por Cerise Gomes\, encontros 28/04 e 26/05/2025;\n2025/2 Helmut Newton\, por Alexandre Langer\, encontros 30/06 e 28/07/2025;\n2025/3 Fernando Gomes\, por Rogério Soares\, encontros 25/08 e 29/09/2025;\n2025/4 A revelar\, Bia Donelli\, encontros 27/10 e 24/11/2025;\n2025/5 Atividade baseada em música ou poema.\n📌 Sobre o FCPOAFundado em 2018\, o Fotoclube Porto-Alegrense é um espaço dedicado ao encontro de apaixonados por fotografia\, promovendo saídas fotográficas\, concursos e exposições. \n📢 Acompanhe e participe!Para mais informações\, visite o site do FCPOA e acompanhe os artigos resultantes dos encontros do GEF. Juntos\, seguimos explorando e celebrando a arte da imagem! \n🔹 Comissão de Organização 2025: \n\nAyres Pottoff\nFernanda Virmond\nGerson Turelly\nWilliam Clavijo\n\nAcompanhe o resultado dos estudos já realizados: Convidamos todos a explorar os artigos e descobrir os insights e descobertas dos nossos encontros anteriores. Junte-se a nós nessa jornada de aprendizado e inspiração fotográfica! \n🔎 Temas já explorados: \n2023/1 Alex Webb\, por William Clavijo\, encontros 30/08 e 27/09/2023;\n2023/2 Alfredo Testoni\, por Álvaro Sanguinetti\, encontros 23/10 e 27/11/2023.\n2024/1 Elliott Erwitt\, por Fernando Schmitt\, encontros 26/02 e 25/03/2024.\n2024/2 Seydou Keita\, por Nega Ângela\, encontros 29/04 e 24/06/2024.\n2024/3 Robert Doisneau\, por Rogério Soares\, encontros 15 e 29/07/2024.\n2024/4 Artista surpresa\, por Gerson Turelly\, encontros 30/09 e 28/10/2024.\n2024/5 Uma cantada na sua foto\, por Comissão Organizadora GEF\, encontro 25/11/2024.\n \nFique ligado para mais informações e atualizações sobre o Grupo de Estudos FCPOA no nosso site. Juntos\, continuaremos a explorar e celebrar a arte da imagem! \nAtenciosamente\, Comissão de Organização FCPOA \n#fotoclubeportoalegrense #fotoclube #fotoclubepoa #grupodeestudos #Fotografia #Arte #Aprendizado #ComunidadeFotográfica #GEF_FCPOA #perspectivafotografica #processocriativo #experimentacaofotografica #
URL:https://fotoclubepoa.com.br/evento/gef-2025-2-uma-mulher-fotografa-por-cerise-gomes-encontro-2-2/
CATEGORIES:Grupo de Estudos FCPOA (GEF)
ATTACH;FMTTYPE=image/png:https://fotoclubepoa.com.br/wp-content/uploads/2025/03/FCPOA-GEF-5.png
END:VEVENT
END:VCALENDAR