BEGIN:VCALENDAR
VERSION:2.0
PRODID:-//Fotoclube Porto-alegrense - ECPv6.15.20//NONSGML v1.0//EN
CALSCALE:GREGORIAN
METHOD:PUBLISH
X-WR-CALNAME:Fotoclube Porto-alegrense
X-ORIGINAL-URL:https://fotoclubepoa.com.br
X-WR-CALDESC:Eventos para Fotoclube Porto-alegrense
REFRESH-INTERVAL;VALUE=DURATION:PT1H
X-Robots-Tag:noindex
X-PUBLISHED-TTL:PT1H
BEGIN:VTIMEZONE
TZID:America/Sao_Paulo
BEGIN:STANDARD
TZOFFSETFROM:-0300
TZOFFSETTO:-0300
TZNAME:-03
DTSTART:20230101T000000
END:STANDARD
END:VTIMEZONE
BEGIN:VEVENT
DTSTART;TZID=America/Sao_Paulo:20241204T190000
DTEND;TZID=America/Sao_Paulo:20241204T203000
DTSTAMP:20260424T212616
CREATED:20240807T124414Z
LAST-MODIFIED:20240807T124523Z
UID:6309-1733338800-1733344200@fotoclubepoa.com.br
SUMMARY:[GEF] Reunião de planejamento 2025
DESCRIPTION:O Grupo de Estudos reserva a data de 04 de dezembro de 2024\, quarta-feira\, 19h\, para reunião de Planejamento de Estudos de 2025.\nTodos(as) os fotoclubistas estão convidados(as). \nPauta e outras informações serão divulgadas mais próximas a data.
URL:https://fotoclubepoa.com.br/evento/gef-reuniao-de-planejamento-2025/
CATEGORIES:Grupo de Estudos FCPOA (GEF)
ATTACH;FMTTYPE=image/png:https://fotoclubepoa.com.br/wp-content/uploads/2024/08/FCPOA-GEF-30.png
END:VEVENT
END:VCALENDAR