BEGIN:VCALENDAR
VERSION:2.0
PRODID:-//Fotoclube Porto-alegrense - ECPv6.15.20//NONSGML v1.0//EN
CALSCALE:GREGORIAN
METHOD:PUBLISH
X-ORIGINAL-URL:https://fotoclubepoa.com.br
X-WR-CALDESC:Eventos para Fotoclube Porto-alegrense
REFRESH-INTERVAL;VALUE=DURATION:PT1H
X-Robots-Tag:noindex
X-PUBLISHED-TTL:PT1H
BEGIN:VTIMEZONE
TZID:America/Sao_Paulo
BEGIN:STANDARD
TZOFFSETFROM:-0300
TZOFFSETTO:-0300
TZNAME:-03
DTSTART:20230101T000000
END:STANDARD
END:VTIMEZONE
BEGIN:VEVENT
DTSTART;TZID=America/Sao_Paulo:20240925T190000
DTEND;TZID=America/Sao_Paulo:20241123T200000
DTSTAMP:20260425T004714
CREATED:20240917T181458Z
LAST-MODIFIED:20240923T210936Z
UID:6519-1727290800-1732392000@fotoclubepoa.com.br
SUMMARY:[GEF] 2024/5 Uma cantada na sua foto\, por Comissão Organizadora GEF - INSCRIÇÕES
DESCRIPTION:📅 Agendamento de Encontro para o Grupo de Estudos FCPOA (GEF) \nO Grupo de Estudos FCPOA (GEF) é uma iniciativa do Fotoclube Porto-Alegrense (FCPOA) dedicada ao aprimoramento contínuo dos conhecimentos fotográficos de seus associados. Este grupo se reúne mensalmente para explorar temas e artistas\, mergulhando na riqueza da fotografia em suas diversas manifestações. \nComissão de Organização: Ayres Pottoff\, Fernanda Virmond\, Gerson Turelly\, Maristela Padilha\, William Clavijo. \nPara quem é destinado: Associados(as) do Fotoclube Porto-Alegrense. \nAcompanhamento para não associados: Mesmo se você não for associado(a)\, pode acompanhar os resultados desses encontros através dos artigos que resultam dessas imersões fotográficas. \nPlanejamento para 2024: \n2023/1 Alex Webb\, por William Clavijo\, encontros 30/08 e 27/09/2023;\n2023/2 Alfredo Testoni\, por Álvaro Sanguinetti\, encontros 23/10 e 27/11/2023.\n2024/1 Elliott Erwitt\, por Fernando Schmitt\, encontros 26/02 e 25/03/2024.\n2024/2 Seydou Keita\, por Nega Ângela\, encontros 29/04 e 24/06/2024.\n2024/3 Robert Doisneau\, por Rogério Soares\, encontros 15 e 29/07/2024.\n2024/4 Artista surpresa\, por Gerson Turelly\, encontros 30/09 e 28/10/2024.\n2024/5 Uma cantada na sua foto\, por Comissão Organizadora GEF\, encontro 25/11/2024.\nOrientações para atividade>\nAtividade: “Uma cantada na sua foto”\nCaros colegas\,\nÉ com satisfação que convidamos a todos para participarem da atividade “Uma cantada na sua Foto”. Este é um projeto desenvolvido pelo GEF após o grande interesse e adesão dos integrantes do FCPOA no projeto “Black Bird”. Desde então\, foram recorrentes as sugestões de fazermos\, em nível de\nfotocluble\, alguma atividade que se assemelhasse ao mesmo. Neste sentido\, o GEF propõe “Uma cantada na sua Foto” como atividade de encerramento de suas atividades de 2024. \nObjetivo: Esta atividade visa a discussão e troca de experiências a respeito do conceito de “cruzamento de linguagens”.\nDinâmica da atividade: \n\nA partir da análise de uma canção\, divulgada pela comissão de organização do GEF\, o participante deverá elaborar uma fotografia que\, de alguma forma\, tenha alguma associação com a mensagem/estética da canção;\nA letra da canção assim como o link de plataformas para acesso a mesma será disponibilizado previamente pela comissão organizadora.\nNão há restrição quanto ao formato de registro (analógico\, digital\, mobgrafia\, drones\, etc.)\, podendo ser colorida ou PB.\nNão serão aceitas trabalhos elaborados a partir de programas de IA.\nEsta atividade é aberta a todos os associados FCPOA independente de participarem ou não do GEF.\n\nCronograma: \n\nData de apresentação: a apresentação das fotos enviadas pelos participantes será feita pelos componentes da comissão de organização do GEF no dia 25/11/2024;\nA imagens deverão ser enviadas até o dia 22/11/2024 via formulário disponibilizado previamente aos interessados.\n\nObservações: Algumas considerações acerca desta proposta. \n\nA escolha da canção para a atividade se fez de forma aleatória ou seja\, não foi objetivo da comissão privilegiar qualquer gênero musical e/ou artista assim como\, mensagens de cunho político/social.\nPor se tratar de uma atividade (no momento) experimental\, caso haja interesse em uma reedição da mesma\, sugestões serão muito benvindas.\n\n \nSobre o Fotoclube Porto-Alegrense (FCPOA): O FCPOA é um espaço apaixonante para amantes da fotografia\, promovendo atividades variadas\, desde Saídas Fotográficas até Concursos e Exposições. Fundado em 2018\, o clube se destaca por oferecer uma comunidade acolhedora e inspiradora para entusiastas visuais. \nComissão de Organização:\n\nAyres Pottoff\nFernanda Virmond\nGerson Turelly\nMaristela Padilha\nWilliam Clavijo\n\nSaiba mais sobre o GEF aqui. \nAcompanhe o resultado dos estudos já realizados: Convidamos todos a explorar os artigos e descobrir os insights e descobertas dos nossos encontros anteriores. Junte-se a nós nessa jornada de aprendizado e inspiração fotográfica! \nFique ligado para mais informações e atualizações sobre o Grupo de Estudos FCPOA no nosso site. Juntos\, continuaremos a explorar e celebrar a arte da imagem! \nAtenciosamente\, Comissão de Organização FCPOA \n  \n#fotoclubeportoalegrense #fotoclube #fotoclubepoa #fcpoa5anos #grupodeestudos #Fotografia #Arte #Aprendizado #ComunidadeFotográfica #GEF_FCPOA #alfredotestoni #fotografiaautoral #perspectivafotografica #processocriativo #experimentacaofotografica #exixtencialismo #informalismo
URL:https://fotoclubepoa.com.br/evento/gef-2024-5-uma-cantada-na-sua-foto-por-comissao-organizadora-gef-inscricoes/
CATEGORIES:Grupo de Estudos FCPOA (GEF)
ATTACH;FMTTYPE=image/png:https://fotoclubepoa.com.br/wp-content/uploads/2024/09/FCPOA-GEF-34.png
END:VEVENT
BEGIN:VEVENT
DTSTART;TZID=America/Sao_Paulo:20241028T190000
DTEND;TZID=America/Sao_Paulo:20241028T200000
DTSTAMP:20260425T004714
CREATED:20240917T175106Z
LAST-MODIFIED:20241208T192535Z
UID:6510-1730142000-1730145600@fotoclubepoa.com.br
SUMMARY:[GEF] 2024/4 Ernest Hass\, por Gerson Turelly | Encontro 2
DESCRIPTION:📅 Agendamento de Encontro para o Grupo de Estudos FCPOA (GEF) \nO Grupo de Estudos FCPOA (GEF) é uma iniciativa do Fotoclube Porto-Alegrense (FCPOA) dedicada ao aprimoramento contínuo dos conhecimentos fotográficos de seus associados. Este grupo se reúne mensalmente para explorar temas e artistas\, mergulhando na riqueza da fotografia em suas diversas manifestações. \nComissão de Organização: Ayres Pottoff\, Fernanda Virmond\, Gerson Turelly\, Maristela Padilha\, William Clavijo. \nPara quem é destinado: Associados(as) do Fotoclube Porto-Alegrense. \nAcompanhamento para não associados: Mesmo se você não for associado(a)\, pode acompanhar os resultados desses encontros através dos artigos que resultam dessas imersões fotográficas. \nPlanejamento para 2024: \n2023/1 Alex Webb\, por William Clavijo\, encontros 30/08 e 27/09/2023;\n2023/2 Alfredo Testoni\, por Álvaro Sanguinetti\, encontros 23/10 e 27/11/2023.\n2024/1 Elliott Erwitt\, por Fernando Schmitt\, encontros 26/02 e 25/03/2024.\n2024/2 Seydou Keita\, por Nega Ângela\, encontros 29/04 e 24/06/2024.\n2024/3 Robert Doisneau\, por Rogério Soares\, encontros 15 e 29/07/2024.\n2024/4 Ernest Hass\, por Gerson Turelly\, encontros 30/09 e 28/10/2024.\n2024/5 Uma cantada na sua foto\, por Comissão Organizadora GEF\, encontro 25/11/2024.\nSobre o Fotoclube Porto-Alegrense (FCPOA): O FCPOA é um espaço apaixonante para amantes da fotografia\, promovendo atividades variadas\, desde Saídas Fotográficas até Concursos e Exposições. Fundado em 2018\, o clube se destaca por oferecer uma comunidade acolhedora e inspiradora para entusiastas visuais. \nComissão de Organização:\n\nAyres Pottoff\nFernanda Virmond\nGerson Turelly\nMaristela Padilha\nWilliam Clavijo\n\nSaiba mais sobre o GEF aqui. \nAcompanhe o resultado dos estudos já realizados: Convidamos todos a explorar os artigos e descobrir os insights e descobertas dos nossos encontros anteriores. Junte-se a nós nessa jornada de aprendizado e inspiração fotográfica! \nFique ligado para mais informações e atualizações sobre o Grupo de Estudos FCPOA no nosso site. Juntos\, continuaremos a explorar e celebrar a arte da imagem! \nAtenciosamente\, Comissão de Organização FCPOA \n#fotoclubeportoalegrense #fotoclube #fotoclubepoa #fcpoa5anos #grupodeestudos #Fotografia #Arte #Aprendizado #ComunidadeFotográfica #GEF_FCPOA #alfredotestoni #fotografiaautoral #perspectivafotografica #processocriativo #experimentacaofotografica #exixtencialismo #informalismo
URL:https://fotoclubepoa.com.br/evento/gef-2024-4-artista-surpresa-por-gerson-turelly-encontro-2-2/
CATEGORIES:Grupo de Estudos FCPOA (GEF)
ATTACH;FMTTYPE=image/png:https://fotoclubepoa.com.br/wp-content/uploads/2024/06/FCPOA-GEF-32.png
END:VEVENT
END:VCALENDAR