BEGIN:VCALENDAR
VERSION:2.0
PRODID:-//Fotoclube Porto-alegrense - ECPv6.15.20//NONSGML v1.0//EN
CALSCALE:GREGORIAN
METHOD:PUBLISH
X-ORIGINAL-URL:https://fotoclubepoa.com.br
X-WR-CALDESC:Eventos para Fotoclube Porto-alegrense
REFRESH-INTERVAL;VALUE=DURATION:PT1H
X-Robots-Tag:noindex
X-PUBLISHED-TTL:PT1H
BEGIN:VTIMEZONE
TZID:America/Sao_Paulo
BEGIN:STANDARD
TZOFFSETFROM:-0300
TZOFFSETTO:-0300
TZNAME:-03
DTSTART:20230101T000000
END:STANDARD
END:VTIMEZONE
BEGIN:VEVENT
DTSTART;TZID=America/Sao_Paulo:20240429T190000
DTEND;TZID=America/Sao_Paulo:20240429T200000
DTSTAMP:20260425T103527
CREATED:20240106T165832Z
LAST-MODIFIED:20240106T170147Z
UID:5588-1714417200-1714420800@fotoclubepoa.com.br
SUMMARY:[GEF] 2024/2 Grupo de Estudos\, por Nega Ângela | Encontro 1
DESCRIPTION:📅 Agendamento de Encontro para o Grupo de Estudos FCPOA (GEF) \nO Grupo de Estudos FCPOA (GEF) é uma iniciativa do Fotoclube Porto-Alegrense (FCPOA) dedicada ao aprimoramento contínuo dos conhecimentos fotográficos de seus associados. Este grupo se reúne mensalmente para explorar temas e artistas\, mergulhando na riqueza da fotografia em suas diversas manifestações. \nComissão de Organização: Ayres Pottoff\, Fernanda Virmond\, Gerson Turelly\, Maristela Padilha\, William Clavijo. \nPara quem é destinado: Associados(as) do Fotoclube Porto-Alegrense. \nAcompanhamento para não associados: Mesmo se você não for associado(a)\, pode acompanhar os resultados desses encontros através dos artigos que resultam dessas imersões fotográficas. \nPlanejamento para 2024: \n\n2024/1: A definir\, por Fernando Schmitt\, encontros em 26/02 e 25/03/2024.\n2024/2: A definir\, por Nega Ângela\, encontros em 29/04 e 27/05/2024.\n2024/3: A definir\, encontros em 24/06 e 29/07/2024.\n2024/4: A definir\, encontros em 26/08 e 30/09/2024.\n2024/5: A definir\, encontros em 28/10 e 25/11/2024.\n\nSobre o Fotoclube Porto-Alegrense (FCPOA): O FCPOA é um espaço apaixonante para amantes da fotografia\, promovendo atividades variadas\, desde Saídas Fotográficas até Concursos e Exposições. Fundado em 2018\, o clube se destaca por oferecer uma comunidade acolhedora e inspiradora para entusiastas visuais. \nComissão de Organização:\n\nAyres Pottoff\nFernanda Virmond\nGerson Turelly\nMaristela Padilha\nWilliam Clavijo\n\nSaiba mais sobre o GEF aqui. \nAcompanhe o resultado dos estudos já realizados: Convidamos todos a explorar os artigos e descobrir os insights e descobertas dos nossos encontros anteriores. Junte-se a nós nessa jornada de aprendizado e inspiração fotográfica! \nFique ligado para mais informações e atualizações sobre o Grupo de Estudos FCPOA no nosso site. Juntos\, continuaremos a explorar e celebrar a arte da imagem! \nAtenciosamente\, Comissão de Organização FCPOA \n#fotoclubeportoalegrense #fotoclube #fotoclubepoa #fcpoa5anos #grupodeestudos #Fotografia #Arte #Aprendizado #ComunidadeFotográfica #GEF_FCPOA #alfredotestoni #fotografiaautoral #perspectivafotografica #processocriativo #experimentacaofotografica #exixtencialismo #informalismo
URL:https://fotoclubepoa.com.br/evento/gef-2024-1-grupo-de-estudos-por-fernando-schmitt-encontro-2/
CATEGORIES:Grupo de Estudos FCPOA (GEF)
ATTACH;FMTTYPE=image/png:https://fotoclubepoa.com.br/wp-content/uploads/2024/01/FCPOA-GEF-2024-2.png
END:VEVENT
END:VCALENDAR