BEGIN:VCALENDAR
VERSION:2.0
PRODID:-//Fotoclube Porto-alegrense - ECPv6.15.20//NONSGML v1.0//EN
CALSCALE:GREGORIAN
METHOD:PUBLISH
X-ORIGINAL-URL:https://fotoclubepoa.com.br
X-WR-CALDESC:Eventos para Fotoclube Porto-alegrense
REFRESH-INTERVAL;VALUE=DURATION:PT1H
X-Robots-Tag:noindex
X-PUBLISHED-TTL:PT1H
BEGIN:VTIMEZONE
TZID:America/Sao_Paulo
BEGIN:STANDARD
TZOFFSETFROM:-0300
TZOFFSETTO:-0300
TZNAME:-03
DTSTART:20250101T000000
END:STANDARD
END:VTIMEZONE
BEGIN:VEVENT
DTSTART;VALUE=DATE:20260909
DTEND;VALUE=DATE:20260914
DTSTAMP:20260423T180434
CREATED:20260307T164511Z
LAST-MODIFIED:20260307T164511Z
UID:8084-1788912000-1789343999@fotoclubepoa.com.br
SUMMARY:[Exposição] Paraty - Núcleo Feminino de Fotografia FCPOA
DESCRIPTION:Evento: 09 a 13/09/2026\nCuradoria: Lú Brito \nPatrocínio: CONFOTO \nComissão organizadora: Anelise Ferreira\, Bia Donelli\, Kathy Esposito\, Nina Pulita e Viviane Monteavaro \n\nEm breve\, mais informações.
URL:https://fotoclubepoa.com.br/evento/exposicao-paraty-nucleo-feminino-de-fotografia-fcpoa/
CATEGORIES:Exposições
END:VEVENT
END:VCALENDAR