BEGIN:VCALENDAR
VERSION:2.0
PRODID:-//Fotoclube Porto-alegrense - ECPv6.15.20//NONSGML v1.0//EN
CALSCALE:GREGORIAN
METHOD:PUBLISH
X-ORIGINAL-URL:https://fotoclubepoa.com.br
X-WR-CALDESC:Eventos para Fotoclube Porto-alegrense
REFRESH-INTERVAL;VALUE=DURATION:PT1H
X-Robots-Tag:noindex
X-PUBLISHED-TTL:PT1H
BEGIN:VTIMEZONE
TZID:America/Sao_Paulo
BEGIN:STANDARD
TZOFFSETFROM:-0300
TZOFFSETTO:-0300
TZNAME:-03
DTSTART:20250101T000000
END:STANDARD
END:VTIMEZONE
BEGIN:VEVENT
DTSTART;TZID=America/Sao_Paulo:20260203T000000
DTEND;TZID=America/Sao_Paulo:20260203T000000
DTSTAMP:20260423T183451
CREATED:20260418T222006Z
LAST-MODIFIED:20260418T222006Z
UID:8118-1770076800-1770076800@fotoclubepoa.com.br
SUMMARY:R. GERAL
DESCRIPTION:Reunião Geral
URL:https://fotoclubepoa.com.br/evento/r-geral/
CATEGORIES:Evento
END:VEVENT
END:VCALENDAR