BEGIN:VCALENDAR
VERSION:2.0
PRODID:-//Fotoclube Porto-alegrense - ECPv6.15.20//NONSGML v1.0//EN
CALSCALE:GREGORIAN
METHOD:PUBLISH
X-WR-CALNAME:Fotoclube Porto-alegrense
X-ORIGINAL-URL:https://fotoclubepoa.com.br
X-WR-CALDESC:Eventos para Fotoclube Porto-alegrense
REFRESH-INTERVAL;VALUE=DURATION:PT1H
X-Robots-Tag:noindex
X-PUBLISHED-TTL:PT1H
BEGIN:VTIMEZONE
TZID:America/Sao_Paulo
BEGIN:STANDARD
TZOFFSETFROM:-0300
TZOFFSETTO:-0300
TZNAME:-03
DTSTART:20240101T000000
END:STANDARD
END:VTIMEZONE
BEGIN:VEVENT
DTSTART;TZID=America/Sao_Paulo:20251112T180000
DTEND;TZID=America/Sao_Paulo:20251112T190000
DTSTAMP:20260424T021621
CREATED:20251112T214211Z
LAST-MODIFIED:20251112T214254Z
UID:7967-1762970400-1762974000@fotoclubepoa.com.br
SUMMARY:[Lançamento] Agenda 2026 – Direitos Humanos: Crise Climática em foco
DESCRIPTION:Lançamento da Agenda 2026 – Direitos Humanos: Crise Climática em foco\nA Agenda 2026 – Direitos Humanos: Crise Climática em foco será lançada na 71ª Feira do Livro de Porto Alegre\, reunindo autores\, artistas e coletivos que refletem sobre o impacto das mudanças climáticas sob a perspectiva dos direitos humanos.A publicação destaca a força das narrativas visuais e textuais comprometidas com a sustentabilidade e a justiça social\, celebrando o engajamento de pessoas e organizações que atuam em defesa do planeta e da vida. \nCom orgulho\, registramos a participação de nossas fotoclubistas:📸 Flávia Ferme\, autora da fotografia de capa\, cuja imagem sintetiza a resistência e a renovação da natureza;📸 Sandra Rodrigues\, que integra o grupo de colaboradores da obra\, ao lado de diversos coletivos e instituições dedicadas à pauta ambiental e aos direitos humanos. \nO lançamento acontece na Praça de Autógrafos Coletivos\, espaço de encontro e celebração da produção independente e engajada. \n📅 Data: 12 de novembro de 2025 (quarta-feira)⏰ Horário: 18h📍 Local: Praça de Autógrafos Coletivos – 71ª Feira do Livro de Porto Alegre \n#FotoclubePortoAlegrense #Fotoclubepoa #fcpoa #fotoclube #FeiradoLivroPortoAlegre #71FeiradoLivro
URL:https://fotoclubepoa.com.br/evento/lancamento-agenda-2026-direitos-humanos-crise-climatica-em-foco/
CATEGORIES:Evento
ATTACH;FMTTYPE=image/jpeg:https://fotoclubepoa.com.br/wp-content/uploads/2025/11/Sandra-Rodrigues.jpg
END:VEVENT
BEGIN:VEVENT
DTSTART;TZID=America/Sao_Paulo:20251115T150000
DTEND;TZID=America/Sao_Paulo:20251115T160000
DTSTAMP:20260424T021621
CREATED:20251114T103747Z
LAST-MODIFIED:20251114T103747Z
UID:7971-1763218800-1763222400@fotoclubepoa.com.br
SUMMARY:[Lançamento Livro] FESPOPE – o despertar para uma escrita poética\, com participação de Sandra Rodrigues
DESCRIPTION:Lançamento do livro “FESPOPE – o despertar para uma escrita poética”\, com participação de Sandra Rodrigues\nA fotoclubista Sandra Rodrigues participa do livro “FESPOPE – o despertar para uma escrita poética”\, uma coletânea que marca a estreia literária de várias mulheres negras do Rio Grande do Sul. A obra é resultado de um processo formativo potente\, desenvolvido pelo FESPOPE – Fórum Estadual das Mulheres Negras Trabalhadoras da Economia Popular Solidária\, que promoveu oficinas de slam (poesia falada)\, escrita criativa e criação poética. \nCoordenadas por Gilciane Neves e Lisbet S. Pinheiro\, as oficinas integram o projeto Economia Popular Solidária com Mulheres Negras no RS: empoderamento e bem comum\, desenvolvido pelo Ministério do Trabalho e Emprego/SENAES\, com apoio parlamentar das deputadas federais Reginete Bispo\, Maria do Rosário e Alexandre Lindenmeyer. A relatoria e o parecer final da publicação ficaram a cargo da escritora Maiza Lemos. \nO livro reúne textos que emergem de vivências\, memórias\, subjetividades e experiências coletivas. São poemas que revelam voz\, afeto\, coragem e afirmação — um gesto político e cultural que fortalece o protagonismo de mulheres negras na literatura contemporânea. É dentro desse contexto que Sandra Rodrigues apresenta seus primeiros poemas\, ampliando sua expressão artística para além da fotografia. \n\nIntegração com a 35ª Semana Municipal da Consciência Negra (Secon 2025)\nO lançamento integra a programação oficial da 35ª Semana Municipal da Consciência Negra de Porto Alegre\, que em 2025 traz o tema “Mulheres Negras – Força Ancestral e Protagonismo Presente”. A Semana celebra e reconhece a contribuição decisiva de mulheres negras para a cultura\, a arte\, a política e a construção de uma sociedade mais justa e plural. \nDurante oito dias\, o Largo Zumbi dos Palmares recebe apresentações culturais\, debates\, oficinas\, shows\, feira de economia afroempreendedora\, rodas formativas e ações de educação antirracista. \n\nServiço – Lançamento do livro “FESPOPE – o despertar para uma escrita poética”\nO quê: Lançamento do livro FESPOPE – o despertar para uma escrita poética\, com participação da fotoclubista Sandra RodriguesQuando: 15 de novembro\, às 15hOnde: Largo Zumbi dos Palmares\, Cidade Baixa – Porto AlegreEntrada: GratuitaIntegra: Programação oficial da 35ª Secon POA \n\nConheça a programação completa\nA programação detalhada da Semana da Consciência Negra pode ser consultada 👉 diretamente no site da Prefeitura de Porto Alegre. \n#SandraRodrigues #FotoclubePortoAlegrense #FESPOPE #Secon2025 #SemanaDaConscienciaNegra #MulheresNegras #ProtagonismoPresente #ArteNegra #Poesia #EscritaCriativa #EconomiaPopularSolidária #CulturaPOA #OrgulhoNegro #FotografiaePoesia
URL:https://fotoclubepoa.com.br/evento/lancamento-livro-fespope-o-despertar-para-uma-escrita-poetica-com-participacao-de-sandra-rodrigues/
CATEGORIES:Evento
ATTACH;FMTTYPE=image/png:https://fotoclubepoa.com.br/wp-content/uploads/2025/11/AGENDA-CULTURAL-2024-2025-16.png
END:VEVENT
BEGIN:VEVENT
DTSTART;TZID=America/Sao_Paulo:20251115T180000
DTEND;TZID=America/Sao_Paulo:20251115T190000
DTSTAMP:20260424T021621
CREATED:20251110T003329Z
LAST-MODIFIED:20251110T003408Z
UID:7962-1763229600-1763233200@fotoclubepoa.com.br
SUMMARY:[Lançamento Livro] Quando o chão tremer… voe”\, de Iara Tonidandel
DESCRIPTION:Lançamento do livro “Quando o chão tremer… voe”\, de Iara Tonidandel\, na 71ª Feira do Livro de Porto Alegre\nA fotógrafa e escritora Iara Tonidandel\, associada do Fotoclube Porto-alegrense\, convida a todos para o lançamento do seu livro “Quando o chão tremer… voe”\, que acontece no dia 15 de novembro\, às 18h\, na Praça de Autógrafos da 71ª Feira do Livro de Porto Alegre. \nNa obra\, Iara dá asas às palavras em forma de poesias\, crônicas e contos\, onde a escrita nasce do olhar sensível de quem observa o mundo com o mesmo encantamento com que fotografa. Entre emoção e reflexão\, suas páginas convidam o leitor a voar sobre o cotidiano\, reconhecendo nele beleza\, coragem e reinvenção. \n\n“Minha escrita se dá quando minha mão se curva ao meu pensamento evocado por emoções e reflexões do mundo que se desvela à minha volta… Escritas que\, em um amanhecer\, com suas asas em movimento\, sussurraram: ora de voar.” — Iara Tonidandel \n\nO prefácio\, assinado pela escritora Maria Amélia Mano\, descreve Iara como uma “andarilha voadora”\, cuja palavra e poesia são danças que nos ajudam a recomeçar — sempre com sentido e sentimento. \nIara nasceu em Porto Alegre e carrega no olhar o repertório das viagens pelos continentes americano\, africano\, asiático e oceânico. Nessas jornadas\, une trabalho voluntário\, fotografia e escrita\, tecendo narrativas que habitam tanto suas imagens quanto seus textos. \n📚 Serviço:Sessão de autógrafos: 15 de novembro\, às 18hLocal: Praça de Autógrafos da 71ª Feira do Livro de Porto AlegreEditora: Santa Sede EditorialO livro pode ser adquirido na Livraria ISASUL (Banca 47) ou na Banca de Livros para Autógrafos\, durante a Feira. \n#FotoclubePortoAlegrense #Fotoclubepoa #fcpoa #fotoclube #iaratonidandel #santasedeeditorial
URL:https://fotoclubepoa.com.br/evento/lancamento-livro-quando-o-chao-tremer-voe-de-iara-tonidandel/
CATEGORIES:Evento
ATTACH;FMTTYPE=image/jpeg:https://fotoclubepoa.com.br/wp-content/uploads/2025/11/Iara.jpeg
END:VEVENT
BEGIN:VEVENT
DTSTART;TZID=America/Sao_Paulo:20251116T140000
DTEND;TZID=America/Sao_Paulo:20251116T150000
DTSTAMP:20260424T021621
CREATED:20251010T213506Z
LAST-MODIFIED:20251010T213506Z
UID:7824-1763301600-1763305200@fotoclubepoa.com.br
SUMMARY:[Sessão de Autógrafos] Clayton Mattos participa da 71ª Feira do Livro de Porto Alegre
DESCRIPTION:Clayton Mattos participa da 71ª Feira do Livro de Porto Alegre\n\nO fotoclubista Clayton Fritsche Mattos participará da tradicional Feira do Livro de Porto Alegre\, em uma sessão de autógrafos coletiva da obra Arquivo dos Sentidos – Imagens e Poesias\, publicada pela Editora Alternativa. O livro reúne 31 poetas em uma delicada revisita à luz\, conectando palavra e imagem de forma sensível e inspiradora. \n📅 Data: 16 de novembro🕑 Hora: 14h📍 Local: Praça de Autógrafos Coletivos – Feira do Livro de Porto Alegre \nA Feira do Livro é um dos eventos culturais mais emblemáticos do Rio Grande do Sul\, promovendo o encontro entre leitores\, autores e a cidade. Em sua 71ª edição\, volta a ocupar a Praça da Alfândega\, reafirmando a força da literatura e das expressões artísticas no coração de Porto Alegre. \nVenha prestigiar o talento de nosso associado e celebrar a integração entre poesia\, imagem e fotografia! \n🔗 Conheça mais sobre a Feira do Livro de Porto Alegre \n#FotoclubePortoAlegrense #Fotoclubepoa #fcpoa #fotoclube #feiradolivro
URL:https://fotoclubepoa.com.br/evento/sessao-de-autografos-clayton-mattos-participa-da-71a-feira-do-livro-de-porto-alegre/
CATEGORIES:Evento
ATTACH;FMTTYPE=image/jpeg:https://fotoclubepoa.com.br/wp-content/uploads/2025/10/Clayton-Mattos-FCPOA-Feira-do-Livro.jpg
END:VEVENT
END:VCALENDAR