BEGIN:VCALENDAR
VERSION:2.0
PRODID:-//Fotoclube Porto-alegrense - ECPv6.15.20//NONSGML v1.0//EN
CALSCALE:GREGORIAN
METHOD:PUBLISH
X-WR-CALNAME:Fotoclube Porto-alegrense
X-ORIGINAL-URL:https://fotoclubepoa.com.br
X-WR-CALDESC:Eventos para Fotoclube Porto-alegrense
REFRESH-INTERVAL;VALUE=DURATION:PT1H
X-Robots-Tag:noindex
X-PUBLISHED-TTL:PT1H
BEGIN:VTIMEZONE
TZID:America/Sao_Paulo
BEGIN:STANDARD
TZOFFSETFROM:-0300
TZOFFSETTO:-0300
TZNAME:-03
DTSTART:20240101T000000
END:STANDARD
END:VTIMEZONE
BEGIN:VEVENT
DTSTART;TZID=America/Sao_Paulo:20251021T143000
DTEND;TZID=America/Sao_Paulo:20251021T163000
DTSTAMP:20260424T035622
CREATED:20251019T190820Z
LAST-MODIFIED:20251019T190820Z
UID:7884-1761057000-1761064200@fotoclubepoa.com.br
SUMMARY:[Encontro] Encontro com Clóvis Dariano — Arte\, Fotografia e Memória Imagética (convite de Alexandre Eckert)
DESCRIPTION:🖼️Convite do fotoclubista Alexandre Eckert – Exposição “Crônicas Atemporais”\, de Clóvis Dariano\nAlexandre Eckert convida para o encontro com o artista Clóvis Dariano\, na exposição “Crônicas Atemporais”\, com curadoria de André Severo.\n \n📅 Data: 21 de outubro de 2025 (terça-feira)🕓 Horário: 14h30📍 Local: Ocre Galeria — Av. Polônia\, 495\, bairro São Geraldo\, Porto Alegre/RS📞 Contato: (51) 99598-2403 \n📅 Período de visitação: de 29 de setembro a 25 de outubro de 2025🕓 Horários: \n\nSegunda a sexta-feira: das 10h às 18h\nSábado: das 10h às 13h30\n\n🌐 Site: www.ocregaleria.com.br📧 E-mail: contato@ocregaleria.com.br \n\nO público poderá visitar a exposição e participar de um bate-papo com o artista sobre fotografia\, arte e processos criativos. \nA fotografia tem o poder de congelar o tempo\, guardar para sempre aquele instante que nunca mais irá se repetir. \nA fotografia é assim uma infinita memória imagética que se perpetua pelo passar do tempo\, contando também sua história.\nNos atuais tempos líquidos\, onde quase tudo tem a duração de um instante\, de uma passagem de tela\, poder ter contato e conhecer a história de artistas que são referências e nos inspiram\, sempre traz ensinamentos e engrandece nosso repertório. \nSempre que me encontro com o Dariano em diferentes ocasiões conversamos bastante sobre vários assuntos e a questão da perda do conhecimento sobre artistas e suas trajetórias sempre se repete. \nConversando com ele\, na abertura da exposição\, perguntei o que ele acharia de trazer um pessoal da fotografia para bater um papo sobre arte. Daí surgiu esta genial possibilidade. \nNa próxima terça feira\, dia 21/10\, às 14:30h\, na Ocre Galeria (Av. Polônia\, 415) Clóvis Dariano estará trocando experiencias sobre arte e fotografia\, comentando suas obras e contando um pouco da sua história de 50 anos no mundo das imagens.\nAguardamos todos lá.\nGigantesco Abraço\, de Alexandre Eckert
URL:https://fotoclubepoa.com.br/evento/encontro-encontro-com-clovis-dariano-arte-fotografia-e-memoria-imagetica-convite-de-alexandre-eckert/
CATEGORIES:Evento
ATTACH;FMTTYPE=image/jpeg:https://fotoclubepoa.com.br/wp-content/uploads/2025/10/Dariano.jpeg
END:VEVENT
END:VCALENDAR