BEGIN:VCALENDAR
VERSION:2.0
PRODID:-//Fotoclube Porto-alegrense - ECPv6.15.20//NONSGML v1.0//EN
CALSCALE:GREGORIAN
METHOD:PUBLISH
X-WR-CALNAME:Fotoclube Porto-alegrense
X-ORIGINAL-URL:https://fotoclubepoa.com.br
X-WR-CALDESC:Eventos para Fotoclube Porto-alegrense
REFRESH-INTERVAL;VALUE=DURATION:PT1H
X-Robots-Tag:noindex
X-PUBLISHED-TTL:PT1H
BEGIN:VTIMEZONE
TZID:America/Sao_Paulo
BEGIN:STANDARD
TZOFFSETFROM:-0300
TZOFFSETTO:-0300
TZNAME:-03
DTSTART:20240101T000000
END:STANDARD
END:VTIMEZONE
BEGIN:VEVENT
DTSTART;VALUE=DATE:20250820
DTEND;VALUE=DATE:20260101
DTSTAMP:20260424T024043
CREATED:20250821T220453Z
LAST-MODIFIED:20250821T220453Z
UID:7567-1755648000-1767225599@fotoclubepoa.com.br
SUMMARY:[Parceria] Locação Bravo Estúdio
DESCRIPTION:📢 COMUNICADO | NOVA PARCERIA 🎉\nPara: Todos os associados do Fotoclube Porto-alegrense 📸\nAssunto: Convênio exclusivo com o Bravo! Estúdio de Heloisa Medeiros e Mauricio Capellari 🤝\nPeríodo: 20 de agosto a 31 de dezembro de 2025 📅 \nÉ com alegria que anunciamos mais um benefício especial para nossos associados! 🎊\nO Fotoclube Porto-alegrense firmou parceria com o Bravo! Estúdio\, um novo espaço que une estúdio fotográfico\, ensino e atividades culturais\, criado pela fotógrafa Heloisa Medeiros e Mauricio Capellari. \nDe volta a Porto Alegre após 5 anos\, eles trazem entusiasmo e coragem para investir na retomada da cena artística da cidade\, ampliando horizontes com a produção de fotografias autorais\, artísticas e projetos de reposicionamento de imagem. \n🎯 Oferta Especial para Fotoclubistas:\n💰 R$ 460\,00 por 4 horas de utilização do estúdio.\n👥 Uso simultâneo de até 2 fotógrafos + 3 pessoas da equipe (modelo\, assistente\, maquiador\, etc.). \n💳 Condições de pagamento:\n\n50% no ato do agendamento.\n50% no dia anterior à data reservada.\n\n📅 Agendamento:\nCom até 3 dias de antecedência\, mediante disponibilidade. \n✅ Como garantir o benefício:\nEntre em contato diretamente com o Bravo! Estúdio e informe ser associado do Fotoclube Porto-alegrense para ter acesso ao valor promocional. \n✨ Um espaço ideal para books\, ensaios\, campanhas ou testes criativos — agora ao alcance dos nossos talentos! \n🗓️ Validade da oferta:\nAté 31 de dezembro de 2025\, com possibilidade de renovação. \n📞 Contato Bravo! Estúdio: \n\nHeloisa Medeiros – (51) 99102-6346\nMaurício Capellari- (51) 98451-0010\n📲 Instagram\n\n📷 “Chama que dá click!” \nContamos com todos para fazer desta parceria um sucesso e mais um motivo de orgulho para nossa comunidade! \nDiretoria do Fotoclube Porto-alegrense 📍
URL:https://fotoclubepoa.com.br/evento/parceria-locacao-bravo-estudio/
CATEGORIES:Estúdio Fotográfico
ATTACH;FMTTYPE=image/png:https://fotoclubepoa.com.br/wp-content/uploads/2025/08/Site-Post-e-Agenda-Artigo-1.png
END:VEVENT
END:VCALENDAR